PDS_VERSION_ID = PDS3
/* FILE DATA ELEMENTS */
RECORD_TYPE = UNDEFINED
/* POINTERS TO DATA OBJECTS */
^IMAGE = ("H5105_0000_S24.TIF")
/* IDENTIFICATION DATA ELEMENTS */
DATA_SET_ID = "MEX-M-HRSC-4-REFDR-MAPPROJECT-EXT2-V4.0"
DATA_SET_NAME = "MARS EXPRESS HRSC MAP PROJECTED REFDR EXTENSION2 V4.0"
DETECTOR_ID = MEX_HRSC_S2
EVENT_TYPE = "MARS-LOCAL-STEREO-Im-La"
INSTRUMENT_HOST_ID = MEX
INSTRUMENT_HOST_NAME = "MARS EXPRESS"
INSTRUMENT_ID = HRSC
INSTRUMENT_NAME = "HIGH RESOLUTION STEREO CAMERA"
MISSION_NAME = "MARS EXPRESS"
MISSION_PHASE_NAME = ME_Phase_11
PROCESSING_LEVEL_ID = 4
PRODUCT_CREATION_TIME = 2023-02-01T12:09:47.000Z
PRODUCT_ID = "H5105_0000_S24.TIF"
RELEASE_ID = 0001
REVISION_ID = 0000
/* QUALITY DATA ELEMENTS */
DATA_QUALITY_ID = 1
DATA_QUALITY_DESC = "Data calculated based on original SPICE kernels"
/* TIME DATA ELEMENTS */
SPACECRAFT_CLOCK_START_COUNT = "1/0146488625.07287"
SPACECRAFT_CLOCK_STOP_COUNT = "1/0146488767.65461"
START_TIME = 2007-12-23T11:18:05.969Z
STOP_TIME = 2007-12-23T11:19:29.828Z
/* ORBITAL DATA ELEMENTS */
ASCENDING_NODE_LONGITUDE = 121.87
MAXIMUM_RESOLUTION = 0.0134
FOOTPRINT_POINT_LATITUDE = (3.80096,3.79779,3.79579,3.79399, 3.79243,3.791,3.78996,3.78989,3.78933, 3.67894,3.56862,3.4579,3.29185,3.12663, 3.01616,2.85042,2.73938,2.62922,2.51952 ,2.35277,2.13603,1.97645,1.86612, 1.75242,1.58093,1.31246,1.09458, 0.982495,0.86414,0.644602,0.480744, 0.316958,0.20733,-0.0105416,-0.175445, -0.285261,-0.394417,-0.558955,-0.668599 ,-0.778127,-0.942456,-1.0515,-1.1604, -1.26949,-1.37851,-1.48782,-1.65117, -1.70728,-1.71976,-1.71889,-1.71762, -1.71618,-1.71468,-1.71196,-1.7099, -1.70715,-1.70699,-1.70671,-1.5953, -1.37777,-1.26886,-1.10507,-0.995838, -0.832222,-0.722947,-0.613044,-0.448908 ,-0.339532,-0.229905,-0.0650922, 0.0985708,0.208108,0.317395,0.426661, 0.536232,0.645431,0.8087,0.972633, 1.13686,1.24738,1.41307,1.52355,1.63302 ,1.74428,1.85425,2.01835,2.12925, 2.29583,2.40676,2.57106,2.73575,2.84753 ,3.01349,3.18009,3.34575,3.45612, 3.56638,3.73161,3.78673,3.80096)
FOOTPRINT_POINT_LONGITUDE = (27.5107,27.2554,27.0784,26.9019, 26.7261,26.5506,26.4081,26.3972,26.3921 ,26.3918,26.3916,26.3914,26.391,26.3906 ,26.3903,26.3899,26.3897,26.3893, 26.3889,26.3886,26.3872,26.3856,26.3852 ,26.3855,26.386,26.3837,26.3824,26.3824 ,26.3835,26.3824,26.3815,26.3806,26.38, 26.3786,26.3778,26.3773,26.3766,26.3758 ,26.3752,26.3746,26.3737,26.373,26.3723 ,26.3716,26.3708,26.3702,26.369,26.3686 ,26.3685,26.5868,26.729,26.9042,27.0252 ,27.1796,27.2903,27.4676,27.4787, 27.4842,27.4844,27.4846,27.4848,27.4852 ,27.4855,27.4859,27.4862,27.4868, 27.4873,27.4876,27.4881,27.4889,27.4892 ,27.4896,27.4899,27.4902,27.4906, 27.4909,27.491,27.4915,27.492,27.4928, 27.4939,27.4947,27.4951,27.4962,27.4967 ,27.4972,27.4981,27.4997,27.5006, 27.5012,27.5019,27.5032,27.5045,27.506, 27.5071,27.5078,27.5085,27.5095,27.5098 ,27.5107)
ORBIT_NUMBER = 5105
ORBITAL_ECCENTRICITY = 0.575
ORBITAL_INCLINATION = 86.71
ORBITAL_SEMIMAJOR_AXIS = 8732.78
PERIAPSIS_ALTITUDE = 315.72
PERIAPSIS_ARGUMENT_ANGLE = 180.24
PERIAPSIS_TIME = 2007-12-23T11:18:39.000Z
SPACECRAFT_ORIENTATION = (0.0,-1.0,0.0)
^MEX_ORIENTATION_DESC = "MEX_ORIENTATION_DESC.TXT"
SPACECRAFT_POINTING_MODE = ACROSSTRACK
^MEX_POINTING_DESC = "MEX_POINTING_DESC.TXT"
RIGHT_ASCENSION = -1e+32
DECLINATION = -1e+32
OFFSET_ANGLE = 0.2
SPACECRAFT_SOLAR_DISTANCE = 2.35499e+08
TARGET_NAME = MARS
/* CAMERA DATA ELEMENTS */
DETECTOR_TEMPERATURE = 17.9627
FOCAL_PLANE_TEMPERATURE = 7.9716
INST_CMPRS_NAME = "DISCRETE COSINE TRANSFORMATION (DCT)"
INST_CMPRS_RATIO = 8.27145
INST_CMPRS_QUALITY = 0
INST_CMPRS_QUANTZ_TBL_ID = 0
INSTRUMENT_TEMPERATURE = 11.0301
LENS_TEMPERATURE = 8.3794
MACROPIXEL_SIZE = 1
MISSING_FRAMES = 0
PIXEL_SUBSAMPLING_FLAG = N
SIGNAL_CHAIN_ID = 1
/* RADIOMETRIC DATA ELEMENTS */
BANDWIDTH = 178.0
CENTER_FILTER_WAVELENGTH = 679.0
RADIANCE_OFFSET = 2.30482
RADIANCE_SCALING_FACTOR = 0.0130556
REFLECTANCE_SCALING_FACTOR = 0.000383446
MEX:REFLECTANCE_OFFSET = 0.0676931
/* IMAGE OBJECT DEFINITIONS */
OBJECT = IMAGE
  INTERCHANGE_FORMAT = BINARY
  LINES = 26181
  LINE_SAMPLES = 5376
  SAMPLE_TYPE = UNSIGNED_INTEGER
  SAMPLE_BITS = 8
  BANDS = 1
  BAND_STORAGE_TYPE = BAND_SEQUENTIAL
  MAXIMUM = 255
  MEAN = 118.509
  MINIMUM = 1
  STANDARD_DEVIATION = 23.8683
END_OBJECT = IMAGE
/* MAP OBJECT DEFINITIONS */
OBJECT = IMAGE_MAP_PROJECTION
  ^DATA_SET_MAP_PROJECTION_CATALOG= "DSMAP.CAT"
  A_AXIS_RADIUS = 3396.0
  B_AXIS_RADIUS = 3396.0
  C_AXIS_RADIUS = 3396.0
  CENTER_LATITUDE = 0.0
  CENTER_LONGITUDE = 27.0
  COORDINATE_SYSTEM_NAME = PLANETOGRAPHIC
  COORDINATE_SYSTEM_TYPE = "BODY-FIXED ROTATING"
  EASTERNMOST_LONGITUDE = 27.5107
  FIRST_STANDARD_PARALLEL = "N/A"
  LINE_FIRST_PIXEL = 1
  LINE_LAST_PIXEL = 26181
  LINE_PROJECTION_OFFSET = 18057.0
  MAP_PROJECTION_ROTATION = 0.0
  MAP_PROJECTION_TYPE = SINUSOIDAL
  MAP_RESOLUTION = 4741.71043093333
  MAP_SCALE = 0.0125
  MAXIMUM_LATITUDE = 3.80096
  MINIMUM_LATITUDE = -1.71976
  POSITIVE_LONGITUDE_DIRECTION = EAST
  REFERENCE_LATITUDE = "N/A"
  REFERENCE_LONGITUDE = "N/A"
  SAMPLE_FIRST_PIXEL = 1
  SAMPLE_LAST_PIXEL = 5376
  SAMPLE_PROJECTION_OFFSET = 2958.0
  SECOND_STANDARD_PARALLEL = "N/A"
  WESTERNMOST_LONGITUDE = 26.3685
END_OBJECT = IMAGE_MAP_PROJECTION
END
