PDS_VERSION_ID = PDS3
/* FILE DATA ELEMENTS */
RECORD_TYPE = UNDEFINED
/* POINTERS TO DATA OBJECTS */
^IMAGE = ("H5100_0000_P24.TIF")
/* IDENTIFICATION DATA ELEMENTS */
DATA_SET_ID = "MEX-M-HRSC-4-REFDR-MAPPROJECT-EXT2-V4.0"
DATA_SET_NAME = "MARS EXPRESS HRSC MAP PROJECTED REFDR EXTENSION2 V4.0"
DETECTOR_ID = MEX_HRSC_P2
EVENT_TYPE = "MARS-REGIONAL-MAPPING-Vo-Eo-Mw"
INSTRUMENT_HOST_ID = MEX
INSTRUMENT_HOST_NAME = "MARS EXPRESS"
INSTRUMENT_ID = HRSC
INSTRUMENT_NAME = "HIGH RESOLUTION STEREO CAMERA"
MISSION_NAME = "MARS EXPRESS"
MISSION_PHASE_NAME = ME_Phase_11
PROCESSING_LEVEL_ID = 4
PRODUCT_CREATION_TIME = 2023-02-01T12:09:47.000Z
PRODUCT_ID = "H5100_0000_P24.TIF"
RELEASE_ID = 0001
REVISION_ID = 0000
/* QUALITY DATA ELEMENTS */
DATA_QUALITY_ID = 1
DATA_QUALITY_DESC = "Data calculated based on original SPICE kernels"
/* TIME DATA ELEMENTS */
SPACECRAFT_CLOCK_START_COUNT = "1/0146365292.08242"
SPACECRAFT_CLOCK_STOP_COUNT = "1/0146365567.00576"
START_TIME = 2007-12-22T01:02:33.655Z
STOP_TIME = 2007-12-22T01:05:59.221Z
/* ORBITAL DATA ELEMENTS */
ASCENDING_NODE_LONGITUDE = 121.97
MAXIMUM_RESOLUTION = 0.0527
FOOTPRINT_POINT_LATITUDE = (14.9844,14.9857,14.9865,14.9874, 14.9874,15.0056,14.7257,14.1658,13.7456 ,13.4654,13.1848,12.7645,12.3436,12.063 ,11.7821,11.5009,11.2205,10.799,10.518, 10.2371,9.96495,9.69269,9.42062,9.14837 ,8.73995,8.33151,7.923,7.65058,7.38205, 7.1188,6.72393,6.46066,6.19743,5.93423, 5.67105,5.27638,5.01327,4.7502,4.48726, 4.22427,3.96132,3.69843,3.43559,3.17283 ,2.91012,2.65325,2.39973,2.14628, 1.63959,1.51297,1.44848,1.44578,1.4438, 1.44378,1.44456,1.95106,2.45789,2.71143 ,2.97059,3.23331,3.49611,3.75898,4.0219 ,4.28487,4.67943,4.94246,5.20556,5.4687 ,5.7319,6.1267,6.38995,6.65318,6.91648, 7.17984,7.44317,7.85019,8.12251,8.39492 ,8.80343,9.07575,9.34803,9.62033, 9.89256,10.1645,10.5836,10.8648,11.1459 ,11.4264,11.7075,11.9879,12.2693, 12.5499,13.1116,13.5321,13.8125,14.2329 ,14.5124,14.7928,14.9326,14.9844)
FOOTPRINT_POINT_LONGITUDE = (167.695,167.147,166.771,166.406, 166.393,166.382,166.385,166.391,166.395 ,166.398,166.401,166.404,166.408,166.41 ,166.412,166.415,166.416,166.419, 166.421,166.422,166.424,166.425,166.427 ,166.428,166.429,166.431,166.432, 166.433,166.434,166.434,166.435,166.436 ,166.436,166.436,166.436,166.436, 166.436,166.436,166.436,166.436,166.436 ,166.435,166.435,166.435,166.434, 166.434,166.433,166.432,166.431,166.43, 166.43,166.919,167.534,167.545,167.548, 167.551,167.555,167.556,167.558,167.56, 167.562,167.564,167.566,167.569,167.572 ,167.574,167.577,167.579,167.582, 167.585,167.588,167.591,167.593,167.596 ,167.599,167.604,167.607,167.61,167.615 ,167.618,167.622,167.625,167.628, 167.632,167.637,167.641,167.645,167.649 ,167.653,167.657,167.661,167.665, 167.674,167.68,167.685,167.691,167.696, 167.701,167.703,167.695)
ORBIT_NUMBER = 5100
ORBITAL_ECCENTRICITY = 0.575
ORBITAL_INCLINATION = 86.72
ORBITAL_SEMIMAJOR_AXIS = 8724.78
PERIAPSIS_ALTITUDE = 315.76
PERIAPSIS_ARGUMENT_ANGLE = 181.12
PERIAPSIS_TIME = 2007-12-22T01:06:19.000Z
SPACECRAFT_ORIENTATION = (0.0,-1.0,0.0)
^MEX_ORIENTATION_DESC = "MEX_ORIENTATION_DESC.TXT"
SPACECRAFT_POINTING_MODE = NADIR
^MEX_POINTING_DESC = "MEX_POINTING_DESC.TXT"
RIGHT_ASCENSION = -1e+32
DECLINATION = -1e+32
OFFSET_ANGLE = -1e+32
SPACECRAFT_SOLAR_DISTANCE = 2.35248e+08
TARGET_NAME = MARS
/* CAMERA DATA ELEMENTS */
DETECTOR_TEMPERATURE = 18.5744
FOCAL_PLANE_TEMPERATURE = 8.3794
INST_CMPRS_NAME = "DISCRETE COSINE TRANSFORMATION (DCT)"
INST_CMPRS_RATIO = 10.1984
INST_CMPRS_QUALITY = 0
INST_CMPRS_QUANTZ_TBL_ID = 0
INSTRUMENT_TEMPERATURE = 11.4379
LENS_TEMPERATURE = 8.5833
MACROPIXEL_SIZE = 4
MISSING_FRAMES = 0
PIXEL_SUBSAMPLING_FLAG = N
SIGNAL_CHAIN_ID = 3
/* RADIOMETRIC DATA ELEMENTS */
BANDWIDTH = 177.0
CENTER_FILTER_WAVELENGTH = 676.5
RADIANCE_OFFSET = 2.32842
RADIANCE_SCALING_FACTOR = 0.00946513
REFLECTANCE_SCALING_FACTOR = 0.000277736
MEX:REFLECTANCE_OFFSET = 0.0683231
/* IMAGE OBJECT DEFINITIONS */
OBJECT = IMAGE
  INTERCHANGE_FORMAT = BINARY
  LINES = 16096
  LINE_SAMPLES = 1553
  SAMPLE_TYPE = UNSIGNED_INTEGER
  SAMPLE_BITS = 8
  BANDS = 1
  BAND_STORAGE_TYPE = BAND_SEQUENTIAL
  MAXIMUM = 255
  MEAN = 131.545
  MINIMUM = 1
  STANDARD_DEVIATION = 20.6317
END_OBJECT = IMAGE
/* MAP OBJECT DEFINITIONS */
OBJECT = IMAGE_MAP_PROJECTION
  ^DATA_SET_MAP_PROJECTION_CATALOG= "DSMAP.CAT"
  A_AXIS_RADIUS = 3396.0
  B_AXIS_RADIUS = 3396.0
  C_AXIS_RADIUS = 3396.0
  CENTER_LATITUDE = 0.0
  CENTER_LONGITUDE = 167.0
  COORDINATE_SYSTEM_NAME = PLANETOGRAPHIC
  COORDINATE_SYSTEM_TYPE = "BODY-FIXED ROTATING"
  EASTERNMOST_LONGITUDE = 167.703
  FIRST_STANDARD_PARALLEL = "N/A"
  LINE_FIRST_PIXEL = 1
  LINE_LAST_PIXEL = 16096
  LINE_PROJECTION_OFFSET = 17787.125
  MAP_PROJECTION_ROTATION = 0.0
  MAP_PROJECTION_TYPE = SINUSOIDAL
  MAP_RESOLUTION = 1185.42760773333
  MAP_SCALE = 0.05
  MAXIMUM_LATITUDE = 15.0056
  MINIMUM_LATITUDE = 1.44378
  POSITIVE_LONGITUDE_DIRECTION = EAST
  REFERENCE_LATITUDE = "N/A"
  REFERENCE_LONGITUDE = "N/A"
  SAMPLE_FIRST_PIXEL = 1
  SAMPLE_LAST_PIXEL = 1553
  SAMPLE_PROJECTION_OFFSET = 728.125
  SECOND_STANDARD_PARALLEL = "N/A"
  WESTERNMOST_LONGITUDE = 166.382
END_OBJECT = IMAGE_MAP_PROJECTION
END
