PDS_VERSION_ID = PDS3
/* FILE DATA ELEMENTS */
RECORD_TYPE = UNDEFINED
/* POINTERS TO DATA OBJECTS */
^IMAGE = ("H5099_0000_IR4.TIF")
/* IDENTIFICATION DATA ELEMENTS */
DATA_SET_ID = "MEX-M-HRSC-4-REFDR-MAPPROJECT-EXT2-V4.0"
DATA_SET_NAME = "MARS EXPRESS HRSC MAP PROJECTED REFDR EXTENSION2 V4.0"
DETECTOR_ID = MEX_HRSC_IR
EVENT_TYPE = "MARS-REGIONAL-MAPPING-Vo-Te"
INSTRUMENT_HOST_ID = MEX
INSTRUMENT_HOST_NAME = "MARS EXPRESS"
INSTRUMENT_ID = HRSC
INSTRUMENT_NAME = "HIGH RESOLUTION STEREO CAMERA"
MISSION_NAME = "MARS EXPRESS"
MISSION_PHASE_NAME = ME_Phase_11
PROCESSING_LEVEL_ID = 4
PRODUCT_CREATION_TIME = 2023-02-01T12:09:47.000Z
PRODUCT_ID = "H5099_0000_IR4.TIF"
RELEASE_ID = 0001
REVISION_ID = 0000
/* QUALITY DATA ELEMENTS */
DATA_QUALITY_ID = 1
DATA_QUALITY_DESC = "Data calculated based on original SPICE kernels"
/* TIME DATA ELEMENTS */
SPACECRAFT_CLOCK_START_COUNT = "1/0146340676.08243"
SPACECRAFT_CLOCK_STOP_COUNT = "1/0146340974.14848"
START_TIME = 2007-12-21T18:11:26.340Z
STOP_TIME = 2007-12-21T18:15:25.130Z
/* ORBITAL DATA ELEMENTS */
ASCENDING_NODE_LONGITUDE = 121.99
MAXIMUM_RESOLUTION = 0.1041
FOOTPRINT_POINT_LATITUDE = (14.1465,14.1453,14.1425,14.1354, 14.1353,14.1442,13.7918,13.4388,13.0851 ,12.5668,12.269,11.9704,11.6715,11.3719 ,11.0717,10.771,10.47,10.1684,9.8663, 9.56413,9.26111,8.9577,8.65395,8.35003, 8.0455,7.74043,7.28423,6.83942,6.54275, 6.24536,5.94767,5.64958,5.3513,5.05261, 4.60805,4.02824,3.73836,3.44778,3.15654 ,2.71869,2.42664,2.13387,1.84131, 1.54843,1.25549,0.962206,0.668766, 0.234207,-0.333533,-0.759878,-0.901996, -1.04262,-1.03902,-1.03651,-1.03647, -1.03487,-0.324527,0.243119,0.824688, 1.11804,1.41104,1.70375,2.14237,2.58115 ,2.87332,3.165,3.60246,3.89304,4.3285, 4.61872,4.91462,5.21388,5.51221,5.80977 ,6.107,6.55247,6.9969,7.29332,7.7498, 8.05503,8.35969,8.66403,8.96798,9.2718, 9.57478,9.8773,10.1794,10.481,10.7822, 11.0831,11.3835,11.6833,11.9826,12.2813 ,12.5794,13.0987,13.4527,13.8059, 13.9822,14.1465)
FOOTPRINT_POINT_LONGITUDE = (267.563,267.248,266.842,266.231, 266.218,266.217,266.222,266.227,266.232 ,266.239,266.243,266.247,266.25,266.254 ,266.257,266.26,266.263,266.266,266.269 ,266.271,266.274,266.276,266.279, 266.281,266.283,266.285,266.288,266.291 ,266.292,266.294,266.295,266.296, 266.297,266.298,266.3,266.301,266.302, 266.302,266.302,266.302,266.302,266.302 ,266.301,266.301,266.301,266.3,266.3, 266.299,266.297,266.296,266.296,266.295 ,266.782,267.358,267.368,267.375, 267.379,267.383,267.387,267.389,267.392 ,267.394,267.398,267.401,267.404, 267.406,267.41,267.413,267.418,267.421, 267.424,267.427,267.43,267.434,267.438, 267.443,267.449,267.453,267.459,267.463 ,267.467,267.471,267.476,267.48,267.484 ,267.489,267.494,267.498,267.503, 267.508,267.512,267.517,267.522,267.527 ,267.532,267.541,267.548,267.554, 267.557,267.563)
ORBIT_NUMBER = 5099
ORBITAL_ECCENTRICITY = 0.575
ORBITAL_INCLINATION = 86.71
ORBITAL_SEMIMAJOR_AXIS = 8740.73
PERIAPSIS_ALTITUDE = 314.94
PERIAPSIS_ARGUMENT_ANGLE = 181.3
PERIAPSIS_TIME = 2007-12-21T18:15:52.000Z
SPACECRAFT_ORIENTATION = (0.0,-1.0,0.0)
^MEX_ORIENTATION_DESC = "MEX_ORIENTATION_DESC.TXT"
SPACECRAFT_POINTING_MODE = ACROSSTRACK
^MEX_POINTING_DESC = "MEX_POINTING_DESC.TXT"
RIGHT_ASCENSION = -1e+32
DECLINATION = -1e+32
OFFSET_ANGLE = -0.2
SPACECRAFT_SOLAR_DISTANCE = 2.35197e+08
TARGET_NAME = MARS
/* CAMERA DATA ELEMENTS */
DETECTOR_TEMPERATURE = 17.5549
FOCAL_PLANE_TEMPERATURE = 8.3794
INST_CMPRS_NAME = "DISCRETE COSINE TRANSFORMATION (DCT)"
INST_CMPRS_RATIO = 12.201
INST_CMPRS_QUALITY = 0
INST_CMPRS_QUANTZ_TBL_ID = 0
INSTRUMENT_TEMPERATURE = 11.234
LENS_TEMPERATURE = 8.5833
MACROPIXEL_SIZE = 8
MISSING_FRAMES = 0
PIXEL_SUBSAMPLING_FLAG = N
SIGNAL_CHAIN_ID = 2
/* RADIOMETRIC DATA ELEMENTS */
BANDWIDTH = 81.0
CENTER_FILTER_WAVELENGTH = 955.5
RADIANCE_OFFSET = 0.549814
RADIANCE_SCALING_FACTOR = 0.00427749
REFLECTANCE_SCALING_FACTOR = 0.000510479
MEX:REFLECTANCE_OFFSET = 0.0656152
/* IMAGE OBJECT DEFINITIONS */
OBJECT = IMAGE
  INTERCHANGE_FORMAT = BINARY
  LINES = 8998
  LINE_SAMPLES = 752
  SAMPLE_TYPE = UNSIGNED_INTEGER
  SAMPLE_BITS = 8
  BANDS = 1
  BAND_STORAGE_TYPE = BAND_SEQUENTIAL
  MAXIMUM = 255
  MEAN = 107.687
  MINIMUM = 1
  STANDARD_DEVIATION = 15.1416
END_OBJECT = IMAGE
/* MAP OBJECT DEFINITIONS */
OBJECT = IMAGE_MAP_PROJECTION
  ^DATA_SET_MAP_PROJECTION_CATALOG= "DSMAP.CAT"
  A_AXIS_RADIUS = 3396.0
  B_AXIS_RADIUS = 3396.0
  C_AXIS_RADIUS = 3396.0
  CENTER_LATITUDE = 0.0
  CENTER_LONGITUDE = 267.0
  COORDINATE_SYSTEM_NAME = PLANETOGRAPHIC
  COORDINATE_SYSTEM_TYPE = "BODY-FIXED ROTATING"
  EASTERNMOST_LONGITUDE = 267.563
  FIRST_STANDARD_PARALLEL = "N/A"
  LINE_FIRST_PIXEL = 1
  LINE_LAST_PIXEL = 8998
  LINE_PROJECTION_OFFSET = 8374.3125
  MAP_PROJECTION_ROTATION = 0.0
  MAP_PROJECTION_TYPE = SINUSOIDAL
  MAP_RESOLUTION = 592.713803866667
  MAP_SCALE = 0.1
  MAXIMUM_LATITUDE = 14.1465
  MINIMUM_LATITUDE = -1.04262
  POSITIVE_LONGITUDE_DIRECTION = EAST
  REFERENCE_LATITUDE = "N/A"
  REFERENCE_LONGITUDE = "N/A"
  SAMPLE_FIRST_PIXEL = 1
  SAMPLE_LAST_PIXEL = 752
  SAMPLE_PROJECTION_OFFSET = 442.6875
  SECOND_STANDARD_PARALLEL = "N/A"
  WESTERNMOST_LONGITUDE = 266.217
END_OBJECT = IMAGE_MAP_PROJECTION
END
