PDS_VERSION_ID = PDS3
/* FILE DATA ELEMENTS */
RECORD_TYPE = UNDEFINED
/* POINTERS TO DATA OBJECTS */
^IMAGE = ("H5099_0000_GR4.TIF")
/* IDENTIFICATION DATA ELEMENTS */
DATA_SET_ID = "MEX-M-HRSC-4-REFDR-MAPPROJECT-EXT2-V4.0"
DATA_SET_NAME = "MARS EXPRESS HRSC MAP PROJECTED REFDR EXTENSION2 V4.0"
DETECTOR_ID = MEX_HRSC_GREEN
EVENT_TYPE = "MARS-REGIONAL-MAPPING-Vo-Te"
INSTRUMENT_HOST_ID = MEX
INSTRUMENT_HOST_NAME = "MARS EXPRESS"
INSTRUMENT_ID = HRSC
INSTRUMENT_NAME = "HIGH RESOLUTION STEREO CAMERA"
MISSION_NAME = "MARS EXPRESS"
MISSION_PHASE_NAME = ME_Phase_11
PROCESSING_LEVEL_ID = 4
PRODUCT_CREATION_TIME = 2023-02-01T12:09:47.000Z
PRODUCT_ID = "H5099_0000_GR4.TIF"
RELEASE_ID = 0001
REVISION_ID = 0000
/* QUALITY DATA ELEMENTS */
DATA_QUALITY_ID = 1
DATA_QUALITY_DESC = "Data calculated based on original SPICE kernels"
/* TIME DATA ELEMENTS */
SPACECRAFT_CLOCK_START_COUNT = "1/0146340676.08243"
SPACECRAFT_CLOCK_STOP_COUNT = "1/0146340974.14848"
START_TIME = 2007-12-21T18:11:49.579Z
STOP_TIME = 2007-12-21T18:15:43.482Z
/* ORBITAL DATA ELEMENTS */
ASCENDING_NODE_LONGITUDE = 121.99
MAXIMUM_RESOLUTION = 0.0995
FOOTPRINT_POINT_LATITUDE = (14.1206,14.1218,14.1218,14.1211, 14.1211,14.1212,13.6445,13.3347,13.0246 ,12.7141,12.4032,12.092,11.7805,11.4686 ,11.1564,10.8438,10.5309,10.2177, 9.90424,9.5905,9.27645,8.96207,8.49453, 8.18972,7.88467,7.57938,7.27381,6.968, 6.66198,6.35577,5.89804,5.60154,5.30487 ,5.00803,4.71105,4.26526,3.96785, 3.67027,3.37252,3.0746,2.77647,2.32904, 2.03067,1.73213,1.43964,0.862867, 0.285767,-0.291547,-0.86908,-1.01349, -1.04802,-1.04939,-1.05167,-1.05171, -1.05016,-0.328267,0.249086,0.826212, 1.25887,1.84362,2.14203,2.44047,2.73874 ,3.03685,3.48394,3.78164,4.07927, 4.37679,4.67409,4.97121,5.26815,5.5648, 5.86127,6.31775,6.62394,6.92987,7.38858 ,7.69412,7.99941,8.30448,8.6093,8.92351 ,9.23804,9.55221,9.86609,10.1797,10.493 ,10.806,11.1188,11.4312,11.7432,12.0549 ,12.3663,12.6773,12.988,13.2983,13.6082 ,13.9178,14.0784,14.1206)
FOOTPRINT_POINT_LONGITUDE = (267.542,266.992,266.599,266.254, 266.241,266.24,266.247,266.251,266.255, 266.258,266.262,266.265,266.269,266.272 ,266.275,266.277,266.28,266.283,266.285 ,266.288,266.29,266.292,266.295,266.297 ,266.299,266.3,266.302,266.303,266.304, 266.306,266.307,266.308,266.309,266.309 ,266.31,266.311,266.311,266.311,266.312 ,266.311,266.311,266.31,266.31,266.309, 266.308,266.307,266.305,266.303,266.301 ,266.301,266.301,266.724,267.356, 267.366,267.373,267.376,267.38,267.383, 267.386,267.39,267.393,267.395,267.397, 267.399,267.403,267.405,267.408,267.411 ,267.413,267.416,267.419,267.423, 267.426,267.431,267.434,267.438,267.443 ,267.447,267.451,267.455,267.458, 267.462,267.466,267.471,267.475,267.479 ,267.484,267.488,267.492,267.497, 267.502,267.506,267.511,267.516,267.521 ,267.526,267.531,267.536,267.539, 267.542)
ORBIT_NUMBER = 5099
ORBITAL_ECCENTRICITY = 0.575
ORBITAL_INCLINATION = 86.71
ORBITAL_SEMIMAJOR_AXIS = 8740.73
PERIAPSIS_ALTITUDE = 314.94
PERIAPSIS_ARGUMENT_ANGLE = 181.3
PERIAPSIS_TIME = 2007-12-21T18:15:52.000Z
SPACECRAFT_ORIENTATION = (0.0,-1.0,0.0)
^MEX_ORIENTATION_DESC = "MEX_ORIENTATION_DESC.TXT"
SPACECRAFT_POINTING_MODE = ACROSSTRACK
^MEX_POINTING_DESC = "MEX_POINTING_DESC.TXT"
RIGHT_ASCENSION = -1e+32
DECLINATION = -1e+32
OFFSET_ANGLE = -0.2
SPACECRAFT_SOLAR_DISTANCE = 2.35197e+08
TARGET_NAME = MARS
/* CAMERA DATA ELEMENTS */
DETECTOR_TEMPERATURE = 18.5744
FOCAL_PLANE_TEMPERATURE = 8.3794
INST_CMPRS_NAME = "DISCRETE COSINE TRANSFORMATION (DCT)"
INST_CMPRS_RATIO = 13.1345
INST_CMPRS_QUALITY = 0
INST_CMPRS_QUANTZ_TBL_ID = 0
INSTRUMENT_TEMPERATURE = 11.234
LENS_TEMPERATURE = 8.5833
MACROPIXEL_SIZE = 8
MISSING_FRAMES = 0
PIXEL_SUBSAMPLING_FLAG = N
SIGNAL_CHAIN_ID = 2
/* RADIOMETRIC DATA ELEMENTS */
BANDWIDTH = 88.0
CENTER_FILTER_WAVELENGTH = 538.0
RADIANCE_OFFSET = 0.738755
RADIANCE_SCALING_FACTOR = 0.00424361
REFLECTANCE_SCALING_FACTOR = 0.00020211
MEX:REFLECTANCE_OFFSET = 0.0351847
/* IMAGE OBJECT DEFINITIONS */
OBJECT = IMAGE
  INTERCHANGE_FORMAT = BINARY
  LINES = 8998
  LINE_SAMPLES = 752
  SAMPLE_TYPE = UNSIGNED_INTEGER
  SAMPLE_BITS = 8
  BANDS = 1
  BAND_STORAGE_TYPE = BAND_SEQUENTIAL
  MAXIMUM = 255
  MEAN = 111.528
  MINIMUM = 1
  STANDARD_DEVIATION = 14.9159
END_OBJECT = IMAGE
/* MAP OBJECT DEFINITIONS */
OBJECT = IMAGE_MAP_PROJECTION
  ^DATA_SET_MAP_PROJECTION_CATALOG= "DSMAP.CAT"
  A_AXIS_RADIUS = 3396.0
  B_AXIS_RADIUS = 3396.0
  C_AXIS_RADIUS = 3396.0
  CENTER_LATITUDE = 0.0
  CENTER_LONGITUDE = 267.0
  COORDINATE_SYSTEM_NAME = PLANETOGRAPHIC
  COORDINATE_SYSTEM_TYPE = "BODY-FIXED ROTATING"
  EASTERNMOST_LONGITUDE = 267.542
  FIRST_STANDARD_PARALLEL = "N/A"
  LINE_FIRST_PIXEL = 1
  LINE_LAST_PIXEL = 8998
  LINE_PROJECTION_OFFSET = 8374.3125
  MAP_PROJECTION_ROTATION = 0.0
  MAP_PROJECTION_TYPE = SINUSOIDAL
  MAP_RESOLUTION = 592.713803866667
  MAP_SCALE = 0.1
  MAXIMUM_LATITUDE = 14.1218
  MINIMUM_LATITUDE = -1.05171
  POSITIVE_LONGITUDE_DIRECTION = EAST
  REFERENCE_LATITUDE = "N/A"
  REFERENCE_LONGITUDE = "N/A"
  SAMPLE_FIRST_PIXEL = 1
  SAMPLE_LAST_PIXEL = 752
  SAMPLE_PROJECTION_OFFSET = 442.6875
  SECOND_STANDARD_PARALLEL = "N/A"
  WESTERNMOST_LONGITUDE = 266.24
END_OBJECT = IMAGE_MAP_PROJECTION
END
