PDS_VERSION_ID = PDS3
/* FILE DATA ELEMENTS */
RECORD_TYPE = UNDEFINED
/* POINTERS TO DATA OBJECTS */
^IMAGE = ("H5097_0000_GR4.TIF")
/* IDENTIFICATION DATA ELEMENTS */
DATA_SET_ID = "MEX-M-HRSC-4-REFDR-MAPPROJECT-EXT2-V4.0"
DATA_SET_NAME = "MARS EXPRESS HRSC MAP PROJECTED REFDR EXTENSION2 V4.0"
DETECTOR_ID = MEX_HRSC_GREEN
EVENT_TYPE = "MARS-REGIONAL-MAPPING-Vo-Pf-Mw"
INSTRUMENT_HOST_ID = MEX
INSTRUMENT_HOST_NAME = "MARS EXPRESS"
INSTRUMENT_ID = HRSC
INSTRUMENT_NAME = "HIGH RESOLUTION STEREO CAMERA"
MISSION_NAME = "MARS EXPRESS"
MISSION_PHASE_NAME = ME_Phase_11
PROCESSING_LEVEL_ID = 4
PRODUCT_CREATION_TIME = 2023-02-01T12:09:47.000Z
PRODUCT_ID = "H5097_0000_GR4.TIF"
RELEASE_ID = 0001
REVISION_ID = 0000
/* QUALITY DATA ELEMENTS */
DATA_QUALITY_ID = 1
DATA_QUALITY_DESC = "Data calculated based on original SPICE kernels"
/* TIME DATA ELEMENTS */
SPACECRAFT_CLOCK_START_COUNT = "1/0146291036.08231"
SPACECRAFT_CLOCK_STOP_COUNT = "1/0146291411.25054"
START_TIME = 2007-12-21T04:24:59.959Z
STOP_TIME = 2007-12-21T04:29:31.115Z
/* ORBITAL DATA ELEMENTS */
ASCENDING_NODE_LONGITUDE = 122.03
MAXIMUM_RESOLUTION = 0.1308
FOOTPRINT_POINT_LATITUDE = (34.5566,34.5564,34.5534,34.5497, 34.5426,34.5358,34.5353,34.5206,34.1418 ,33.7665,33.3954,33.0261,32.6602, 32.2982,31.9378,31.5817,31.0523,30.7017 ,30.3553,29.8406,29.4992,29.1629, 28.8266,28.4953,28.1632,27.8371,27.5102 ,27.189,26.7074,26.3915,25.9189,25.6082 ,25.1432,24.8379,24.3799,24.0799, 23.7794,23.3344,23.0394,22.7439,22.4548 ,22.1653,21.7327,21.4491,21.1651,20.881 ,20.3247,19.634,19.0884,18.6824,18.5491 ,18.5295,18.5301,18.5296,18.5273, 18.5273,18.5292,19.3416,19.8868,20.5837 ,21.1457,21.43,21.7139,22.1465,22.4363, 22.7255,23.021,23.3163,23.611,23.9119, 24.3626,24.8206,25.1264,25.5916,25.9027 ,26.3755,26.6918,27.1738,27.4952, 27.8226,28.1493,28.4815,28.8134,29.1499 ,29.4869,29.8284,30.1704,30.5175,31.042 ,31.3939,31.7507,32.1089,32.4709, 32.8361,33.2033,33.5751,33.9495,34.3266 ,34.5172,34.5566)
FOOTPRINT_POINT_LONGITUDE = (108.438,107.747,107.223,106.842, 106.318,105.937,105.913,105.877,105.901 ,105.924,105.946,105.968,105.989, 106.009,106.029,106.048,106.075,106.093 ,106.11,106.134,106.15,106.165,106.18, 106.194,106.208,106.222,106.235,106.248 ,106.266,106.278,106.295,106.306, 106.322,106.332,106.347,106.356,106.366 ,106.379,106.388,106.396,106.404, 106.412,106.423,106.43,106.438,106.445, 106.458,106.473,106.485,106.493,106.496 ,106.496,107.067,107.402,107.961, 107.975,107.984,108.002,108.015,108.031 ,108.045,108.052,108.059,108.07,108.077 ,108.085,108.092,108.1,108.108,108.116, 108.128,108.141,108.149,108.162,108.172 ,108.185,108.195,108.209,108.219, 108.229,108.239,108.25,108.26,108.271, 108.282,108.294,108.305,108.317,108.335 ,108.347,108.36,108.373,108.386,108.399 ,108.413,108.426,108.441,108.455, 108.463,108.438)
ORBIT_NUMBER = 5097
ORBITAL_ECCENTRICITY = 0.575
ORBITAL_INCLINATION = 86.71
ORBITAL_SEMIMAJOR_AXIS = 8733.52
PERIAPSIS_ALTITUDE = 314.81
PERIAPSIS_ARGUMENT_ANGLE = 181.62
PERIAPSIS_TIME = 2007-12-21T04:34:49.000Z
SPACECRAFT_ORIENTATION = (0.0,-1.0,0.0)
^MEX_ORIENTATION_DESC = "MEX_ORIENTATION_DESC.TXT"
SPACECRAFT_POINTING_MODE = NADIR
^MEX_POINTING_DESC = "MEX_POINTING_DESC.TXT"
RIGHT_ASCENSION = -1e+32
DECLINATION = -1e+32
OFFSET_ANGLE = -1e+32
SPACECRAFT_SOLAR_DISTANCE = 2.35096e+08
TARGET_NAME = MARS
/* CAMERA DATA ELEMENTS */
DETECTOR_TEMPERATURE = 18.5744
FOCAL_PLANE_TEMPERATURE = 8.1755
INST_CMPRS_NAME = "DISCRETE COSINE TRANSFORMATION (DCT)"
INST_CMPRS_RATIO = 18.9204
INST_CMPRS_QUALITY = 0
INST_CMPRS_QUANTZ_TBL_ID = 0
INSTRUMENT_TEMPERATURE = 11.234
LENS_TEMPERATURE = 8.5833
MACROPIXEL_SIZE = 8
MISSING_FRAMES = 0
PIXEL_SUBSAMPLING_FLAG = N
SIGNAL_CHAIN_ID = 2
/* RADIOMETRIC DATA ELEMENTS */
BANDWIDTH = 88.0
CENTER_FILTER_WAVELENGTH = 538.0
RADIANCE_OFFSET = 0.88139
RADIANCE_SCALING_FACTOR = 0.00211618
REFLECTANCE_SCALING_FACTOR = 0.0001007
MEX:REFLECTANCE_OFFSET = 0.0419415
/* IMAGE OBJECT DEFINITIONS */
OBJECT = IMAGE
  INTERCHANGE_FORMAT = BINARY
  LINES = 9499
  LINE_SAMPLES = 1259
  SAMPLE_TYPE = UNSIGNED_INTEGER
  SAMPLE_BITS = 8
  BANDS = 1
  BAND_STORAGE_TYPE = BAND_SEQUENTIAL
  MAXIMUM = 255
  MEAN = 114.881
  MINIMUM = 1
  STANDARD_DEVIATION = 23.2669
END_OBJECT = IMAGE
/* MAP OBJECT DEFINITIONS */
OBJECT = IMAGE_MAP_PROJECTION
  ^DATA_SET_MAP_PROJECTION_CATALOG= "DSMAP.CAT"
  A_AXIS_RADIUS = 3396.0
  B_AXIS_RADIUS = 3396.0
  C_AXIS_RADIUS = 3396.0
  CENTER_LATITUDE = 0.0
  CENTER_LONGITUDE = 107.0
  COORDINATE_SYSTEM_NAME = PLANETOGRAPHIC
  COORDINATE_SYSTEM_TYPE = "BODY-FIXED ROTATING"
  EASTERNMOST_LONGITUDE = 108.463
  FIRST_STANDARD_PARALLEL = "N/A"
  LINE_FIRST_PIXEL = 1
  LINE_LAST_PIXEL = 9499
  LINE_PROJECTION_OFFSET = 20483.9375
  MAP_PROJECTION_ROTATION = 0.0
  MAP_PROJECTION_TYPE = SINUSOIDAL
  MAP_RESOLUTION = 592.713803866667
  MAP_SCALE = 0.1
  MAXIMUM_LATITUDE = 34.5566
  MINIMUM_LATITUDE = 18.5273
  POSITIVE_LONGITUDE_DIRECTION = EAST
  REFERENCE_LATITUDE = "N/A"
  REFERENCE_LONGITUDE = "N/A"
  SAMPLE_FIRST_PIXEL = 1
  SAMPLE_LAST_PIXEL = 1259
  SAMPLE_PROJECTION_OFFSET = 555.8125
  SECOND_STANDARD_PARALLEL = "N/A"
  WESTERNMOST_LONGITUDE = 105.877
END_OBJECT = IMAGE_MAP_PROJECTION
END
