PDS_VERSION_ID = PDS3
/* FILE DATA ELEMENTS */
RECORD_TYPE = UNDEFINED
/* POINTERS TO DATA OBJECTS */
^IMAGE = ("H5097_0000_BL4.TIF")
/* IDENTIFICATION DATA ELEMENTS */
DATA_SET_ID = "MEX-M-HRSC-4-REFDR-MAPPROJECT-EXT2-V4.0"
DATA_SET_NAME = "MARS EXPRESS HRSC MAP PROJECTED REFDR EXTENSION2 V4.0"
DETECTOR_ID = MEX_HRSC_BLUE
EVENT_TYPE = "MARS-REGIONAL-MAPPING-Vo-Pf-Mw"
INSTRUMENT_HOST_ID = MEX
INSTRUMENT_HOST_NAME = "MARS EXPRESS"
INSTRUMENT_ID = HRSC
INSTRUMENT_NAME = "HIGH RESOLUTION STEREO CAMERA"
MISSION_NAME = "MARS EXPRESS"
MISSION_PHASE_NAME = ME_Phase_11
PROCESSING_LEVEL_ID = 4
PRODUCT_CREATION_TIME = 2023-02-01T12:09:47.000Z
PRODUCT_ID = "H5097_0000_BL4.TIF"
RELEASE_ID = 0001
REVISION_ID = 0000
/* QUALITY DATA ELEMENTS */
DATA_QUALITY_ID = 1
DATA_QUALITY_DESC = "Data calculated based on original SPICE kernels"
/* TIME DATA ELEMENTS */
SPACECRAFT_CLOCK_START_COUNT = "1/0146291036.08231"
SPACECRAFT_CLOCK_STOP_COUNT = "1/0146291411.25054"
START_TIME = 2007-12-21T04:25:20.925Z
STOP_TIME = 2007-12-21T04:29:43.745Z
/* ORBITAL DATA ELEMENTS */
ASCENDING_NODE_LONGITUDE = 122.03
MAXIMUM_RESOLUTION = 0.1289
FOOTPRINT_POINT_LATITUDE = (34.5404,34.5392,34.5362,34.5304, 34.5209,34.5205,34.5293,33.9599,33.5843 ,33.2118,32.8437,32.477,32.1151,31.5763 ,31.2199,30.8687,30.5183,30.1723, 29.8273,29.4868,29.1464,28.8114,28.4761 ,28.1467,27.6532,27.3291,27.0045, 26.6861,26.3674,26.0512,25.7384,25.2702 ,24.8096,24.5024,24.2013,23.8998, 23.5984,23.3031,23.0074,22.7113,22.4217 ,22.132,21.6979,21.4144,21.1305,20.7047 ,20.1495,19.5945,18.7792,18.643,18.5348 ,18.5354,18.5351,18.5334,18.5333, 18.5353,19.0799,19.6234,20.1796,20.4575 ,20.8776,21.162,21.446,21.7297,22.0197, 22.3099,22.5996,23.0417,23.3377,23.6333 ,23.9355,24.2374,24.6929,25.0008, 25.3081,25.7774,26.0906,26.5675,26.8863 ,27.3715,27.6959,28.1908,28.5209, 28.8571,29.1926,29.5343,29.8753,30.2216 ,30.5681,30.9199,31.4507,31.8081, 32.1701,32.7166,33.0846,33.4571,33.8314 ,34.21,34.4003,34.5404)
FOOTPRINT_POINT_LONGITUDE = (108.397,107.683,107.199,106.624, 105.978,105.955,105.919,105.953,105.975 ,105.996,106.017,106.036,106.056, 106.083,106.101,106.118,106.134,106.15, 106.166,106.181,106.195,106.21,106.223, 106.237,106.256,106.268,106.28,106.292, 106.303,106.314,106.325,106.34,106.355, 106.364,106.374,106.382,106.391,106.399 ,106.408,106.416,106.423,106.431, 106.442,106.448,106.455,106.465,106.477 ,106.489,106.505,106.508,106.51,106.92, 107.359,107.949,107.963,107.972,107.983 ,107.995,108.008,108.014,108.023,108.03 ,108.037,108.043,108.05,108.057,108.064 ,108.075,108.082,108.09,108.097,108.105 ,108.117,108.125,108.134,108.146, 108.155,108.168,108.177,108.191,108.2, 108.215,108.225,108.235,108.245,108.255 ,108.266,108.277,108.288,108.299, 108.316,108.328,108.34,108.359,108.371, 108.384,108.397,108.411,108.417, 108.397)
ORBIT_NUMBER = 5097
ORBITAL_ECCENTRICITY = 0.575
ORBITAL_INCLINATION = 86.71
ORBITAL_SEMIMAJOR_AXIS = 8733.52
PERIAPSIS_ALTITUDE = 314.81
PERIAPSIS_ARGUMENT_ANGLE = 181.62
PERIAPSIS_TIME = 2007-12-21T04:34:49.000Z
SPACECRAFT_ORIENTATION = (0.0,-1.0,0.0)
^MEX_ORIENTATION_DESC = "MEX_ORIENTATION_DESC.TXT"
SPACECRAFT_POINTING_MODE = NADIR
^MEX_POINTING_DESC = "MEX_POINTING_DESC.TXT"
RIGHT_ASCENSION = -1e+32
DECLINATION = -1e+32
OFFSET_ANGLE = -1e+32
SPACECRAFT_SOLAR_DISTANCE = 2.35096e+08
TARGET_NAME = MARS
/* CAMERA DATA ELEMENTS */
DETECTOR_TEMPERATURE = 18.5744
FOCAL_PLANE_TEMPERATURE = 8.1755
INST_CMPRS_NAME = "DISCRETE COSINE TRANSFORMATION (DCT)"
INST_CMPRS_RATIO = 23.0134
INST_CMPRS_QUALITY = 0
INST_CMPRS_QUANTZ_TBL_ID = 0
INSTRUMENT_TEMPERATURE = 11.234
LENS_TEMPERATURE = 8.5833
MACROPIXEL_SIZE = 8
MISSING_FRAMES = 0
PIXEL_SUBSAMPLING_FLAG = N
SIGNAL_CHAIN_ID = 2
/* RADIOMETRIC DATA ELEMENTS */
BANDWIDTH = 76.0
CENTER_FILTER_WAVELENGTH = 444.0
RADIANCE_OFFSET = 0.382588
RADIANCE_SCALING_FACTOR = 0.000782094
REFLECTANCE_SCALING_FACTOR = 4.44119e-05
MEX:REFLECTANCE_OFFSET = 0.0217256
/* IMAGE OBJECT DEFINITIONS */
OBJECT = IMAGE
  INTERCHANGE_FORMAT = BINARY
  LINES = 9499
  LINE_SAMPLES = 1259
  SAMPLE_TYPE = UNSIGNED_INTEGER
  SAMPLE_BITS = 8
  BANDS = 1
  BAND_STORAGE_TYPE = BAND_SEQUENTIAL
  MAXIMUM = 255
  MEAN = 117.376
  MINIMUM = 1
  STANDARD_DEVIATION = 26.1658
END_OBJECT = IMAGE
/* MAP OBJECT DEFINITIONS */
OBJECT = IMAGE_MAP_PROJECTION
  ^DATA_SET_MAP_PROJECTION_CATALOG= "DSMAP.CAT"
  A_AXIS_RADIUS = 3396.0
  B_AXIS_RADIUS = 3396.0
  C_AXIS_RADIUS = 3396.0
  CENTER_LATITUDE = 0.0
  CENTER_LONGITUDE = 107.0
  COORDINATE_SYSTEM_NAME = PLANETOGRAPHIC
  COORDINATE_SYSTEM_TYPE = "BODY-FIXED ROTATING"
  EASTERNMOST_LONGITUDE = 108.417
  FIRST_STANDARD_PARALLEL = "N/A"
  LINE_FIRST_PIXEL = 1
  LINE_LAST_PIXEL = 9499
  LINE_PROJECTION_OFFSET = 20483.9375
  MAP_PROJECTION_ROTATION = 0.0
  MAP_PROJECTION_TYPE = SINUSOIDAL
  MAP_RESOLUTION = 592.713803866667
  MAP_SCALE = 0.1
  MAXIMUM_LATITUDE = 34.5404
  MINIMUM_LATITUDE = 18.5333
  POSITIVE_LONGITUDE_DIRECTION = EAST
  REFERENCE_LATITUDE = "N/A"
  REFERENCE_LONGITUDE = "N/A"
  SAMPLE_FIRST_PIXEL = 1
  SAMPLE_LAST_PIXEL = 1259
  SAMPLE_PROJECTION_OFFSET = 555.8125
  SECOND_STANDARD_PARALLEL = "N/A"
  WESTERNMOST_LONGITUDE = 105.919
END_OBJECT = IMAGE_MAP_PROJECTION
END
