PDS_VERSION_ID = PDS3
/* FILE DATA ELEMENTS */
RECORD_TYPE = UNDEFINED
/* POINTERS TO DATA OBJECTS */
^IMAGE = ("H5094_0000_IR4.TIF")
/* IDENTIFICATION DATA ELEMENTS */
DATA_SET_ID = "MEX-M-HRSC-4-REFDR-MAPPROJECT-EXT2-V4.0"
DATA_SET_NAME = "MARS EXPRESS HRSC MAP PROJECTED REFDR EXTENSION2 V4.0"
DETECTOR_ID = MEX_HRSC_IR
EVENT_TYPE = "MARS-REGIONAL-MAPPING-Im-Fl"
INSTRUMENT_HOST_ID = MEX
INSTRUMENT_HOST_NAME = "MARS EXPRESS"
INSTRUMENT_ID = HRSC
INSTRUMENT_NAME = "HIGH RESOLUTION STEREO CAMERA"
MISSION_NAME = "MARS EXPRESS"
MISSION_PHASE_NAME = ME_Phase_11
PROCESSING_LEVEL_ID = 4
PRODUCT_CREATION_TIME = 2023-02-01T12:09:47.000Z
PRODUCT_ID = "H5094_0000_IR4.TIF"
RELEASE_ID = 0001
REVISION_ID = 0000
/* QUALITY DATA ELEMENTS */
DATA_QUALITY_ID = 1
DATA_QUALITY_DESC = "Data calculated based on original SPICE kernels"
/* TIME DATA ELEMENTS */
SPACECRAFT_CLOCK_START_COUNT = "1/0146217658.09055"
SPACECRAFT_CLOCK_STOP_COUNT = "1/0146217878.15331"
START_TIME = 2007-12-20T08:01:07.197Z
STOP_TIME = 2007-12-20T08:03:48.765Z
/* ORBITAL DATA ELEMENTS */
ASCENDING_NODE_LONGITUDE = 122.09
MAXIMUM_RESOLUTION = 0.1044
FOOTPRINT_POINT_LATITUDE = (5.03226,5.03539,5.03679,5.03762, 5.03764,5.0454,4.72037,4.50342,4.28673, 3.96698,3.75727,3.54698,3.33635,3.12591 ,2.91519,2.70493,2.49409,2.28249, 1.96502,1.64776,1.22354,0.905985, 0.693851,0.375234,0.162134,-0.04697, -0.456892,-0.662752,-0.868842,-1.07421, -1.28089,-1.59081,-1.90013,-2.10703, -2.41686,-2.62375,-2.83005,-3.03999, -3.24904,-3.65775,-3.8653,-4.07359, -4.28271,-4.49033,-4.80071,-5.00833, -5.3189,-5.42191,-5.46923,-5.46958, -5.46993,-5.47335,-5.47341,-5.47188, -5.264,-5.05727,-4.74623,-4.53874, -4.33086,-4.01917,-3.8119,-3.60443, -3.29639,-3.0893,-2.8801,-2.6737, -2.36435,-2.1577,-1.84779,-1.64181, -1.43533,-1.22895,-0.919836,-0.713627, -0.405108,-0.198711,0.00635487,0.217856 ,0.430639,0.64314,0.854794,1.17277, 1.48978,1.69693,1.91061,2.12531,2.33588 ,2.54692,2.86339,3.07401,3.28487, 3.49566,3.70605,3.91699,4.12633,4.3431, 4.66819,4.8853,4.99351,5.03226)
FOOTPRINT_POINT_LONGITUDE = (47.9423,47.4882,47.1748,46.807,46.7962 ,46.7942,46.795,46.7954,46.796,46.7966, 46.7971,46.7974,46.7976,46.7978,46.798, 46.7984,46.7986,46.7985,46.7984,46.7984 ,46.7979,46.7979,46.7977,46.7973, 46.7968,46.7964,46.796,46.7955,46.7949, 46.7946,46.7938,46.7927,46.7917,46.7909 ,46.7898,46.7889,46.7883,46.7863, 46.7847,46.7848,46.7837,46.7823,46.7807 ,46.7795,46.7782,46.7771,46.7756, 46.7754,46.775,46.9985,47.2436,47.8464, 47.8566,47.8634,47.8638,47.8647,47.8657 ,47.8663,47.8668,47.8676,47.8684, 47.8691,47.8713,47.8722,47.8723,47.8734 ,47.8753,47.8763,47.8779,47.8793, 47.8804,47.8816,47.8835,47.8848,47.8869 ,47.8881,47.8897,47.8912,47.8927, 47.8944,47.8963,47.8991,47.9021,47.9057 ,47.9068,47.9076,47.9099,47.9119, 47.9151,47.9172,47.9193,47.9214,47.9236 ,47.9256,47.9281,47.9306,47.9343, 47.9367,47.938,47.9423)
ORBIT_NUMBER = 5094
ORBITAL_ECCENTRICITY = 0.575
ORBITAL_INCLINATION = 86.71
ORBITAL_SEMIMAJOR_AXIS = 8734.08
PERIAPSIS_ALTITUDE = 314.45
PERIAPSIS_ARGUMENT_ANGLE = 182.19
PERIAPSIS_TIME = 2007-12-20T08:03:22.000Z
SPACECRAFT_ORIENTATION = (0.0,-1.0,0.0)
^MEX_ORIENTATION_DESC = "MEX_ORIENTATION_DESC.TXT"
SPACECRAFT_POINTING_MODE = NADIR
^MEX_POINTING_DESC = "MEX_POINTING_DESC.TXT"
RIGHT_ASCENSION = -1e+32
DECLINATION = -1e+32
OFFSET_ANGLE = -1e+32
SPACECRAFT_SOLAR_DISTANCE = 2.34944e+08
TARGET_NAME = MARS
/* CAMERA DATA ELEMENTS */
DETECTOR_TEMPERATURE = 17.7588
FOCAL_PLANE_TEMPERATURE = 6.9521
INST_CMPRS_NAME = "DISCRETE COSINE TRANSFORMATION (DCT)"
INST_CMPRS_RATIO = 12.1753
INST_CMPRS_QUALITY = 0
INST_CMPRS_QUANTZ_TBL_ID = 0
INSTRUMENT_TEMPERATURE = 10.8262
LENS_TEMPERATURE = 8.3794
MACROPIXEL_SIZE = 8
MISSING_FRAMES = 0
PIXEL_SUBSAMPLING_FLAG = N
SIGNAL_CHAIN_ID = 2
/* RADIOMETRIC DATA ELEMENTS */
BANDWIDTH = 81.0
CENTER_FILTER_WAVELENGTH = 955.5
RADIANCE_OFFSET = 0.476503
RADIANCE_SCALING_FACTOR = 0.00348573
REFLECTANCE_SCALING_FACTOR = 0.000415095
MEX:REFLECTANCE_OFFSET = 0.056744
/* IMAGE OBJECT DEFINITIONS */
OBJECT = IMAGE
  INTERCHANGE_FORMAT = BINARY
  LINES = 6229
  LINE_SAMPLES = 688
  SAMPLE_TYPE = UNSIGNED_INTEGER
  SAMPLE_BITS = 8
  BANDS = 1
  BAND_STORAGE_TYPE = BAND_SEQUENTIAL
  MAXIMUM = 255
  MEAN = 106.47
  MINIMUM = 1
  STANDARD_DEVIATION = 22.0613
END_OBJECT = IMAGE
/* MAP OBJECT DEFINITIONS */
OBJECT = IMAGE_MAP_PROJECTION
  ^DATA_SET_MAP_PROJECTION_CATALOG= "DSMAP.CAT"
  A_AXIS_RADIUS = 3396.0
  B_AXIS_RADIUS = 3396.0
  C_AXIS_RADIUS = 3396.0
  CENTER_LATITUDE = 0.0
  CENTER_LONGITUDE = 47.0
  COORDINATE_SYSTEM_NAME = PLANETOGRAPHIC
  COORDINATE_SYSTEM_TYPE = "BODY-FIXED ROTATING"
  EASTERNMOST_LONGITUDE = 47.9423
  FIRST_STANDARD_PARALLEL = "N/A"
  LINE_FIRST_PIXEL = 1
  LINE_LAST_PIXEL = 6229
  LINE_PROJECTION_OFFSET = 2989.3125
  MAP_PROJECTION_ROTATION = 0.0
  MAP_PROJECTION_TYPE = SINUSOIDAL
  MAP_RESOLUTION = 592.713803866667
  MAP_SCALE = 0.1
  MAXIMUM_LATITUDE = 5.0454
  MINIMUM_LATITUDE = -5.47341
  POSITIVE_LONGITUDE_DIRECTION = EAST
  REFERENCE_LATITUDE = "N/A"
  REFERENCE_LONGITUDE = "N/A"
  SAMPLE_FIRST_PIXEL = 1
  SAMPLE_LAST_PIXEL = 688
  SAMPLE_PROJECTION_OFFSET = 140.1875
  SECOND_STANDARD_PARALLEL = "N/A"
  WESTERNMOST_LONGITUDE = 46.775
END_OBJECT = IMAGE_MAP_PROJECTION
END
