PDS_VERSION_ID = PDS3
/* FILE DATA ELEMENTS */
RECORD_TYPE = UNDEFINED
/* POINTERS TO DATA OBJECTS */
^IMAGE = ("H5093_0000_IR4.TIF")
/* IDENTIFICATION DATA ELEMENTS */
DATA_SET_ID = "MEX-M-HRSC-4-REFDR-MAPPROJECT-EXT2-V4.0"
DATA_SET_NAME = "MARS EXPRESS HRSC MAP PROJECTED REFDR EXTENSION2 V4.0"
DETECTOR_ID = MEX_HRSC_IR
EVENT_TYPE = "MARS-REGIONAL-MAPPING-Vo-Gl-Pf"
INSTRUMENT_HOST_ID = MEX
INSTRUMENT_HOST_NAME = "MARS EXPRESS"
INSTRUMENT_ID = HRSC
INSTRUMENT_NAME = "HIGH RESOLUTION STEREO CAMERA"
MISSION_NAME = "MARS EXPRESS"
MISSION_PHASE_NAME = ME_Phase_11
PROCESSING_LEVEL_ID = 4
PRODUCT_CREATION_TIME = 2023-02-01T12:09:47.000Z
PRODUCT_ID = "H5093_0000_IR4.TIF"
RELEASE_ID = 0001
REVISION_ID = 0000
/* QUALITY DATA ELEMENTS */
DATA_QUALITY_ID = 1
DATA_QUALITY_DESC = "Data calculated based on original SPICE kernels"
/* TIME DATA ELEMENTS */
SPACECRAFT_CLOCK_START_COUNT = "1/0146192963.08402"
SPACECRAFT_CLOCK_STOP_COUNT = "1/0146193141.15310"
START_TIME = 2007-12-20T01:09:32.549Z
STOP_TIME = 2007-12-20T01:11:31.158Z
/* ORBITAL DATA ELEMENTS */
ASCENDING_NODE_LONGITUDE = 122.11
MAXIMUM_RESOLUTION = 0.0542
FOOTPRINT_POINT_LATITUDE = (9.11506,9.1124,9.10952,9.10639,9.10296 ,9.09925,9.09257,9.0923,9.07425,8.92152 ,8.69201,8.53895,8.38576,8.23243, 8.07897,7.92547,7.77185,7.61812,7.46428 ,7.31022,7.15604,7.00179,6.84743, 6.69357,6.5384,6.38369,6.2289,6.00164, 5.7016,5.55144,5.40118,5.25081,5.10037, 4.8747,4.64843,4.49758,4.34666,4.19563, 4.04453,3.89333,3.74204,3.59067,3.44012 ,3.14703,2.85363,2.55992,2.26593, 1.97162,1.60328,1.52955,1.50551,1.50933 ,1.51272,1.5177,1.52066,1.52375,1.52653 ,1.52672,1.52761,1.96961,2.19022, 2.48433,2.70481,2.92519,3.21839,3.43836 ,3.73949,3.89081,4.04204,4.19319, 4.34425,4.49525,4.64615,4.79694,4.94763 ,5.09823,5.24875,5.39913,5.54945, 5.69966,5.84981,6.14975,6.38117,6.53587 ,6.69041,6.84487,7.07641,7.23077, 7.38454,7.5385,7.76922,7.92327,8.07681, 8.23018,8.38334,8.61312,8.76619,8.99567 ,9.07227,9.11506)
FOOTPRINT_POINT_LONGITUDE = (147.634,147.45,147.266,147.08,146.894, 146.707,146.4,146.388,146.375,146.376, 146.378,146.379,146.38,146.381,146.383, 146.384,146.385,146.386,146.387,146.388 ,146.389,146.39,146.391,146.392,146.392 ,146.393,146.394,146.395,146.397, 146.397,146.398,146.399,146.399,146.4, 146.401,146.401,146.402,146.402,146.403 ,146.403,146.404,146.404,146.404, 146.405,146.405,146.406,146.406,146.406 ,146.406,146.406,146.406,146.589, 146.761,147.028,147.197,147.366,147.534 ,147.544,147.548,147.552,147.554, 147.556,147.559,147.561,147.564,147.566 ,147.569,147.571,147.572,147.574, 147.575,147.577,147.579,147.58,147.582, 147.584,147.586,147.587,147.589,147.591 ,147.593,147.596,147.599,147.601, 147.603,147.605,147.608,147.61,147.612, 147.614,147.618,147.62,147.622,147.624, 147.626,147.629,147.631,147.635,147.636 ,147.634)
ORBIT_NUMBER = 5093
ORBITAL_ECCENTRICITY = 0.575
ORBITAL_INCLINATION = 86.71
ORBITAL_SEMIMAJOR_AXIS = 8728.17
PERIAPSIS_ALTITUDE = 314.99
PERIAPSIS_ARGUMENT_ANGLE = 182.37
PERIAPSIS_TIME = 2007-12-20T01:12:54.000Z
SPACECRAFT_ORIENTATION = (0.0,-1.0,0.0)
^MEX_ORIENTATION_DESC = "MEX_ORIENTATION_DESC.TXT"
SPACECRAFT_POINTING_MODE = ACROSSTRACK
^MEX_POINTING_DESC = "MEX_POINTING_DESC.TXT"
RIGHT_ASCENSION = -1e+32
DECLINATION = -1e+32
OFFSET_ANGLE = -0.4
SPACECRAFT_SOLAR_DISTANCE = 2.34893e+08
TARGET_NAME = MARS
/* CAMERA DATA ELEMENTS */
DETECTOR_TEMPERATURE = 17.351
FOCAL_PLANE_TEMPERATURE = 8.1755
INST_CMPRS_NAME = "DISCRETE COSINE TRANSFORMATION (DCT)"
INST_CMPRS_RATIO = 15.6327
INST_CMPRS_QUALITY = 0
INST_CMPRS_QUANTZ_TBL_ID = 0
INSTRUMENT_TEMPERATURE = 11.234
LENS_TEMPERATURE = 8.1755
MACROPIXEL_SIZE = 4
MISSING_FRAMES = 0
PIXEL_SUBSAMPLING_FLAG = N
SIGNAL_CHAIN_ID = 2
/* RADIOMETRIC DATA ELEMENTS */
BANDWIDTH = 81.0
CENTER_FILTER_WAVELENGTH = 955.5
RADIANCE_OFFSET = 0.623545
RADIANCE_SCALING_FACTOR = 0.00205403
REFLECTANCE_SCALING_FACTOR = 0.000244496
MEX:REFLECTANCE_OFFSET = 0.074222
/* IMAGE OBJECT DEFINITIONS */
OBJECT = IMAGE
  INTERCHANGE_FORMAT = BINARY
  LINES = 8978
  LINE_SAMPLES = 1441
  SAMPLE_TYPE = UNSIGNED_INTEGER
  SAMPLE_BITS = 8
  BANDS = 1
  BAND_STORAGE_TYPE = BAND_SEQUENTIAL
  MAXIMUM = 255
  MEAN = 121.834
  MINIMUM = 1
  STANDARD_DEVIATION = 25.4052
END_OBJECT = IMAGE
/* MAP OBJECT DEFINITIONS */
OBJECT = IMAGE_MAP_PROJECTION
  ^DATA_SET_MAP_PROJECTION_CATALOG= "DSMAP.CAT"
  A_AXIS_RADIUS = 3396.0
  B_AXIS_RADIUS = 3396.0
  C_AXIS_RADIUS = 3396.0
  CENTER_LATITUDE = 0.0
  CENTER_LONGITUDE = 147.0
  COORDINATE_SYSTEM_NAME = PLANETOGRAPHIC
  COORDINATE_SYSTEM_TYPE = "BODY-FIXED ROTATING"
  EASTERNMOST_LONGITUDE = 147.636
  FIRST_STANDARD_PARALLEL = "N/A"
  LINE_FIRST_PIXEL = 1
  LINE_LAST_PIXEL = 8978
  LINE_PROJECTION_OFFSET = 10788.875
  MAP_PROJECTION_ROTATION = 0.0
  MAP_PROJECTION_TYPE = SINUSOIDAL
  MAP_RESOLUTION = 1185.42760773333
  MAP_SCALE = 0.05
  MAXIMUM_LATITUDE = 9.11506
  MINIMUM_LATITUDE = 1.50551
  POSITIVE_LONGITUDE_DIRECTION = EAST
  REFERENCE_LATITUDE = "N/A"
  REFERENCE_LONGITUDE = "N/A"
  SAMPLE_FIRST_PIXEL = 1
  SAMPLE_LAST_PIXEL = 1441
  SAMPLE_PROJECTION_OFFSET = 713.875
  SECOND_STANDARD_PARALLEL = "N/A"
  WESTERNMOST_LONGITUDE = 146.375
END_OBJECT = IMAGE_MAP_PROJECTION
END
