PDS_VERSION_ID = PDS3
/* FILE DATA ELEMENTS */
RECORD_TYPE = UNDEFINED
/* POINTERS TO DATA OBJECTS */
^IMAGE = ("H5085_0000_S24.TIF")
/* IDENTIFICATION DATA ELEMENTS */
DATA_SET_ID = "MEX-M-HRSC-4-REFDR-MAPPROJECT-EXT2-V4.0"
DATA_SET_NAME = "MARS EXPRESS HRSC MAP PROJECTED REFDR EXTENSION2 V4.0"
DETECTOR_ID = MEX_HRSC_S2
EVENT_TYPE = "MARS-REGIONAL-MAPPING-Vo-Eo-La"
INSTRUMENT_HOST_ID = MEX
INSTRUMENT_HOST_NAME = "MARS EXPRESS"
INSTRUMENT_ID = HRSC
INSTRUMENT_NAME = "HIGH RESOLUTION STEREO CAMERA"
MISSION_NAME = "MARS EXPRESS"
MISSION_PHASE_NAME = ME_Phase_11
PROCESSING_LEVEL_ID = 4
PRODUCT_CREATION_TIME = 2023-02-01T12:09:47.000Z
PRODUCT_ID = "H5085_0000_S24.TIF"
RELEASE_ID = 0001
REVISION_ID = 0000
/* QUALITY DATA ELEMENTS */
DATA_QUALITY_ID = 1
DATA_QUALITY_DESC = "Data calculated based on original SPICE kernels"
/* TIME DATA ELEMENTS */
SPACECRAFT_CLOCK_START_COUNT = "1/0145995910.09041"
SPACECRAFT_CLOCK_STOP_COUNT = "1/0145996164.08648"
START_TIME = 2007-12-17T18:26:16.153Z
STOP_TIME = 2007-12-17T18:29:26.013Z
/* ORBITAL DATA ELEMENTS */
ASCENDING_NODE_LONGITUDE = 122.28
MAXIMUM_RESOLUTION = 0.0266
FOOTPRINT_POINT_LATITUDE = (8.32109,8.32236,8.32386,8.32637, 8.32645,8.32484,7.92689,7.52718,7.26054 ,6.86157,6.59578,6.33168,6.07486, 5.81784,5.56012,5.30212,5.04493,4.65933 ,4.40202,4.14567,3.88997,3.63478,3.2532 ,2.99805,2.61534,2.36156,2.11521, 1.74643,1.5,1.2548,1.00916,0.764455, 0.51778,0.272464,0.0278125,-0.339006, -0.584573,-0.951885,-1.1969,-1.44164, -1.68662,-1.93116,-2.17567,-2.41988, -2.66449,-2.90886,-3.15316,-3.51947, -4.12778,-4.24923,-4.25313,-4.25682, -4.25931,-4.26022,-4.26021,-4.25982, -3.65148,-3.16406,-2.79706,-2.55223, -2.30812,-2.06365,-1.82007,-1.57491, -1.20803,-0.840867,-0.595907,-0.351434, 0.0159974,0.261214,0.506861,0.751777, 1.11939,1.36478,1.73324,1.97894,2.22473 ,2.47528,2.72992,2.98538,3.24059, 3.49634,3.75247,4.13727,4.39402,4.65095 ,4.908,5.16552,5.42283,5.68029,6.0657, 6.32264,6.58546,6.85112,7.24975,7.51504 ,7.78116,8.1832,8.31645,8.32109)
FOOTPRINT_POINT_LONGITUDE = (228.517,228.068,227.745,227.341,227.33 ,227.327,227.328,227.33,227.332,227.333 ,227.334,227.336,227.336,227.337, 227.338,227.339,227.34,227.341,227.341, 227.342,227.342,227.342,227.341,227.341 ,227.341,227.34,227.34,227.339,227.338, 227.338,227.337,227.336,227.336,227.335 ,227.334,227.333,227.332,227.33,227.33, 227.329,227.328,227.327,227.325,227.324 ,227.323,227.322,227.321,227.319, 227.316,227.315,227.315,227.72,228.05, 228.401,228.412,228.416,228.417,228.418 ,228.42,228.421,228.422,228.423,228.424 ,228.425,228.427,228.429,228.43,228.431 ,228.433,228.434,228.436,228.437,228.44 ,228.441,228.444,228.445,228.447, 228.449,228.451,228.453,228.456,228.458 ,228.46,228.464,228.467,228.47,228.473, 228.476,228.479,228.482,228.487,228.49, 228.493,228.497,228.502,228.505,228.509 ,228.515,228.517,228.517)
ORBIT_NUMBER = 5085
ORBITAL_ECCENTRICITY = 0.575
ORBITAL_INCLINATION = 86.71
ORBITAL_SEMIMAJOR_AXIS = 8737.09
PERIAPSIS_ALTITUDE = 313.85
PERIAPSIS_ARGUMENT_ANGLE = 183.75
PERIAPSIS_TIME = 2007-12-17T18:28:50.000Z
SPACECRAFT_ORIENTATION = (0.0,-1.0,0.0)
^MEX_ORIENTATION_DESC = "MEX_ORIENTATION_DESC.TXT"
SPACECRAFT_POINTING_MODE = NADIR
^MEX_POINTING_DESC = "MEX_POINTING_DESC.TXT"
RIGHT_ASCENSION = -1e+32
DECLINATION = -1e+32
OFFSET_ANGLE = -1e+32
SPACECRAFT_SOLAR_DISTANCE = 2.34484e+08
TARGET_NAME = MARS
/* CAMERA DATA ELEMENTS */
DETECTOR_TEMPERATURE = 18.3705
FOCAL_PLANE_TEMPERATURE = 7.7677
INST_CMPRS_NAME = "DISCRETE COSINE TRANSFORMATION (DCT)"
INST_CMPRS_RATIO = 8.45751
INST_CMPRS_QUALITY = 0
INST_CMPRS_QUANTZ_TBL_ID = 0
INSTRUMENT_TEMPERATURE = 11.234
LENS_TEMPERATURE = 8.3794
MACROPIXEL_SIZE = 2
MISSING_FRAMES = 0
PIXEL_SUBSAMPLING_FLAG = N
SIGNAL_CHAIN_ID = 1
/* RADIOMETRIC DATA ELEMENTS */
BANDWIDTH = 178.0
CENTER_FILTER_WAVELENGTH = 679.0
RADIANCE_OFFSET = 2.20759
RADIANCE_SCALING_FACTOR = 0.0102313
REFLECTANCE_SCALING_FACTOR = 0.000297909
MEX:REFLECTANCE_OFFSET = 0.0642796
/* IMAGE OBJECT DEFINITIONS */
OBJECT = IMAGE
  INTERCHANGE_FORMAT = BINARY
  LINES = 29798
  LINE_SAMPLES = 2848
  SAMPLE_TYPE = UNSIGNED_INTEGER
  SAMPLE_BITS = 8
  BANDS = 1
  BAND_STORAGE_TYPE = BAND_SEQUENTIAL
  MAXIMUM = 255
  MEAN = 102.033
  MINIMUM = 1
  STANDARD_DEVIATION = 20.3965
END_OBJECT = IMAGE
/* MAP OBJECT DEFINITIONS */
OBJECT = IMAGE_MAP_PROJECTION
  ^DATA_SET_MAP_PROJECTION_CATALOG= "DSMAP.CAT"
  A_AXIS_RADIUS = 3396.0
  B_AXIS_RADIUS = 3396.0
  C_AXIS_RADIUS = 3396.0
  CENTER_LATITUDE = 0.0
  CENTER_LONGITUDE = 228.0
  COORDINATE_SYSTEM_NAME = PLANETOGRAPHIC
  COORDINATE_SYSTEM_TYPE = "BODY-FIXED ROTATING"
  EASTERNMOST_LONGITUDE = 228.517
  FIRST_STANDARD_PARALLEL = "N/A"
  LINE_FIRST_PIXEL = 1
  LINE_LAST_PIXEL = 29798
  LINE_PROJECTION_OFFSET = 19735.25
  MAP_PROJECTION_ROTATION = 0.0
  MAP_PROJECTION_TYPE = SINUSOIDAL
  MAP_RESOLUTION = 2370.85521546667
  MAP_SCALE = 0.025
  MAXIMUM_LATITUDE = 8.326449999999999
  MINIMUM_LATITUDE = -4.26022
  POSITIVE_LONGITUDE_DIRECTION = EAST
  REFERENCE_LATITUDE = "N/A"
  REFERENCE_LONGITUDE = "N/A"
  SAMPLE_FIRST_PIXEL = 1
  SAMPLE_LAST_PIXEL = 2848
  SAMPLE_PROJECTION_OFFSET = 1605.25
  SECOND_STANDARD_PARALLEL = "N/A"
  WESTERNMOST_LONGITUDE = 227.315
END_OBJECT = IMAGE_MAP_PROJECTION
END
