PDS_VERSION_ID = PDS3
/* FILE DATA ELEMENTS */
RECORD_TYPE = UNDEFINED
/* POINTERS TO DATA OBJECTS */
^IMAGE = ("H5085_0000_RE4.TIF")
/* IDENTIFICATION DATA ELEMENTS */
DATA_SET_ID = "MEX-M-HRSC-4-REFDR-MAPPROJECT-EXT2-V4.0"
DATA_SET_NAME = "MARS EXPRESS HRSC MAP PROJECTED REFDR EXTENSION2 V4.0"
DETECTOR_ID = MEX_HRSC_RED
EVENT_TYPE = "MARS-REGIONAL-MAPPING-Vo-Eo-La"
INSTRUMENT_HOST_ID = MEX
INSTRUMENT_HOST_NAME = "MARS EXPRESS"
INSTRUMENT_ID = HRSC
INSTRUMENT_NAME = "HIGH RESOLUTION STEREO CAMERA"
MISSION_NAME = "MARS EXPRESS"
MISSION_PHASE_NAME = ME_Phase_11
PROCESSING_LEVEL_ID = 4
PRODUCT_CREATION_TIME = 2023-02-01T12:09:47.000Z
PRODUCT_ID = "H5085_0000_RE4.TIF"
RELEASE_ID = 0001
REVISION_ID = 0000
/* QUALITY DATA ELEMENTS */
DATA_QUALITY_ID = 1
DATA_QUALITY_DESC = "Data calculated based on original SPICE kernels"
/* TIME DATA ELEMENTS */
SPACECRAFT_CLOCK_START_COUNT = "1/0145995910.09041"
SPACECRAFT_CLOCK_STOP_COUNT = "1/0145996164.08648"
START_TIME = 2007-12-17T18:26:11.184Z
STOP_TIME = 2007-12-17T18:29:21.225Z
/* ORBITAL DATA ELEMENTS */
ASCENDING_NODE_LONGITUDE = 122.28
MAXIMUM_RESOLUTION = 0.0522
FOOTPRINT_POINT_LATITUDE = (8.31434,8.31525,8.31689,8.31942, 8.31949,8.31766,7.9227,7.6585,7.39413, 7.12954,6.73347,6.4697,6.07332,5.81806, 5.56221,5.3061,5.05065,4.66784,4.4124, 4.15726,3.90277,3.64885,3.26901,3.01508 ,2.76103,2.50737,2.25462,2.00182, 1.75728,1.51196,1.26766,1.02297, 0.779171,0.533481,0.288919,0.0449623, -0.320641,-0.565089,-0.931484,-1.17578, -1.41982,-1.66398,-1.90779,-2.15178, -2.51724,-2.761,-3.00493,-3.24858, -3.49221,-4.09948,-4.22077,-4.25361, -4.25744,-4.26008,-4.26008,-4.2593, -3.7735,-3.28755,-3.0439,-2.79972, -2.3121,-1.82519,-1.58073,-1.33692, -1.0931,-0.849015,-0.604778,-0.361007, 0.00523206,0.249597,0.49431,0.738409, 1.10473,1.3492,1.71618,1.96087,2.21176, 2.46548,2.71909,2.97331,3.22728,3.48168 ,3.73637,4.11888,4.37404,4.62932,4.8847 ,5.14043,5.39598,5.65163,5.90669, 6.29708,6.56074,6.82452,7.22028,7.48369 ,7.7479,8.14614,8.27814,8.31434)
FOOTPRINT_POINT_LONGITUDE = (228.517,228.218,227.808,227.342, 227.331,227.328,227.33,227.331,227.333, 227.334,227.336,227.337,227.338,227.339 ,227.34,227.341,227.342,227.343,227.344 ,227.344,227.344,227.344,227.344, 227.344,227.344,227.343,227.343,227.342 ,227.342,227.342,227.341,227.34,227.339 ,227.339,227.339,227.338,227.336, 227.335,227.334,227.333,227.332,227.331 ,227.33,227.329,227.328,227.327,227.326 ,227.325,227.323,227.32,227.319,227.319 ,227.798,228.4,228.41,228.413,228.415, 228.416,228.417,228.418,228.42,228.422, 228.424,228.425,228.426,228.427,228.428 ,228.43,228.432,228.433,228.435,228.436 ,228.438,228.44,228.443,228.444,228.446 ,228.448,228.45,228.453,228.455,228.457 ,228.46,228.464,228.467,228.469,228.472 ,228.476,228.479,228.482,228.485,228.49 ,228.493,228.496,228.502,228.505, 228.508,228.515,228.517,228.517)
ORBIT_NUMBER = 5085
ORBITAL_ECCENTRICITY = 0.575
ORBITAL_INCLINATION = 86.71
ORBITAL_SEMIMAJOR_AXIS = 8737.09
PERIAPSIS_ALTITUDE = 313.85
PERIAPSIS_ARGUMENT_ANGLE = 183.75
PERIAPSIS_TIME = 2007-12-17T18:28:50.000Z
SPACECRAFT_ORIENTATION = (0.0,-1.0,0.0)
^MEX_ORIENTATION_DESC = "MEX_ORIENTATION_DESC.TXT"
SPACECRAFT_POINTING_MODE = NADIR
^MEX_POINTING_DESC = "MEX_POINTING_DESC.TXT"
RIGHT_ASCENSION = -1e+32
DECLINATION = -1e+32
OFFSET_ANGLE = -1e+32
SPACECRAFT_SOLAR_DISTANCE = 2.34484e+08
TARGET_NAME = MARS
/* CAMERA DATA ELEMENTS */
DETECTOR_TEMPERATURE = 18.3705
FOCAL_PLANE_TEMPERATURE = 7.7677
INST_CMPRS_NAME = "DISCRETE COSINE TRANSFORMATION (DCT)"
INST_CMPRS_RATIO = 9.54536
INST_CMPRS_QUALITY = 0
INST_CMPRS_QUANTZ_TBL_ID = 0
INSTRUMENT_TEMPERATURE = 11.234
LENS_TEMPERATURE = 8.3794
MACROPIXEL_SIZE = 4
MISSING_FRAMES = 0
PIXEL_SUBSAMPLING_FLAG = N
SIGNAL_CHAIN_ID = 2
/* RADIOMETRIC DATA ELEMENTS */
BANDWIDTH = 48.0
CENTER_FILTER_WAVELENGTH = 748.0
RADIANCE_OFFSET = 0.575029
RADIANCE_SCALING_FACTOR = 0.00286002
REFLECTANCE_SCALING_FACTOR = 0.000358855
MEX:REFLECTANCE_OFFSET = 0.0721506
/* IMAGE OBJECT DEFINITIONS */
OBJECT = IMAGE
  INTERCHANGE_FORMAT = BINARY
  LINES = 14899
  LINE_SAMPLES = 1424
  SAMPLE_TYPE = UNSIGNED_INTEGER
  SAMPLE_BITS = 8
  BANDS = 1
  BAND_STORAGE_TYPE = BAND_SEQUENTIAL
  MAXIMUM = 255
  MEAN = 100.834
  MINIMUM = 1
  STANDARD_DEVIATION = 19.7806
END_OBJECT = IMAGE
/* MAP OBJECT DEFINITIONS */
OBJECT = IMAGE_MAP_PROJECTION
  ^DATA_SET_MAP_PROJECTION_CATALOG= "DSMAP.CAT"
  A_AXIS_RADIUS = 3396.0
  B_AXIS_RADIUS = 3396.0
  C_AXIS_RADIUS = 3396.0
  CENTER_LATITUDE = 0.0
  CENTER_LONGITUDE = 228.0
  COORDINATE_SYSTEM_NAME = PLANETOGRAPHIC
  COORDINATE_SYSTEM_TYPE = "BODY-FIXED ROTATING"
  EASTERNMOST_LONGITUDE = 228.517
  FIRST_STANDARD_PARALLEL = "N/A"
  LINE_FIRST_PIXEL = 1
  LINE_LAST_PIXEL = 14899
  LINE_PROJECTION_OFFSET = 9867.375
  MAP_PROJECTION_ROTATION = 0.0
  MAP_PROJECTION_TYPE = SINUSOIDAL
  MAP_RESOLUTION = 1185.42760773333
  MAP_SCALE = 0.05
  MAXIMUM_LATITUDE = 8.31949
  MINIMUM_LATITUDE = -4.26008
  POSITIVE_LONGITUDE_DIRECTION = EAST
  REFERENCE_LATITUDE = "N/A"
  REFERENCE_LONGITUDE = "N/A"
  SAMPLE_FIRST_PIXEL = 1
  SAMPLE_LAST_PIXEL = 1424
  SAMPLE_PROJECTION_OFFSET = 802.375
  SECOND_STANDARD_PARALLEL = "N/A"
  WESTERNMOST_LONGITUDE = 227.319
END_OBJECT = IMAGE_MAP_PROJECTION
END
