PDS_VERSION_ID = PDS3
/* FILE DATA ELEMENTS */
RECORD_TYPE = UNDEFINED
/* POINTERS TO DATA OBJECTS */
^IMAGE = ("H5075_0000_P24.TIF")
/* IDENTIFICATION DATA ELEMENTS */
DATA_SET_ID = "MEX-M-HRSC-4-REFDR-MAPPROJECT-EXT2-V4.0"
DATA_SET_NAME = "MARS EXPRESS HRSC MAP PROJECTED REFDR EXTENSION2 V4.0"
DETECTOR_ID = MEX_HRSC_P2
EVENT_TYPE = "MARS-LOCAL-STEREO-Vo-Te-Gl"
INSTRUMENT_HOST_ID = MEX
INSTRUMENT_HOST_NAME = "MARS EXPRESS"
INSTRUMENT_ID = HRSC
INSTRUMENT_NAME = "HIGH RESOLUTION STEREO CAMERA"
MISSION_NAME = "MARS EXPRESS"
MISSION_PHASE_NAME = ME_Phase_11
PROCESSING_LEVEL_ID = 4
PRODUCT_CREATION_TIME = 2023-02-01T12:09:47.000Z
PRODUCT_ID = "H5075_0000_P24.TIF"
RELEASE_ID = 0001
REVISION_ID = 0000
/* QUALITY DATA ELEMENTS */
DATA_QUALITY_ID = 1
DATA_QUALITY_DESC = "Data calculated based on original SPICE kernels"
/* TIME DATA ELEMENTS */
SPACECRAFT_CLOCK_START_COUNT = "1/0145750097.07303"
SPACECRAFT_CLOCK_STOP_COUNT = "1/0145750405.24146"
START_TIME = 2007-12-14T22:09:19.604Z
STOP_TIME = 2007-12-14T22:13:17.630Z
/* ORBITAL DATA ELEMENTS */
ASCENDING_NODE_LONGITUDE = 122.48
MAXIMUM_RESOLUTION = 0.0261
FOOTPRINT_POINT_LATITUDE = (12.2123,12.2135,12.2156,12.2171, 12.2171,12.2288,11.9024,11.5759,11.2488 ,10.921,10.5936,10.2657,9.93792,9.44524 ,8.95265,8.6239,8.29508,7.96645,7.63745 ,7.30844,6.81831,6.49959,6.18068, 5.86156,5.383,4.90437,4.58523,4.2683, 3.95968,3.65101,3.18803,2.72509,2.41642 ,2.10769,1.79959,1.49114,1.18221, 0.873359,0.563642,0.260381,-0.0376589, -0.33528,-0.781393,-1.22791,-1.67452, -2.12052,-2.4184,-3.30603,-3.45478, -3.47759,-3.48085,-3.48266,-3.48266, -3.48227,-2.74258,-2.44433,-1.99846, -1.70151,-1.40425,-1.10682,-0.810132, -0.511839,-0.211291,0.381318,0.690947, 1.15462,1.46298,1.77147,2.08,2.38854, 2.85138,3.31426,3.62287,3.93144,4.23999 ,4.55607,5.03476,5.35391,5.67296, 5.99197,6.31086,6.78912,7.11334,7.44258 ,7.77196,8.10085,8.42982,8.75858, 9.08695,9.41573,9.74413,10.0722,10.4002 ,10.7279,11.0553,11.3826,11.7093, 12.0362,12.1996,12.2123)
FOOTPRINT_POINT_LONGITUDE = (146.833,146.449,145.898,145.527, 145.514,145.504,145.508,145.511,145.514 ,145.517,145.52,145.522,145.525,145.529 ,145.532,145.534,145.537,145.538,145.54 ,145.542,145.544,145.546,145.547, 145.549,145.55,145.552,145.553,145.553, 145.554,145.555,145.555,145.556,145.556 ,145.557,145.556,145.556,145.556, 145.556,145.557,145.556,145.556,145.556 ,145.555,145.554,145.553,145.552, 145.551,145.547,145.547,145.546,146.052 ,146.643,146.654,146.658,146.66,146.663 ,146.665,146.667,146.669,146.671, 146.672,146.675,146.678,146.682,146.685 ,146.689,146.692,146.695,146.698, 146.701,146.706,146.71,146.714,146.717, 146.721,146.724,146.73,146.734,146.738, 146.742,146.747,146.753,146.757,146.762 ,146.767,146.772,146.777,146.782, 146.787,146.792,146.797,146.802,146.808 ,146.813,146.819,146.824,146.83,146.836 ,146.838,146.833)
ORBIT_NUMBER = 5075
ORBITAL_ECCENTRICITY = 0.574
ORBITAL_INCLINATION = 86.7
ORBITAL_SEMIMAJOR_AXIS = 8708.53
PERIAPSIS_ALTITUDE = 313.45
PERIAPSIS_ARGUMENT_ANGLE = 185.53
PERIAPSIS_TIME = 2007-12-14T22:13:29.000Z
SPACECRAFT_ORIENTATION = (0.0,-1.0,0.0)
^MEX_ORIENTATION_DESC = "MEX_ORIENTATION_DESC.TXT"
SPACECRAFT_POINTING_MODE = NADIR
^MEX_POINTING_DESC = "MEX_POINTING_DESC.TXT"
RIGHT_ASCENSION = -1e+32
DECLINATION = -1e+32
OFFSET_ANGLE = -1e+32
SPACECRAFT_SOLAR_DISTANCE = 2.3397e+08
TARGET_NAME = MARS
/* CAMERA DATA ELEMENTS */
DETECTOR_TEMPERATURE = 18.1666
FOCAL_PLANE_TEMPERATURE = 7.5638
INST_CMPRS_NAME = "DISCRETE COSINE TRANSFORMATION (DCT)"
INST_CMPRS_RATIO = 10.6973
INST_CMPRS_QUALITY = 0
INST_CMPRS_QUANTZ_TBL_ID = 0
INSTRUMENT_TEMPERATURE = 11.234
LENS_TEMPERATURE = 7.9716
MACROPIXEL_SIZE = 2
MISSING_FRAMES = 0
PIXEL_SUBSAMPLING_FLAG = N
SIGNAL_CHAIN_ID = 3
/* RADIOMETRIC DATA ELEMENTS */
BANDWIDTH = 177.0
CENTER_FILTER_WAVELENGTH = 676.5
RADIANCE_OFFSET = 2.16628
RADIANCE_SCALING_FACTOR = 0.00540604
REFLECTANCE_SCALING_FACTOR = 0.000156911
MEX:REFLECTANCE_OFFSET = 0.0628765
/* IMAGE OBJECT DEFINITIONS */
OBJECT = IMAGE
  INTERCHANGE_FORMAT = BINARY
  LINES = 37263
  LINE_SAMPLES = 3161
  SAMPLE_TYPE = UNSIGNED_INTEGER
  SAMPLE_BITS = 8
  BANDS = 1
  BAND_STORAGE_TYPE = BAND_SEQUENTIAL
  MAXIMUM = 255
  MEAN = 109.012
  MINIMUM = 1
  STANDARD_DEVIATION = 23.093
END_OBJECT = IMAGE
/* MAP OBJECT DEFINITIONS */
OBJECT = IMAGE_MAP_PROJECTION
  ^DATA_SET_MAP_PROJECTION_CATALOG= "DSMAP.CAT"
  A_AXIS_RADIUS = 3396.0
  B_AXIS_RADIUS = 3396.0
  C_AXIS_RADIUS = 3396.0
  CENTER_LATITUDE = 0.0
  CENTER_LONGITUDE = 146.0
  COORDINATE_SYSTEM_NAME = PLANETOGRAPHIC
  COORDINATE_SYSTEM_TYPE = "BODY-FIXED ROTATING"
  EASTERNMOST_LONGITUDE = 146.838
  FIRST_STANDARD_PARALLEL = "N/A"
  LINE_FIRST_PIXEL = 1
  LINE_LAST_PIXEL = 37263
  LINE_PROJECTION_OFFSET = 28965.25
  MAP_PROJECTION_ROTATION = 0.0
  MAP_PROJECTION_TYPE = SINUSOIDAL
  MAP_RESOLUTION = 2370.85521546667
  MAP_SCALE = 0.025
  MAXIMUM_LATITUDE = 12.2288
  MINIMUM_LATITUDE = -3.48266
  POSITIVE_LONGITUDE_DIRECTION = EAST
  REFERENCE_LATITUDE = "N/A"
  REFERENCE_LONGITUDE = "N/A"
  SAMPLE_FIRST_PIXEL = 1
  SAMPLE_LAST_PIXEL = 3161
  SAMPLE_PROJECTION_OFFSET = 1183.75
  SECOND_STANDARD_PARALLEL = "N/A"
  WESTERNMOST_LONGITUDE = 145.504
END_OBJECT = IMAGE_MAP_PROJECTION
END
