PDS_VERSION_ID = PDS3
/* FILE DATA ELEMENTS */
RECORD_TYPE = UNDEFINED
/* POINTERS TO DATA OBJECTS */
^IMAGE = ("H4974_0000_RE4.TIF")
/* IDENTIFICATION DATA ELEMENTS */
DATA_SET_ID = "MEX-M-HRSC-4-REFDR-MAPPROJECT-EXT2-V4.0"
DATA_SET_NAME = "MARS EXPRESS HRSC MAP PROJECTED REFDR EXTENSION2 V4.0"
DETECTOR_ID = MEX_HRSC_RED
EVENT_TYPE = "MARS-TERMINATOR-VARIABLE-Ot-At"
INSTRUMENT_HOST_ID = MEX
INSTRUMENT_HOST_NAME = "MARS EXPRESS"
INSTRUMENT_ID = HRSC
INSTRUMENT_NAME = "HIGH RESOLUTION STEREO CAMERA"
MISSION_NAME = "MARS EXPRESS"
MISSION_PHASE_NAME = ME_Phase_10
PROCESSING_LEVEL_ID = 4
PRODUCT_CREATION_TIME = 2023-02-01T12:09:47.000Z
PRODUCT_ID = "H4974_0000_RE4.TIF"
RELEASE_ID = 0001
REVISION_ID = 0000
/* QUALITY DATA ELEMENTS */
DATA_QUALITY_ID = 1
DATA_QUALITY_DESC = "Data calculated based on original SPICE kernels"
/* TIME DATA ELEMENTS */
SPACECRAFT_CLOCK_START_COUNT = "1/0143290694.09375"
SPACECRAFT_CLOCK_STOP_COUNT = "1/0143291200.07205"
START_TIME = 2007-11-16T10:59:10.707Z
STOP_TIME = 2007-11-16T11:06:29.731Z
/* ORBITAL DATA ELEMENTS */
ASCENDING_NODE_LONGITUDE = 124.55
MAXIMUM_RESOLUTION = 0.1124
FOOTPRINT_POINT_LATITUDE = (-31.8225,-31.8362,-31.841,-31.8411, -31.7802,-33.235,-33.8724,-34.2983, -34.7244,-35.1496,-35.9955,-36.4224, -37.2623,-38.0972,-38.5882,-39.0817, -39.5796,-40.073,-40.5633,-41.0512, -41.7819,-42.2665,-42.7495,-43.2439, -43.9881,-44.4904,-45.0002,-45.512, -46.0333,-46.5562,-47.0866,-47.6212, -48.4389,-48.9903,-49.5507,-50.1146, -50.6871,-51.2671,-51.8539,-52.451, -53.0545,-53.6664,-54.2878,-54.9188, -55.5597,-56.2071,-56.8653,-57.1959, -57.4002,-57.3721,-57.3405,-57.3041, -57.2453,-57.2432,-57.2388,-56.5818, -55.9317,-55.2898,-54.6576,-54.0356, -53.4217,-52.8171,-52.2208,-51.6329, -51.0527,-50.4793,-49.9114,-49.3487, -48.7975,-48.25,-47.7113,-47.1804, -46.3846,-45.867,-45.3513,-44.8405, -44.0854,-43.5865,-43.0955,-42.605, -42.1237,-41.3972,-40.9124,-40.4238, -39.9339,-39.4425,-38.9498,-38.4557, -37.9838,-36.9399,-36.3091,-35.676, -35.0392,-34.6146,-33.9774,-33.5505, -32.7161,-32.0926,-31.8848,-31.8225)
FOOTPRINT_POINT_LONGITUDE = (59.9468,59.1509,58.6407,58.6282, 58.5954,58.5952,58.5951,58.5949,58.5953 ,58.5958,58.5961,58.5988,58.5993, 58.5996,58.6008,58.6005,58.6032,58.6045 ,58.6052,58.6056,58.6072,58.6082, 58.6093,58.6108,58.6129,58.6143,58.6166 ,58.6187,58.621,58.6232,58.6257,58.6269 ,58.6325,58.6357,58.6409,58.6439, 58.6476,58.6522,58.6568,58.6634,58.6697 ,58.6763,58.6844,58.6936,58.7044, 58.7139,58.7243,58.7291,58.7321,59.8796 ,60.7303,61.5437,62.614,62.6509,62.675, 62.523,62.3827,62.2512,62.1273,62.01, 61.8997,61.7951,61.6964,61.6026,61.5139 ,61.43,61.3509,61.2761,61.2039,61.1367, 61.0711,61.0071,60.9223,60.8678,60.8156 ,60.7666,60.6969,60.6526,60.6106, 60.5703,60.5318,60.4766,60.4406,60.4066 ,60.3735,60.3415,60.3104,60.2802, 60.2522,60.1945,60.1624,60.1318,60.1031 ,60.0843,60.0567,60.0393,60.0063, 59.9837,59.9762,59.9468)
ORBIT_NUMBER = 4974
ORBITAL_ECCENTRICITY = 0.571
ORBITAL_INCLINATION = 86.71
ORBITAL_SEMIMAJOR_AXIS = 8613.96
PERIAPSIS_ALTITUDE = 305.66
PERIAPSIS_ARGUMENT_ANGLE = 203.34
PERIAPSIS_TIME = 2007-11-16T10:56:36.000Z
SPACECRAFT_ORIENTATION = (0.0,-1.0,0.0)
^MEX_ORIENTATION_DESC = "MEX_ORIENTATION_DESC.TXT"
SPACECRAFT_POINTING_MODE = NADIR
^MEX_POINTING_DESC = "MEX_POINTING_DESC.TXT"
RIGHT_ASCENSION = -1e+32
DECLINATION = -1e+32
OFFSET_ANGLE = -1e+32
SPACECRAFT_SOLAR_DISTANCE = 2.28594e+08
TARGET_NAME = MARS
/* CAMERA DATA ELEMENTS */
DETECTOR_TEMPERATURE = 18.5744
FOCAL_PLANE_TEMPERATURE = 7.9716
INST_CMPRS_NAME = "DISCRETE COSINE TRANSFORMATION (DCT)"
INST_CMPRS_RATIO = 47.6298
INST_CMPRS_QUALITY = 0
INST_CMPRS_QUANTZ_TBL_ID = 0
INSTRUMENT_TEMPERATURE = 10.8262
LENS_TEMPERATURE = 8.5833
MACROPIXEL_SIZE = 8
MISSING_FRAMES = 0
PIXEL_SUBSAMPLING_FLAG = N
SIGNAL_CHAIN_ID = 2
/* RADIOMETRIC DATA ELEMENTS */
BANDWIDTH = 48.0
CENTER_FILTER_WAVELENGTH = 748.0
RADIANCE_OFFSET = 0.012242
RADIANCE_SCALING_FACTOR = 0.0006001
REFLECTANCE_SCALING_FACTOR = 7.15617e-05
MEX:REFLECTANCE_OFFSET = 0.00145986
/* IMAGE OBJECT DEFINITIONS */
OBJECT = IMAGE
  INTERCHANGE_FORMAT = BINARY
  LINES = 15160
  LINE_SAMPLES = 1514
  SAMPLE_TYPE = UNSIGNED_INTEGER
  SAMPLE_BITS = 8
  BANDS = 1
  BAND_STORAGE_TYPE = BAND_SEQUENTIAL
  MAXIMUM = 255
  MEAN = 135.839
  MINIMUM = 10
  STANDARD_DEVIATION = 45.7141
END_OBJECT = IMAGE
/* MAP OBJECT DEFINITIONS */
OBJECT = IMAGE_MAP_PROJECTION
  ^DATA_SET_MAP_PROJECTION_CATALOG= "DSMAP.CAT"
  A_AXIS_RADIUS = 3396.0
  B_AXIS_RADIUS = 3396.0
  C_AXIS_RADIUS = 3396.0
  CENTER_LATITUDE = 0.0
  CENTER_LONGITUDE = 60.0
  COORDINATE_SYSTEM_NAME = PLANETOGRAPHIC
  COORDINATE_SYSTEM_TYPE = "BODY-FIXED ROTATING"
  EASTERNMOST_LONGITUDE = 62.675
  FIRST_STANDARD_PARALLEL = "N/A"
  LINE_FIRST_PIXEL = 1
  LINE_LAST_PIXEL = 15160
  LINE_PROJECTION_OFFSET = -18846.625
  MAP_PROJECTION_ROTATION = 0.0
  MAP_PROJECTION_TYPE = SINUSOIDAL
  MAP_RESOLUTION = 592.713803866667
  MAP_SCALE = 0.1
  MAXIMUM_LATITUDE = -31.7802
  MINIMUM_LATITUDE = -57.4002
  POSITIVE_LONGITUDE_DIRECTION = EAST
  REFERENCE_LATITUDE = "N/A"
  REFERENCE_LONGITUDE = "N/A"
  SAMPLE_FIRST_PIXEL = 1
  SAMPLE_LAST_PIXEL = 1514
  SAMPLE_PROJECTION_OFFSET = 702.625
  SECOND_STANDARD_PARALLEL = "N/A"
  WESTERNMOST_LONGITUDE = 58.5949
END_OBJECT = IMAGE_MAP_PROJECTION
END
