PDS_VERSION_ID = PDS3
/* FILE DATA ELEMENTS */
RECORD_TYPE = UNDEFINED
/* POINTERS TO DATA OBJECTS */
^IMAGE = ("H4898_0000_BL4.TIF")
/* IDENTIFICATION DATA ELEMENTS */
DATA_SET_ID = "MEX-M-HRSC-4-REFDR-MAPPROJECT-EXT1-V4.0"
DATA_SET_NAME = "MARS EXPRESS HRSC MAP PROJECTED REFDR EXTENSION1 V4.0"
DETECTOR_ID = MEX_HRSC_BLUE
EVENT_TYPE = "MARS-GLOBAL-VARIABLE-Gl-Ot-At"
INSTRUMENT_HOST_ID = MEX
INSTRUMENT_HOST_NAME = "MARS EXPRESS"
INSTRUMENT_ID = HRSC
INSTRUMENT_NAME = "HIGH RESOLUTION STEREO CAMERA"
MISSION_NAME = "MARS EXPRESS"
MISSION_PHASE_NAME = ME_Phase_10
PROCESSING_LEVEL_ID = 4
PRODUCT_CREATION_TIME = 2023-02-11T00:15:54.000Z
PRODUCT_ID = "H4898_0000_BL4.TIF"
RELEASE_ID = 0007
REVISION_ID = 0000
/* QUALITY DATA ELEMENTS */
DATA_QUALITY_ID = 1
DATA_QUALITY_DESC = "Data calculated based on original SPICE kernels"
/* TIME DATA ELEMENTS */
SPACECRAFT_CLOCK_START_COUNT = "1/0141452763.08363"
SPACECRAFT_CLOCK_STOP_COUNT = "1/0141453423.19382"
START_TIME = 2007-10-26T04:28:02.923Z
STOP_TIME = 2007-10-26T04:33:02.962Z
/* ORBITAL DATA ELEMENTS */
ASCENDING_NODE_LONGITUDE = 126.11
MAXIMUM_RESOLUTION = 0.076
FOOTPRINT_POINT_LATITUDE = (-84.9902,-85.5491,-86.0736,-86.746, -87.2279,-87.7012,-88.0742,-88.1022, -88.129,-88.322,-88.4043,-88.3553, -88.1823,-87.9127,-87.5749,-87.192, -86.7767,-86.3396,-85.8847,-85.4161, -84.9361,-84.6919,-84.4452,-84.1962, -83.9451,-83.6916,-83.4365,-83.1793, -82.9202,-82.6595,-82.397,-82.1328, -81.8668,-81.5986,-81.3289,-81.0564, -80.7833,-80.3758,-80.1028,-79.8326, -79.5637,-79.2952,-79.0279,-78.7615, -78.4961,-78.2317,-78.1,-78.0428, -78.0194,-77.9718,-77.914,-77.852, -77.7592,-77.676,-77.5426,-77.3909, -77.2536,-77.122,-76.9259,-76.9074, -76.9017,-77.1453,-77.389,-77.633, -77.877,-78.1211,-78.3653,-78.6093, -78.8532,-79.0968,-79.3401,-79.583, -79.8231,-80.0603,-80.2946,-80.5257, -80.7533,-80.9775,-81.1982,-81.4153, -81.6284,-81.8372,-82.0421,-82.242, -82.438,-82.6289,-82.9956,-83.3404, -83.6601,-83.9524,-84.2143,-84.443, -84.6355,-84.7892,-84.9022,-84.9833, -84.9987,-84.974,-84.9611,-84.9902)
FOOTPRINT_POINT_LONGITUDE = (42.5835,41.3056,39.7638,37.0272, 34.2034,30.1909,25.4841,25.0456,24.0041 ,37.3819,53.3147,69.7176,84.2219, 95.7184,104.378,110.868,115.79,119.608, 122.625,125.053,127.05,127.916,128.707, 129.436,130.105,130.722,131.294,131.825 ,132.321,132.787,133.223,133.631, 134.012,134.371,134.708,135.018,135.317 ,135.739,135.98,136.22,136.449,136.662, 136.864,137.054,137.235,137.406,137.49, 137.525,135.983,133.782,131.82,130.098, 127.973,126.295,124.025,121.804,120.026 ,118.476,116.398,116.21,116.141,115.722 ,115.287,114.832,114.356,113.856, 113.332,112.782,112.208,111.601,110.956 ,110.266,109.556,108.832,108.057, 107.247,106.399,105.511,104.58,103.604, 102.581,101.509,100.385,99.1893,97.9549 ,96.6605,93.8795,90.8493,87.5159,83.866 ,79.9011,75.6193,71.0423,66.1995, 61.1553,54.6612,49.4199,44.2467,42.9745 ,42.5835)
ORBIT_NUMBER = 4898
ORBITAL_ECCENTRICITY = 0.57
ORBITAL_INCLINATION = 86.7
ORBITAL_SEMIMAJOR_AXIS = 8588.51
PERIAPSIS_ALTITUDE = 302.96
PERIAPSIS_ARGUMENT_ANGLE = 216.66
PERIAPSIS_TIME = 2007-10-26T04:13:01.000Z
SPACECRAFT_ORIENTATION = (0.0,-1.0,0.0)
^MEX_ORIENTATION_DESC = "MEX_ORIENTATION_DESC.TXT"
SPACECRAFT_POINTING_MODE = NADIR
^MEX_POINTING_DESC = "MEX_POINTING_DESC.TXT"
RIGHT_ASCENSION = -1e+32
DECLINATION = -1e+32
OFFSET_ANGLE = -1e+32
SPACECRAFT_SOLAR_DISTANCE = 2.24444e+08
TARGET_NAME = MARS
/* CAMERA DATA ELEMENTS */
DETECTOR_TEMPERATURE = 18.1666
FOCAL_PLANE_TEMPERATURE = 7.9716
INST_CMPRS_NAME = "DISCRETE COSINE TRANSFORMATION (DCT)"
INST_CMPRS_RATIO = 7.41213
INST_CMPRS_QUALITY = 0
INST_CMPRS_QUANTZ_TBL_ID = 0
INSTRUMENT_TEMPERATURE = 11.234
LENS_TEMPERATURE = 8.5833
MACROPIXEL_SIZE = 2
MISSING_FRAMES = 0
PIXEL_SUBSAMPLING_FLAG = N
SIGNAL_CHAIN_ID = 2
/* RADIOMETRIC DATA ELEMENTS */
BANDWIDTH = 76.0
CENTER_FILTER_WAVELENGTH = 444.0
RADIANCE_OFFSET = 0.168012
RADIANCE_SCALING_FACTOR = 0.00286609
REFLECTANCE_SCALING_FACTOR = 0.000148343
MEX:REFLECTANCE_OFFSET = 0.00869596
/* IMAGE OBJECT DEFINITIONS */
OBJECT = IMAGE
  INTERCHANGE_FORMAT = BINARY
  LINES = 13117
  LINE_SAMPLES = 13782
  SAMPLE_TYPE = UNSIGNED_INTEGER
  SAMPLE_BITS = 8
  BANDS = 1
  BAND_STORAGE_TYPE = BAND_SEQUENTIAL
  MAXIMUM = 188
  MEAN = 61.1677
  MINIMUM = 9
  STANDARD_DEVIATION = 16.1123
END_OBJECT = IMAGE
/* MAP OBJECT DEFINITIONS */
OBJECT = IMAGE_MAP_PROJECTION
  ^DATA_SET_MAP_PROJECTION_CATALOG= "DSMAP.CAT"
  A_AXIS_RADIUS = 3396.0
  B_AXIS_RADIUS = 3396.0
  C_AXIS_RADIUS = 3396.0
  CENTER_LATITUDE = 0.0
  CENTER_LONGITUDE = 109.0
  COORDINATE_SYSTEM_NAME = PLANETOGRAPHIC
  COORDINATE_SYSTEM_TYPE = "BODY-FIXED ROTATING"
  EASTERNMOST_LONGITUDE = 137.525
  FIRST_STANDARD_PARALLEL = "N/A"
  LINE_FIRST_PIXEL = 1
  LINE_LAST_PIXEL = 13117
  LINE_PROJECTION_OFFSET = -91196.75
  MAP_PROJECTION_ROTATION = 0.0
  MAP_PROJECTION_TYPE = SINUSOIDAL
  MAP_RESOLUTION = 1185.42760773333
  MAP_SCALE = 0.05
  MAXIMUM_LATITUDE = -76.90170000000001
  MINIMUM_LATITUDE = -88.40430000000001
  POSITIVE_LONGITUDE_DIRECTION = EAST
  REFERENCE_LATITUDE = "N/A"
  REFERENCE_LONGITUDE = "N/A"
  SAMPLE_FIRST_PIXEL = 1
  SAMPLE_LAST_PIXEL = 13782
  SAMPLE_PROJECTION_OFFSET = 6874.75
  SECOND_STANDARD_PARALLEL = "N/A"
  WESTERNMOST_LONGITUDE = 24.0041
END_OBJECT = IMAGE_MAP_PROJECTION
END
