PDS_VERSION_ID = PDS3
/* FILE DATA ELEMENTS */
RECORD_TYPE = UNDEFINED
/* POINTERS TO DATA OBJECTS */
^IMAGE = ("H4893_0000_ND4.TIF")
/* IDENTIFICATION DATA ELEMENTS */
DATA_SET_ID = "MEX-M-HRSC-4-REFDR-MAPPROJECT-EXT1-V4.0"
DATA_SET_NAME = "MARS EXPRESS HRSC MAP PROJECTED REFDR EXTENSION1 V4.0"
DETECTOR_ID = MEX_HRSC_NADIR
EVENT_TYPE = "MARS-GLOBAL-VARIABLE-Gl-Ot-At"
INSTRUMENT_HOST_ID = MEX
INSTRUMENT_HOST_NAME = "MARS EXPRESS"
INSTRUMENT_ID = HRSC
INSTRUMENT_NAME = "HIGH RESOLUTION STEREO CAMERA"
MISSION_NAME = "MARS EXPRESS"
MISSION_PHASE_NAME = ME_Phase_10
PROCESSING_LEVEL_ID = 4
PRODUCT_CREATION_TIME = 2023-02-11T00:15:54.000Z
PRODUCT_ID = "H4893_0000_ND4.TIF"
RELEASE_ID = 0007
REVISION_ID = 0000
/* QUALITY DATA ELEMENTS */
DATA_QUALITY_ID = 1
DATA_QUALITY_DESC = "Data calculated based on original SPICE kernels"
/* TIME DATA ELEMENTS */
SPACECRAFT_CLOCK_START_COUNT = "1/0141331864.08264"
SPACECRAFT_CLOCK_STOP_COUNT = "1/0141332728.19865"
START_TIME = 2007-10-24T18:52:56.553Z
STOP_TIME = 2007-10-24T18:59:02.573Z
/* ORBITAL DATA ELEMENTS */
ASCENDING_NODE_LONGITUDE = 126.21
MAXIMUM_RESOLUTION = 0.0405
FOOTPRINT_POINT_LATITUDE = (-83.9814,-84.2659,-84.6783,-84.9429, -85.3444,-85.6466,-86.0956,-86.3294, -86.3442,-86.3665,-85.8753,-85.3661, -84.8419,-84.3054,-83.7579,-83.1993, -82.6316,-82.0551,-81.4691,-80.8748, -80.2718,-79.6602,-79.3515,-79.0404, -78.7271,-78.4115,-78.0942,-77.7744, -77.4526,-77.1287,-76.8028,-76.4744, -76.1437,-75.8114,-75.48,-75.1501, -74.8217,-74.4949,-74.1695,-73.8456, -73.5232,-73.2024,-72.883,-72.5651, -72.2487,-71.9338,-71.6203,-71.4641, -71.3096,-71.2987,-71.2667,-71.2295, -71.1686,-71.1062,-71.0584,-70.9581, -70.8747,-70.7948,-70.6955,-70.5735, -70.5593,-70.5529,-71.153,-71.4544, -71.7579,-72.062,-72.3674,-72.6738, -72.9815,-73.2902,-73.5996,-73.9103, -74.222,-74.5346,-74.8481,-75.1619, -75.4734,-75.7822,-76.0883,-76.3915, -76.6912,-76.9888,-77.2834,-77.5751, -77.8638,-78.1496,-78.7113,-79.2601, -79.7953,-80.3163,-80.8219,-81.3105, -81.7817,-82.2328,-82.6621,-83.0673, -83.4455,-83.7936,-83.8756,-83.9814)
FOOTPRINT_POINT_LONGITUDE = (216.983,218.879,222.089,224.512, 228.944,233.12,241.58,247.973,248.46, 249.165,252.656,255.411,257.624,259.45, 260.979,262.266,263.368,264.321,265.147 ,265.878,266.521,267.095,267.359, 267.616,267.846,268.063,268.284,268.486 ,268.669,268.855,269.029,269.196, 269.355,269.507,269.651,269.787,269.915 ,270.038,270.154,270.264,270.369, 270.469,270.564,270.655,270.741,270.824 ,270.902,270.941,270.978,269.331, 267.359,265.89,264.107,262.657,261.696, 259.945,258.683,257.588,256.345,254.958 ,254.805,254.73,254.339,254.123,253.91, 253.68,253.441,253.189,252.926,252.65, 252.355,252.049,251.728,251.39,251.034, 250.662,250.271,249.863,249.443,249.0, 248.533,248.051,247.547,247.02,246.469, 245.893,244.659,243.305,241.817,240.176 ,238.367,236.364,234.145,231.679, 228.944,225.905,222.531,218.797,217.802 ,216.983)
ORBIT_NUMBER = 4893
ORBITAL_ECCENTRICITY = 0.57
ORBITAL_INCLINATION = 86.7
ORBITAL_SEMIMAJOR_AXIS = 8593.3
PERIAPSIS_ALTITUDE = 302.19
PERIAPSIS_ARGUMENT_ANGLE = 217.54
PERIAPSIS_TIME = 2007-10-24T18:37:04.000Z
SPACECRAFT_ORIENTATION = (0.0,-1.0,0.0)
^MEX_ORIENTATION_DESC = "MEX_ORIENTATION_DESC.TXT"
SPACECRAFT_POINTING_MODE = NADIR
^MEX_POINTING_DESC = "MEX_POINTING_DESC.TXT"
RIGHT_ASCENSION = -1e+32
DECLINATION = -1e+32
OFFSET_ANGLE = -1e+32
SPACECRAFT_SOLAR_DISTANCE = 2.24171e+08
TARGET_NAME = MARS
/* CAMERA DATA ELEMENTS */
DETECTOR_TEMPERATURE = 18.3705
FOCAL_PLANE_TEMPERATURE = 8.3794
INST_CMPRS_NAME = "DISCRETE COSINE TRANSFORMATION (DCT)"
INST_CMPRS_RATIO = 8.2403
INST_CMPRS_QUALITY = 0
INST_CMPRS_QUANTZ_TBL_ID = 0
INSTRUMENT_TEMPERATURE = 11.4379
LENS_TEMPERATURE = 8.7872
MACROPIXEL_SIZE = 1
MISSING_FRAMES = 0
PIXEL_SUBSAMPLING_FLAG = N
SIGNAL_CHAIN_ID = 0
/* RADIOMETRIC DATA ELEMENTS */
BANDWIDTH = 177.0
CENTER_FILTER_WAVELENGTH = 677.5
RADIANCE_OFFSET = 0.812885
RADIANCE_SCALING_FACTOR = 0.0109295
REFLECTANCE_SCALING_FACTOR = 0.000291777
MEX:REFLECTANCE_OFFSET = 0.0217009
/* IMAGE OBJECT DEFINITIONS */
OBJECT = IMAGE
  INTERCHANGE_FORMAT = BINARY
  LINES = 18747
  LINE_SAMPLES = 10585
  SAMPLE_TYPE = UNSIGNED_INTEGER
  SAMPLE_BITS = 8
  BANDS = 1
  BAND_STORAGE_TYPE = BAND_SEQUENTIAL
  MAXIMUM = 255
  MEAN = 101.521
  MINIMUM = 1
  STANDARD_DEVIATION = 43.5785
END_OBJECT = IMAGE
/* MAP OBJECT DEFINITIONS */
OBJECT = IMAGE_MAP_PROJECTION
  ^DATA_SET_MAP_PROJECTION_CATALOG= "DSMAP.CAT"
  A_AXIS_RADIUS = 3396.0
  B_AXIS_RADIUS = 3396.0
  C_AXIS_RADIUS = 3396.0
  CENTER_LATITUDE = 0.0
  CENTER_LONGITUDE = 256.0
  COORDINATE_SYSTEM_NAME = PLANETOGRAPHIC
  COORDINATE_SYSTEM_TYPE = "BODY-FIXED ROTATING"
  EASTERNMOST_LONGITUDE = 270.978
  FIRST_STANDARD_PARALLEL = "N/A"
  LINE_FIRST_PIXEL = 1
  LINE_LAST_PIXEL = 18747
  LINE_PROJECTION_OFFSET = -83636.0
  MAP_PROJECTION_ROTATION = 0.0
  MAP_PROJECTION_TYPE = SINUSOIDAL
  MAP_RESOLUTION = 1185.42760773333
  MAP_SCALE = 0.05
  MAXIMUM_LATITUDE = -70.55289999999999
  MINIMUM_LATITUDE = -86.3665
  POSITIVE_LONGITUDE_DIRECTION = EAST
  REFERENCE_LATITUDE = "N/A"
  REFERENCE_LONGITUDE = "N/A"
  SAMPLE_FIRST_PIXEL = 1
  SAMPLE_LAST_PIXEL = 10585
  SAMPLE_PROJECTION_OFFSET = 4894.0
  SECOND_STANDARD_PARALLEL = "N/A"
  WESTERNMOST_LONGITUDE = 216.983
END_OBJECT = IMAGE_MAP_PROJECTION
END
