PDS_VERSION_ID = PDS3
/* FILE DATA ELEMENTS */
RECORD_TYPE = UNDEFINED
/* POINTERS TO DATA OBJECTS */
^IMAGE = ("H4889_0000_GR4.TIF")
/* IDENTIFICATION DATA ELEMENTS */
DATA_SET_ID = "MEX-M-HRSC-4-REFDR-MAPPROJECT-EXT1-V4.0"
DATA_SET_NAME = "MARS EXPRESS HRSC MAP PROJECTED REFDR EXTENSION1 V4.0"
DETECTOR_ID = MEX_HRSC_GREEN
EVENT_TYPE = "MARS-GLOBAL-VARIABLE-Gl-Ot-At"
INSTRUMENT_HOST_ID = MEX
INSTRUMENT_HOST_NAME = "MARS EXPRESS"
INSTRUMENT_ID = HRSC
INSTRUMENT_NAME = "HIGH RESOLUTION STEREO CAMERA"
MISSION_NAME = "MARS EXPRESS"
MISSION_PHASE_NAME = ME_Phase_10
PROCESSING_LEVEL_ID = 4
PRODUCT_CREATION_TIME = 2023-02-11T00:15:54.000Z
PRODUCT_ID = "H4889_0000_GR4.TIF"
RELEASE_ID = 0007
REVISION_ID = 0000
/* QUALITY DATA ELEMENTS */
DATA_QUALITY_ID = 1
DATA_QUALITY_DESC = "Data calculated based on original SPICE kernels"
/* TIME DATA ELEMENTS */
SPACECRAFT_CLOCK_START_COUNT = "1/0141235066.09066"
SPACECRAFT_CLOCK_STOP_COUNT = "1/0141235974.05653"
START_TIME = 2007-10-23T15:59:12.299Z
STOP_TIME = 2007-10-23T16:05:43.155Z
/* ORBITAL DATA ELEMENTS */
ASCENDING_NODE_LONGITUDE = 126.29
MAXIMUM_RESOLUTION = 0.0753
FOOTPRINT_POINT_LATITUDE = (-84.5692,-84.9918,-85.3226,-85.9089, -86.3125,-86.6898,-87.1285,-87.1473, -87.1582,-86.6664,-86.1379,-85.5815, -85.0039,-84.4091,-83.799,-83.1749, -82.5381,-81.8903,-81.2298,-80.7271, -80.3892,-80.0479,-79.7047,-79.3579, -78.8323,-78.4785,-78.1224,-77.7631, -77.4009,-77.0363,-76.6684,-76.2981, -75.9249,-75.3589,-74.9799,-74.6025, -74.2269,-73.8531,-73.4811,-73.1108, -72.7423,-72.3756,-72.0106,-71.6476, -71.2862,-70.9267,-70.5687,-70.3905, -70.294,-70.2779,-70.2538,-70.1918, -70.1222,-70.0663,-69.9853,-69.9018, -69.7646,-69.5946,-69.5815,-69.578, -69.9227,-70.2682,-70.6153,-70.9648, -71.3152,-71.6668,-72.018,-72.3711, -72.7271,-73.0836,-73.4438,-73.8027, -74.3438,-74.7033,-75.0602,-75.4135, -75.7627,-76.1089,-76.4511,-76.7863, -77.2891,-77.6177,-78.107,-78.425, -78.7397,-79.0522,-79.3594,-79.6618, -80.2538,-80.8264,-81.3786,-81.9072, -82.4107,-82.8859,-83.3291,-83.736, -84.1019,-84.4215,-84.4935,-84.5692)
FOOTPRINT_POINT_LONGITUDE = (242.1,244.367,246.468,251.19,255.542, 260.929,270.068,270.571,271.482,277.832 ,282.557,286.168,288.992,291.238, 293.074,294.597,295.877,296.954,297.893 ,298.517,298.887,299.237,299.56,299.868 ,300.301,300.569,300.815,301.056, 301.282,301.494,301.698,301.889,302.068 ,302.327,302.486,302.636,302.778, 302.911,303.037,303.156,303.268,303.375 ,303.476,303.571,303.661,303.746, 303.828,303.867,303.888,302.106,300.77, 298.558,296.802,295.64,294.194,292.902, 291.055,289.089,288.95,288.899,288.707, 288.503,288.29,288.068,287.834,287.586, 287.319,287.04,286.751,286.444,286.127, 285.784,285.234,284.838,284.428,283.999 ,283.546,283.074,282.578,282.044,281.22 ,280.626,279.694,279.019,278.312, 277.575,276.793,275.967,274.176,272.175 ,269.932,267.412,264.577,261.382, 257.783,253.738,249.213,244.186,242.851 ,242.1)
ORBIT_NUMBER = 4889
ORBITAL_ECCENTRICITY = 0.57
ORBITAL_INCLINATION = 86.69
ORBITAL_SEMIMAJOR_AXIS = 8590.44
PERIAPSIS_ALTITUDE = 302.16
PERIAPSIS_ARGUMENT_ANGLE = 218.26
PERIAPSIS_TIME = 2007-10-23T15:44:16.000Z
SPACECRAFT_ORIENTATION = (0.0,-1.0,0.0)
^MEX_ORIENTATION_DESC = "MEX_ORIENTATION_DESC.TXT"
SPACECRAFT_POINTING_MODE = NADIR
^MEX_POINTING_DESC = "MEX_POINTING_DESC.TXT"
RIGHT_ASCENSION = -1e+32
DECLINATION = -1e+32
OFFSET_ANGLE = -1e+32
SPACECRAFT_SOLAR_DISTANCE = 2.23953e+08
TARGET_NAME = MARS
/* CAMERA DATA ELEMENTS */
DETECTOR_TEMPERATURE = 18.7783
FOCAL_PLANE_TEMPERATURE = 8.9911
INST_CMPRS_NAME = "DISCRETE COSINE TRANSFORMATION (DCT)"
INST_CMPRS_RATIO = 13.5051
INST_CMPRS_QUALITY = 0
INST_CMPRS_QUANTZ_TBL_ID = 0
INSTRUMENT_TEMPERATURE = 11.6418
LENS_TEMPERATURE = 9.3989
MACROPIXEL_SIZE = 2
MISSING_FRAMES = 0
PIXEL_SUBSAMPLING_FLAG = N
SIGNAL_CHAIN_ID = 2
/* RADIOMETRIC DATA ELEMENTS */
BANDWIDTH = 88.0
CENTER_FILTER_WAVELENGTH = 538.0
RADIANCE_OFFSET = 0.461708
RADIANCE_SCALING_FACTOR = 0.00640681
REFLECTANCE_SCALING_FACTOR = 0.000276663
MEX:REFLECTANCE_OFFSET = 0.0199378
/* IMAGE OBJECT DEFINITIONS */
OBJECT = IMAGE
  INTERCHANGE_FORMAT = BINARY
  LINES = 10431
  LINE_SAMPLES = 5719
  SAMPLE_TYPE = UNSIGNED_INTEGER
  SAMPLE_BITS = 8
  BANDS = 1
  BAND_STORAGE_TYPE = BAND_SEQUENTIAL
  MAXIMUM = 255
  MEAN = 70.1901
  MINIMUM = 1
  STANDARD_DEVIATION = 31.6582
END_OBJECT = IMAGE
/* MAP OBJECT DEFINITIONS */
OBJECT = IMAGE_MAP_PROJECTION
  ^DATA_SET_MAP_PROJECTION_CATALOG= "DSMAP.CAT"
  A_AXIS_RADIUS = 3396.0
  B_AXIS_RADIUS = 3396.0
  C_AXIS_RADIUS = 3396.0
  CENTER_LATITUDE = 0.0
  CENTER_LONGITUDE = 289.0
  COORDINATE_SYSTEM_NAME = PLANETOGRAPHIC
  COORDINATE_SYSTEM_TYPE = "BODY-FIXED ROTATING"
  EASTERNMOST_LONGITUDE = 303.888
  FIRST_STANDARD_PARALLEL = "N/A"
  LINE_FIRST_PIXEL = 1
  LINE_LAST_PIXEL = 10431
  LINE_PROJECTION_OFFSET = -41239.75
  MAP_PROJECTION_ROTATION = 0.0
  MAP_PROJECTION_TYPE = SINUSOIDAL
  MAP_RESOLUTION = 592.713803866667
  MAP_SCALE = 0.1
  MAXIMUM_LATITUDE = -69.578
  MINIMUM_LATITUDE = -87.15819999999999
  POSITIVE_LONGITUDE_DIRECTION = EAST
  REFERENCE_LATITUDE = "N/A"
  REFERENCE_LONGITUDE = "N/A"
  SAMPLE_FIRST_PIXEL = 1
  SAMPLE_LAST_PIXEL = 5719
  SAMPLE_PROJECTION_OFFSET = 2677.25
  SECOND_STANDARD_PARALLEL = "N/A"
  WESTERNMOST_LONGITUDE = 242.1
END_OBJECT = IMAGE_MAP_PROJECTION
END
