PDS_VERSION_ID = PDS3
/* FILE DATA ELEMENTS */
RECORD_TYPE = UNDEFINED
/* POINTERS TO DATA OBJECTS */
^IMAGE = ("H4823_0000_ND4.TIF")
/* IDENTIFICATION DATA ELEMENTS */
DATA_SET_ID = "MEX-M-HRSC-4-REFDR-MAPPROJECT-EXT1-V4.0"
DATA_SET_NAME = "MARS EXPRESS HRSC MAP PROJECTED REFDR EXTENSION1 V4.0"
DETECTOR_ID = MEX_HRSC_NADIR
EVENT_TYPE = "MARS-REGIONAL-MAPPING-Im-Gl"
INSTRUMENT_HOST_ID = MEX
INSTRUMENT_HOST_NAME = "MARS EXPRESS"
INSTRUMENT_ID = HRSC
INSTRUMENT_NAME = "HIGH RESOLUTION STEREO CAMERA"
MISSION_NAME = "MARS EXPRESS"
MISSION_PHASE_NAME = ME_Phase_10
PROCESSING_LEVEL_ID = 4
PRODUCT_CREATION_TIME = 2023-02-11T00:15:54.000Z
PRODUCT_ID = "H4823_0000_ND4.TIF"
RELEASE_ID = 0007
REVISION_ID = 0000
/* QUALITY DATA ELEMENTS */
DATA_QUALITY_ID = 1
DATA_QUALITY_DESC = "Data calculated based on original SPICE kernels"
/* TIME DATA ELEMENTS */
SPACECRAFT_CLOCK_START_COUNT = "1/0139638392.08260"
SPACECRAFT_CLOCK_STOP_COUNT = "1/0139639145.61645"
START_TIME = 2007-10-05T04:28:06.386Z
STOP_TIME = 2007-10-05T04:34:07.332Z
/* ORBITAL DATA ELEMENTS */
ASCENDING_NODE_LONGITUDE = 127.64
MAXIMUM_RESOLUTION = 0.0351
FOOTPRINT_POINT_LATITUDE = (-78.3167,-78.5195,-78.6623,-78.8088, -78.9589,-79.0337,-79.1558,-79.1605, -79.169,-78.6165,-78.0567,-77.4887, -76.9124,-76.3286,-75.7365,-75.1362, -74.5279,-73.911,-73.2855,-72.651, -72.0081,-71.6831,-71.3558,-71.0268, -70.6948,-70.3606,-70.0244,-69.6854, -69.3444,-69.0005,-68.6546,-68.3061, -67.9552,-67.6017,-67.0714,-66.7198, -66.3701,-66.0219,-65.6754,-65.3305, -64.9871,-64.6456,-64.3057,-63.9674, -63.6308,-63.2958,-63.1289,-63.1232, -63.1181,-63.1086,-63.0963,-63.0638, -63.0375,-63.002,-62.9703,-62.9349, -62.89,-62.8069,-62.7494,-62.7419, -62.7387,-63.0658,-63.3945,-63.7248, -64.0567,-64.3902,-64.7254,-65.0622, -65.4004,-65.74,-66.0815,-66.4244, -66.769,-67.1152,-67.6327,-67.9743, -68.3137,-68.6505,-68.9851,-69.317, -69.6462,-69.9735,-70.2981,-70.6202, -70.9399,-71.2575,-71.8848,-72.5034, -73.112,-73.7115,-74.3016,-74.8827, -75.4544,-76.0167,-76.5698,-77.1134, -77.6472,-78.1705,-78.2997,-78.3167)
FOOTPRINT_POINT_LONGITUDE = (288.836,291.309,293.287,295.605, 298.428,300.097,303.503,303.66,303.909, 304.457,304.96,305.423,305.849,306.242, 306.603,306.939,307.251,307.542,307.813 ,308.066,308.299,308.415,308.521, 308.629,308.732,308.831,308.927,309.021 ,309.111,309.198,309.282,309.363, 309.442,309.518,309.633,309.703,309.775 ,309.839,309.901,309.96,310.012,310.07, 310.123,310.175,310.226,310.274,310.298 ,310.298,309.046,308.21,307.483,306.135 ,305.308,304.38,303.659,302.939,302.12, 300.79,299.974,299.872,299.822,299.75, 299.674,299.595,299.513,299.426,299.336 ,299.243,299.142,299.032,298.923, 298.806,298.685,298.557,298.358,298.217 ,298.072,297.923,297.771,297.61,297.444 ,297.272,297.094,296.911,296.721, 296.525,296.11,295.665,295.19,294.681, 294.134,293.549,292.917,292.24,291.51, 290.718,289.861,288.922,288.678, 288.836)
ORBIT_NUMBER = 4823
ORBITAL_ECCENTRICITY = 0.57
ORBITAL_INCLINATION = 86.69
ORBITAL_SEMIMAJOR_AXIS = 8570.53
PERIAPSIS_ALTITUDE = 299.8
PERIAPSIS_ARGUMENT_ANGLE = 229.8
PERIAPSIS_TIME = 2007-10-05T04:13:58.000Z
SPACECRAFT_ORIENTATION = (0.0,-1.0,0.0)
^MEX_ORIENTATION_DESC = "MEX_ORIENTATION_DESC.TXT"
SPACECRAFT_POINTING_MODE = NADIR
^MEX_POINTING_DESC = "MEX_POINTING_DESC.TXT"
RIGHT_ASCENSION = -1e+32
DECLINATION = -1e+32
OFFSET_ANGLE = -1e+32
SPACECRAFT_SOLAR_DISTANCE = 2.20407e+08
TARGET_NAME = MARS
/* CAMERA DATA ELEMENTS */
DETECTOR_TEMPERATURE = 18.5744
FOCAL_PLANE_TEMPERATURE = 8.7872
INST_CMPRS_NAME = "DISCRETE COSINE TRANSFORMATION (DCT)"
INST_CMPRS_RATIO = 7.67767
INST_CMPRS_QUALITY = 0
INST_CMPRS_QUANTZ_TBL_ID = 0
INSTRUMENT_TEMPERATURE = 11.234
LENS_TEMPERATURE = 10.2145
MACROPIXEL_SIZE = 1
MISSING_FRAMES = 0
PIXEL_SUBSAMPLING_FLAG = N
SIGNAL_CHAIN_ID = 0
/* RADIOMETRIC DATA ELEMENTS */
BANDWIDTH = 177.0
CENTER_FILTER_WAVELENGTH = 677.5
RADIANCE_OFFSET = 2.13473
RADIANCE_SCALING_FACTOR = 0.0172662
REFLECTANCE_SCALING_FACTOR = 0.000445595
MEX:REFLECTANCE_OFFSET = 0.0550918
/* IMAGE OBJECT DEFINITIONS */
OBJECT = IMAGE
  INTERCHANGE_FORMAT = BINARY
  LINES = 38956
  LINE_SAMPLES = 15302
  SAMPLE_TYPE = UNSIGNED_INTEGER
  SAMPLE_BITS = 8
  BANDS = 1
  BAND_STORAGE_TYPE = BAND_SEQUENTIAL
  MAXIMUM = 255
  MEAN = 116.174
  MINIMUM = 1
  STANDARD_DEVIATION = 33.4448
END_OBJECT = IMAGE
/* MAP OBJECT DEFINITIONS */
OBJECT = IMAGE_MAP_PROJECTION
  ^DATA_SET_MAP_PROJECTION_CATALOG= "DSMAP.CAT"
  A_AXIS_RADIUS = 3396.0
  B_AXIS_RADIUS = 3396.0
  C_AXIS_RADIUS = 3396.0
  CENTER_LATITUDE = 0.0
  CENTER_LONGITUDE = 302.0
  COORDINATE_SYSTEM_NAME = PLANETOGRAPHIC
  COORDINATE_SYSTEM_TYPE = "BODY-FIXED ROTATING"
  EASTERNMOST_LONGITUDE = 310.298
  FIRST_STANDARD_PARALLEL = "N/A"
  LINE_FIRST_PIXEL = 1
  LINE_LAST_PIXEL = 38956
  LINE_PROJECTION_OFFSET = -148745.0
  MAP_PROJECTION_ROTATION = 0.0
  MAP_PROJECTION_TYPE = SINUSOIDAL
  MAP_RESOLUTION = 2370.85521546667
  MAP_SCALE = 0.025
  MAXIMUM_LATITUDE = -62.7387
  MINIMUM_LATITUDE = -79.169
  POSITIVE_LONGITUDE_DIRECTION = EAST
  REFERENCE_LATITUDE = "N/A"
  REFERENCE_LONGITUDE = "N/A"
  SAMPLE_FIRST_PIXEL = 1
  SAMPLE_LAST_PIXEL = 15302
  SAMPLE_PROJECTION_OFFSET = 6406.0
  SECOND_STANDARD_PARALLEL = "N/A"
  WESTERNMOST_LONGITUDE = 288.678
END_OBJECT = IMAGE_MAP_PROJECTION
END
