PDS_VERSION_ID = PDS3
/* FILE DATA ELEMENTS */
RECORD_TYPE = UNDEFINED
/* POINTERS TO DATA OBJECTS */
^IMAGE = ("H4818_0000_IR4.TIF")
/* IDENTIFICATION DATA ELEMENTS */
DATA_SET_ID = "MEX-M-HRSC-4-REFDR-MAPPROJECT-EXT1-V4.0"
DATA_SET_NAME = "MARS EXPRESS HRSC MAP PROJECTED REFDR EXTENSION1 V4.0"
DETECTOR_ID = MEX_HRSC_IR
EVENT_TYPE = "MARS-REGIONAL-MAPPING-Vo-Im-Gl"
INSTRUMENT_HOST_ID = MEX
INSTRUMENT_HOST_NAME = "MARS EXPRESS"
INSTRUMENT_ID = HRSC
INSTRUMENT_NAME = "HIGH RESOLUTION STEREO CAMERA"
MISSION_NAME = "MARS EXPRESS"
MISSION_PHASE_NAME = ME_Phase_10
PROCESSING_LEVEL_ID = 4
PRODUCT_CREATION_TIME = 2023-02-11T00:15:54.000Z
PRODUCT_ID = "H4818_0000_IR4.TIF"
RELEASE_ID = 0007
REVISION_ID = 0000
/* QUALITY DATA ELEMENTS */
DATA_QUALITY_ID = 1
DATA_QUALITY_DESC = "Data calculated based on original SPICE kernels"
/* TIME DATA ELEMENTS */
SPACECRAFT_CLOCK_START_COUNT = "1/0139517418.09086"
SPACECRAFT_CLOCK_STOP_COUNT = "1/0139518059.51481"
START_TIME = 2007-10-03T18:50:35.467Z
STOP_TIME = 2007-10-03T18:54:52.062Z
/* ORBITAL DATA ELEMENTS */
ASCENDING_NODE_LONGITUDE = 127.74
MAXIMUM_RESOLUTION = 0.064
FOOTPRINT_POINT_LATITUDE = (-78.9234,-79.1638,-79.2723,-79.4275, -79.5416,-79.6572,-79.7187,-79.7234, -79.6383,-79.1642,-78.5628,-78.0748, -77.5812,-77.081,-76.4533,-76.0678, -75.5447,-75.0182,-74.7524,-74.4855, -74.217,-73.9467,-73.6722,-73.3956, -73.1202,-72.8424,-72.5575,-72.2808, -71.9972,-71.7092,-71.4208,-71.1334, -70.8418,-70.4051,-70.1092,-69.6647, -69.3653,-69.0653,-68.76,-68.3002, -67.9909,-67.6791,-67.3592,-67.0442, -66.7272,-66.4103,-65.9259,-65.7629, -65.6844,-65.6708,-65.6401,-65.6205, -65.5888,-65.5289,-65.4716,-65.3882, -65.3112,-65.2479,-65.2408,-65.2394, -65.7188,-66.035,-66.3487,-66.6608, -66.9716,-67.2794,-67.5855,-67.8894, -68.1911,-68.4905,-68.7876,-69.0829, -69.3774,-69.6694,-69.959,-70.2471, -70.5337,-70.8189,-71.0906,-71.5162, -71.7948,-72.0698,-72.343,-72.6141, -72.8848,-73.1526,-73.4189,-73.9399, -74.3261,-74.8383,-75.3423,-75.719, -76.2109,-76.8159,-77.29,-77.7484, -78.2065,-78.6583,-78.7702,-78.9234)
FOOTPRINT_POINT_LONGITUDE = (60.1046,63.06,64.5848,67.0607,69.1989, 71.7994,73.4735,73.614,73.9485,74.4881, 75.1041,75.5552,75.9724,76.362,76.7964, 77.0491,77.374,77.672,77.8135,77.9497, 78.0819,78.2103,78.3383,78.4636,78.5802 ,78.6945,78.8135,78.9136,79.0187, 79.1248,79.2257,79.3194,79.4137,79.5452 ,79.6325,79.7555,79.8356,79.9117, 79.9895,80.1001,80.1715,80.2415,80.3163 ,80.3813,80.4445,80.5038,80.595,80.6248 ,80.6386,79.7417,78.7607,78.0439, 77.1525,75.821,74.76,73.4411,72.3922, 71.6084,71.5215,71.4898,71.3409,71.2373 ,71.1307,71.021,70.9083,70.7919,70.6722 ,70.549,70.4222,70.2917,70.1572,70.019, 69.8772,69.7309,69.5802,69.4253,69.2658 ,69.1021,68.9299,68.6688,68.4876, 68.3003,68.1074,67.9082,67.7042,67.4936 ,67.2764,66.8207,66.4606,65.9544, 65.4163,64.9899,64.3876,63.5779,62.8795 ,62.1334,61.3331,60.4741,60.25,60.1046)
ORBIT_NUMBER = 4818
ORBITAL_ECCENTRICITY = 0.57
ORBITAL_INCLINATION = 86.7
ORBITAL_SEMIMAJOR_AXIS = 8567.91
PERIAPSIS_ALTITUDE = 299.01
PERIAPSIS_ARGUMENT_ANGLE = 230.67
PERIAPSIS_TIME = 2007-10-03T18:38:07.000Z
SPACECRAFT_ORIENTATION = (0.0,-1.0,0.0)
^MEX_ORIENTATION_DESC = "MEX_ORIENTATION_DESC.TXT"
SPACECRAFT_POINTING_MODE = NADIR
^MEX_POINTING_DESC = "MEX_POINTING_DESC.TXT"
RIGHT_ASCENSION = -1e+32
DECLINATION = -1e+32
OFFSET_ANGLE = -1e+32
SPACECRAFT_SOLAR_DISTANCE = 2.20144e+08
TARGET_NAME = MARS
/* CAMERA DATA ELEMENTS */
DETECTOR_TEMPERATURE = 17.5549
FOCAL_PLANE_TEMPERATURE = 8.3794
INST_CMPRS_NAME = "DISCRETE COSINE TRANSFORMATION (DCT)"
INST_CMPRS_RATIO = 8.21418
INST_CMPRS_QUALITY = 0
INST_CMPRS_QUANTZ_TBL_ID = 0
INSTRUMENT_TEMPERATURE = 11.0301
LENS_TEMPERATURE = 8.9911
MACROPIXEL_SIZE = 2
MISSING_FRAMES = 0
PIXEL_SUBSAMPLING_FLAG = N
SIGNAL_CHAIN_ID = 3
/* RADIOMETRIC DATA ELEMENTS */
BANDWIDTH = 81.0
CENTER_FILTER_WAVELENGTH = 955.5
RADIANCE_OFFSET = 0.614531
RADIANCE_SCALING_FACTOR = 0.00291728
REFLECTANCE_SCALING_FACTOR = 0.000305019
MEX:REFLECTANCE_OFFSET = 0.064253
/* IMAGE OBJECT DEFINITIONS */
OBJECT = IMAGE
  INTERCHANGE_FORMAT = BINARY
  LINES = 17080
  LINE_SAMPLES = 7141
  SAMPLE_TYPE = UNSIGNED_INTEGER
  SAMPLE_BITS = 8
  BANDS = 1
  BAND_STORAGE_TYPE = BAND_SEQUENTIAL
  MAXIMUM = 255
  MEAN = 100.082
  MINIMUM = 1
  STANDARD_DEVIATION = 26.3252
END_OBJECT = IMAGE
/* MAP OBJECT DEFINITIONS */
OBJECT = IMAGE_MAP_PROJECTION
  ^DATA_SET_MAP_PROJECTION_CATALOG= "DSMAP.CAT"
  A_AXIS_RADIUS = 3396.0
  B_AXIS_RADIUS = 3396.0
  C_AXIS_RADIUS = 3396.0
  CENTER_LATITUDE = 0.0
  CENTER_LONGITUDE = 73.0
  COORDINATE_SYSTEM_NAME = PLANETOGRAPHIC
  COORDINATE_SYSTEM_TYPE = "BODY-FIXED ROTATING"
  EASTERNMOST_LONGITUDE = 80.6386
  FIRST_STANDARD_PARALLEL = "N/A"
  LINE_FIRST_PIXEL = 1
  LINE_LAST_PIXEL = 17080
  LINE_PROJECTION_OFFSET = -77338.25
  MAP_PROJECTION_ROTATION = 0.0
  MAP_PROJECTION_TYPE = SINUSOIDAL
  MAP_RESOLUTION = 1185.42760773333
  MAP_SCALE = 0.05
  MAXIMUM_LATITUDE = -65.2394
  MINIMUM_LATITUDE = -79.7234
  POSITIVE_LONGITUDE_DIRECTION = EAST
  REFERENCE_LATITUDE = "N/A"
  REFERENCE_LONGITUDE = "N/A"
  SAMPLE_FIRST_PIXEL = 1
  SAMPLE_LAST_PIXEL = 7141
  SAMPLE_PROJECTION_OFFSET = 3145.75
  SECOND_STANDARD_PARALLEL = "N/A"
  WESTERNMOST_LONGITUDE = 60.1046
END_OBJECT = IMAGE_MAP_PROJECTION
END
