PDS_VERSION_ID = PDS3
/* FILE DATA ELEMENTS */
RECORD_TYPE = UNDEFINED
/* POINTERS TO DATA OBJECTS */
^IMAGE = ("H4815_0000_S24.TIF")
/* IDENTIFICATION DATA ELEMENTS */
DATA_SET_ID = "MEX-M-HRSC-4-REFDR-MAPPROJECT-EXT1-V4.0"
DATA_SET_NAME = "MARS EXPRESS HRSC MAP PROJECTED REFDR EXTENSION1 V4.0"
DETECTOR_ID = MEX_HRSC_S2
EVENT_TYPE = "MARS-REGIONAL-MAPPING-Pf-Eo"
INSTRUMENT_HOST_ID = MEX
INSTRUMENT_HOST_NAME = "MARS EXPRESS"
INSTRUMENT_ID = HRSC
INSTRUMENT_NAME = "HIGH RESOLUTION STEREO CAMERA"
MISSION_NAME = "MARS EXPRESS"
MISSION_PHASE_NAME = ME_Phase_10
PROCESSING_LEVEL_ID = 4
PRODUCT_CREATION_TIME = 2023-02-11T00:15:54.000Z
PRODUCT_ID = "H4815_0000_S24.TIF"
RELEASE_ID = 0007
REVISION_ID = 0000
/* QUALITY DATA ELEMENTS */
DATA_QUALITY_ID = 1
DATA_QUALITY_DESC = "Data calculated based on original SPICE kernels"
/* TIME DATA ELEMENTS */
SPACECRAFT_CLOCK_START_COUNT = "1/0139444947.08796"
SPACECRAFT_CLOCK_STOP_COUNT = "1/0139446099.49841"
START_TIME = 2007-10-02T22:47:05.419Z
STOP_TIME = 2007-10-02T23:01:41.906Z
/* ORBITAL DATA ELEMENTS */
ASCENDING_NODE_LONGITUDE = 127.8
MAXIMUM_RESOLUTION = 0.1067
FOOTPRINT_POINT_LATITUDE = (-72.223,-72.4304,-72.5498,-72.6485, -72.7265,-72.7833,-72.8171,-72.8187, -72.9459,-72.4137,-71.8768,-71.335, -70.7794,-70.2364,-69.6849,-69.1423, -68.6069,-68.0796,-67.5589,-67.0466, -66.5429,-66.0475,-65.5579,-65.0769, -64.6009,-64.1313,-63.669,-63.2184, -62.7726,-62.3323,-61.8993,-61.4719, -60.6349,-59.8231,-59.0353,-58.2664, -57.5274,-56.6276,-55.9393,-55.2665, -54.6146,-53.9784,-53.3642,-52.7643, -52.1872,-52.0451,-52.0419,-52.1221, -52.1714,-52.2198,-52.2982,-52.3598, -52.4309,-52.4873,-52.5461,-52.5938, -52.6581,-52.6773,-52.6979,-52.7191, -52.7315,-52.7347,-52.7362,-53.2397, -53.7589,-54.4465,-54.8749,-55.3118, -55.9106,-56.5278,-57.1701,-57.6765, -58.3628,-59.0698,-59.807,-60.5667, -61.3548,-62.1682,-62.5858,-63.0101, -63.4416,-63.8796,-64.3259,-64.778, -65.2387,-65.7078,-66.1777,-66.6643, -67.1557,-67.6544,-68.1607,-68.6739, -69.1959,-69.9911,-70.5218,-71.0471, -71.5619,-72.0753,-72.3286,-72.223)
FOOTPRINT_POINT_LONGITUDE = (1.31018,4.43367,6.63693,8.86272, 11.1071,13.3726,15.5145,15.6578,15.8246 ,16.0437,16.2536,16.4546,16.6401, 16.8341,17.0106,17.178,17.3357,17.4857, 17.6275,17.7634,17.8943,18.0205,18.1405 ,18.2572,18.3682,18.4748,18.5784,18.683 ,18.7832,18.8798,18.9747,19.0669, 19.2445,19.4162,19.5825,19.7411,19.9021 ,20.0941,20.2517,20.4038,20.5559, 20.7046,20.8557,21.004,21.1569,21.1948, 21.1956,19.999,19.2508,18.5045,17.3157, 16.2751,14.937,13.7463,12.4035,11.0569, 9.55229,8.79854,7.74073,6.97918,5.91442 ,5.76099,5.70575,5.71407,5.72055, 5.71618,5.70921,5.70073,5.6853,5.66474, 5.63415,5.59818,5.54738,5.48709,5.40864 ,5.31669,5.20449,5.07249,4.99708, 4.91526,4.82633,4.73041,4.62504,4.51255 ,4.38902,4.25396,4.11562,3.95394, 3.78224,3.59647,3.39481,3.1768,2.9381, 2.54175,2.2499,1.93958,1.61977,1.27252, 1.0938,1.31018)
ORBIT_NUMBER = 4815
ORBITAL_ECCENTRICITY = 0.57
ORBITAL_INCLINATION = 86.69
ORBITAL_SEMIMAJOR_AXIS = 8566.21
PERIAPSIS_ALTITUDE = 299.72
PERIAPSIS_ARGUMENT_ANGLE = 231.15
PERIAPSIS_TIME = 2007-10-02T22:28:29.000Z
SPACECRAFT_ORIENTATION = (0.0,-1.0,0.0)
^MEX_ORIENTATION_DESC = "MEX_ORIENTATION_DESC.TXT"
SPACECRAFT_POINTING_MODE = NADIR
^MEX_POINTING_DESC = "MEX_POINTING_DESC.TXT"
RIGHT_ASCENSION = -1e+32
DECLINATION = -1e+32
OFFSET_ANGLE = -1e+32
SPACECRAFT_SOLAR_DISTANCE = 2.19987e+08
TARGET_NAME = MARS
/* CAMERA DATA ELEMENTS */
DETECTOR_TEMPERATURE = 18.9822
FOCAL_PLANE_TEMPERATURE = 9.3989
INST_CMPRS_NAME = "DISCRETE COSINE TRANSFORMATION (DCT)"
INST_CMPRS_RATIO = 10.3247
INST_CMPRS_QUALITY = 0
INST_CMPRS_QUANTZ_TBL_ID = 0
INSTRUMENT_TEMPERATURE = 11.6418
LENS_TEMPERATURE = 9.6028
MACROPIXEL_SIZE = 2
MISSING_FRAMES = 0
PIXEL_SUBSAMPLING_FLAG = N
SIGNAL_CHAIN_ID = 1
/* RADIOMETRIC DATA ELEMENTS */
BANDWIDTH = 178.0
CENTER_FILTER_WAVELENGTH = 679.0
RADIANCE_OFFSET = 3.04502
RADIANCE_SCALING_FACTOR = 0.0164329
REFLECTANCE_SCALING_FACTOR = 0.000421159
MEX:REFLECTANCE_OFFSET = 0.0780408
/* IMAGE OBJECT DEFINITIONS */
OBJECT = IMAGE
  INTERCHANGE_FORMAT = BINARY
  LINES = 12253
  LINE_SAMPLES = 3856
  SAMPLE_TYPE = UNSIGNED_INTEGER
  SAMPLE_BITS = 8
  BANDS = 1
  BAND_STORAGE_TYPE = BAND_SEQUENTIAL
  MAXIMUM = 255
  MEAN = 130.186
  MINIMUM = 4
  STANDARD_DEVIATION = 32.9991
END_OBJECT = IMAGE
/* MAP OBJECT DEFINITIONS */
OBJECT = IMAGE_MAP_PROJECTION
  ^DATA_SET_MAP_PROJECTION_CATALOG= "DSMAP.CAT"
  A_AXIS_RADIUS = 3396.0
  B_AXIS_RADIUS = 3396.0
  C_AXIS_RADIUS = 3396.0
  CENTER_LATITUDE = 0.0
  CENTER_LONGITUDE = 11.0
  COORDINATE_SYSTEM_NAME = PLANETOGRAPHIC
  COORDINATE_SYSTEM_TYPE = "BODY-FIXED ROTATING"
  EASTERNMOST_LONGITUDE = 21.1956
  FIRST_STANDARD_PARALLEL = "N/A"
  LINE_FIRST_PIXEL = 1
  LINE_LAST_PIXEL = 12253
  LINE_PROJECTION_OFFSET = -31002.75
  MAP_PROJECTION_ROTATION = 0.0
  MAP_PROJECTION_TYPE = SINUSOIDAL
  MAP_RESOLUTION = 592.713803866667
  MAP_SCALE = 0.1
  MAXIMUM_LATITUDE = -52.0419
  MINIMUM_LATITUDE = -72.94589999999999
  POSITIVE_LONGITUDE_DIRECTION = EAST
  REFERENCE_LATITUDE = "N/A"
  REFERENCE_LONGITUDE = "N/A"
  SAMPLE_FIRST_PIXEL = 1
  SAMPLE_LAST_PIXEL = 3856
  SAMPLE_PROJECTION_OFFSET = 1573.75
  SECOND_STANDARD_PARALLEL = "N/A"
  WESTERNMOST_LONGITUDE = 1.0938
END_OBJECT = IMAGE_MAP_PROJECTION
END
