PDS_VERSION_ID = PDS3
/* FILE DATA ELEMENTS */
RECORD_TYPE = UNDEFINED
/* POINTERS TO DATA OBJECTS */
^IMAGE = ("H4813_0000_GR4.TIF")
/* IDENTIFICATION DATA ELEMENTS */
DATA_SET_ID = "MEX-M-HRSC-4-REFDR-MAPPROJECT-EXT1-V4.0"
DATA_SET_NAME = "MARS EXPRESS HRSC MAP PROJECTED REFDR EXTENSION1 V4.0"
DETECTOR_ID = MEX_HRSC_GREEN
EVENT_TYPE = "MARS-REGIONAL-MAPPING-Im-Eo"
INSTRUMENT_HOST_ID = MEX
INSTRUMENT_HOST_NAME = "MARS EXPRESS"
INSTRUMENT_ID = HRSC
INSTRUMENT_NAME = "HIGH RESOLUTION STEREO CAMERA"
MISSION_NAME = "MARS EXPRESS"
MISSION_PHASE_NAME = ME_Phase_10
PROCESSING_LEVEL_ID = 4
PRODUCT_CREATION_TIME = 2023-02-11T00:15:54.000Z
PRODUCT_ID = "H4813_0000_GR4.TIF"
RELEASE_ID = 0007
REVISION_ID = 0000
/* QUALITY DATA ELEMENTS */
DATA_QUALITY_ID = 1
DATA_QUALITY_DESC = "Data calculated based on original SPICE kernels"
/* TIME DATA ELEMENTS */
SPACECRAFT_CLOCK_START_COUNT = "1/0139396682.09055"
SPACECRAFT_CLOCK_STOP_COUNT = "1/0139397649.23488"
START_TIME = 2007-10-02T09:19:54.506Z
STOP_TIME = 2007-10-02T09:25:11.026Z
/* ORBITAL DATA ELEMENTS */
ASCENDING_NODE_LONGITUDE = 127.84
MAXIMUM_RESOLUTION = 0.0928
FOOTPRINT_POINT_LATITUDE = (-65.7701,-65.8332,-65.8851,-65.9333, -65.9777,-66.0183,-66.0551,-66.0881, -66.1172,-66.1425,-66.1639,-66.1815, -66.2018,-66.2029,-66.1867,-65.9095, -65.6307,-65.21,-64.9296,-64.6504, -64.3721,-64.0949,-63.8185,-63.5426, -63.2685,-62.8587,-62.5867,-62.3158, -62.0457,-61.7767,-61.5084,-61.2413, -60.9749,-60.7094,-60.4448,-60.1813, -59.5262,-58.8767,-58.3613,-57.8494, -57.3415,-56.8371,-56.3358,-55.8383, -55.3437,-54.8518,-54.3653,-53.7614, -53.2811,-53.1617,-53.1386,-53.1506, -53.1575,-53.1622,-53.1641,-53.1603, -53.1534,-53.1356,-53.1167,-53.0836, -53.0502,-53.0158,-52.9546,-52.949, -52.948,-53.4142,-54.0069,-54.483, -54.8426,-55.3248,-55.8109,-56.3006, -56.6703,-57.165,-57.5403,-58.042, -58.5474,-59.0561,-59.5689,-60.2162, -60.7369,-61.2612,-61.5228,-61.7873, -62.0549,-62.3211,-62.5887,-62.8572, -63.1266,-63.3968,-63.6679,-63.94, -64.213,-64.4871,-64.7621,-65.0378, -65.3121,-65.5847,-65.7207,-65.7701)
FOOTPRINT_POINT_LONGITUDE = (202.342,203.181,203.927,204.676, 205.427,206.182,206.938,207.695,208.454 ,209.215,209.978,210.744,211.993, 212.089,212.201,212.254,212.306,212.38, 212.429,212.475,212.521,212.564,212.606 ,212.649,212.688,212.745,212.782, 212.816,212.851,212.883,212.916,212.947 ,212.978,213.008,213.037,213.065, 213.132,213.195,213.242,213.286,213.326 ,213.365,213.402,213.436,213.47,213.505 ,213.531,213.563,213.59,213.596,213.597 ,212.96,212.412,211.502,211.044,210.317 ,209.681,208.683,207.957,206.958, 206.143,205.419,204.332,204.241,204.208 ,204.184,204.162,204.136,204.115, 204.083,204.048,204.01,203.978,203.929, 203.894,203.838,203.778,203.711,203.64, 203.546,203.459,203.366,203.311,203.26, 203.213,203.157,203.101,203.042,202.981 ,202.918,202.852,202.783,202.712, 202.639,202.563,202.484,202.403,202.32, 202.277,202.342)
ORBIT_NUMBER = 4813
ORBITAL_ECCENTRICITY = 0.57
ORBITAL_INCLINATION = 86.7
ORBITAL_SEMIMAJOR_AXIS = 8568.13
PERIAPSIS_ALTITUDE = 298.85
PERIAPSIS_ARGUMENT_ANGLE = 231.54
PERIAPSIS_TIME = 2007-10-02T09:02:08.000Z
SPACECRAFT_ORIENTATION = (0.0,-1.0,0.0)
^MEX_ORIENTATION_DESC = "MEX_ORIENTATION_DESC.TXT"
SPACECRAFT_POINTING_MODE = NADIR
^MEX_POINTING_DESC = "MEX_POINTING_DESC.TXT"
RIGHT_ASCENSION = -1e+32
DECLINATION = -1e+32
OFFSET_ANGLE = -1e+32
SPACECRAFT_SOLAR_DISTANCE = 2.19883e+08
TARGET_NAME = MARS
/* CAMERA DATA ELEMENTS */
DETECTOR_TEMPERATURE = 18.5744
FOCAL_PLANE_TEMPERATURE = 8.7872
INST_CMPRS_NAME = "DISCRETE COSINE TRANSFORMATION (DCT)"
INST_CMPRS_RATIO = 9.82688
INST_CMPRS_QUALITY = 0
INST_CMPRS_QUANTZ_TBL_ID = 0
INSTRUMENT_TEMPERATURE = 11.234
LENS_TEMPERATURE = 9.195
MACROPIXEL_SIZE = 2
MISSING_FRAMES = 0
PIXEL_SUBSAMPLING_FLAG = N
SIGNAL_CHAIN_ID = 2
/* RADIOMETRIC DATA ELEMENTS */
BANDWIDTH = 88.0
CENTER_FILTER_WAVELENGTH = 538.0
RADIANCE_OFFSET = 1.04221
RADIANCE_SCALING_FACTOR = 0.00447633
REFLECTANCE_SCALING_FACTOR = 0.000186338
MEX:REFLECTANCE_OFFSET = 0.0433843
/* IMAGE OBJECT DEFINITIONS */
OBJECT = IMAGE
  INTERCHANGE_FORMAT = BINARY
  LINES = 7837
  LINE_SAMPLES = 3500
  SAMPLE_TYPE = UNSIGNED_INTEGER
  SAMPLE_BITS = 8
  BANDS = 1
  BAND_STORAGE_TYPE = BAND_SEQUENTIAL
  MAXIMUM = 255
  MEAN = 130.256
  MINIMUM = 1
  STANDARD_DEVIATION = 32.5439
END_OBJECT = IMAGE
/* MAP OBJECT DEFINITIONS */
OBJECT = IMAGE_MAP_PROJECTION
  ^DATA_SET_MAP_PROJECTION_CATALOG= "DSMAP.CAT"
  A_AXIS_RADIUS = 3396.0
  B_AXIS_RADIUS = 3396.0
  C_AXIS_RADIUS = 3396.0
  CENTER_LATITUDE = 0.0
  CENTER_LONGITUDE = 208.0
  COORDINATE_SYSTEM_NAME = PLANETOGRAPHIC
  COORDINATE_SYSTEM_TYPE = "BODY-FIXED ROTATING"
  EASTERNMOST_LONGITUDE = 213.597
  FIRST_STANDARD_PARALLEL = "N/A"
  LINE_FIRST_PIXEL = 1
  LINE_LAST_PIXEL = 7837
  LINE_PROJECTION_OFFSET = -31392.25
  MAP_PROJECTION_ROTATION = 0.0
  MAP_PROJECTION_TYPE = SINUSOIDAL
  MAP_RESOLUTION = 592.713803866667
  MAP_SCALE = 0.1
  MAXIMUM_LATITUDE = -52.948
  MINIMUM_LATITUDE = -66.2029
  POSITIVE_LONGITUDE_DIRECTION = EAST
  REFERENCE_LATITUDE = "N/A"
  REFERENCE_LONGITUDE = "N/A"
  SAMPLE_FIRST_PIXEL = 1
  SAMPLE_LAST_PIXEL = 3500
  SAMPLE_PROJECTION_OFFSET = 1434.25
  SECOND_STANDARD_PARALLEL = "N/A"
  WESTERNMOST_LONGITUDE = 202.277
END_OBJECT = IMAGE_MAP_PROJECTION
END
