PDS_VERSION_ID = PDS3
/* FILE DATA ELEMENTS */
RECORD_TYPE = UNDEFINED
/* POINTERS TO DATA OBJECTS */
^IMAGE = ("H4810_0000_ND4.TIF")
/* IDENTIFICATION DATA ELEMENTS */
DATA_SET_ID = "MEX-M-HRSC-4-REFDR-MAPPROJECT-EXT1-V4.0"
DATA_SET_NAME = "MARS EXPRESS HRSC MAP PROJECTED REFDR EXTENSION1 V4.0"
DETECTOR_ID = MEX_HRSC_NADIR
EVENT_TYPE = "MARS-REGIONAL-CARTOGRAPHY-Gl-La-At"
INSTRUMENT_HOST_ID = MEX
INSTRUMENT_HOST_NAME = "MARS EXPRESS"
INSTRUMENT_ID = HRSC
INSTRUMENT_NAME = "HIGH RESOLUTION STEREO CAMERA"
MISSION_NAME = "MARS EXPRESS"
MISSION_PHASE_NAME = ME_Phase_10
PROCESSING_LEVEL_ID = 4
PRODUCT_CREATION_TIME = 2023-02-11T00:15:54.000Z
PRODUCT_ID = "H4810_0000_ND4.TIF"
RELEASE_ID = 0007
REVISION_ID = 0000
/* QUALITY DATA ELEMENTS */
DATA_QUALITY_ID = 1
DATA_QUALITY_DESC = "Data calculated based on original SPICE kernels"
/* TIME DATA ELEMENTS */
SPACECRAFT_CLOCK_START_COUNT = "1/0139323633.07294"
SPACECRAFT_CLOCK_STOP_COUNT = "1/0139324033.22759"
START_TIME = 2007-10-01T13:01:24.578Z
STOP_TIME = 2007-10-01T13:05:49.561Z
/* ORBITAL DATA ELEMENTS */
ASCENDING_NODE_LONGITUDE = 127.91
MAXIMUM_RESOLUTION = 0.0229
FOOTPRINT_POINT_LATITUDE = (-83.396,-83.4486,-83.4509,-83.4353, -83.4006,-83.3281,-83.3236,-83.2237, -83.6428,-84.0651,-84.6333,-85.3428, -85.9149,-86.3449,-86.9164,-87.6127, -88.0098,-88.4816,-88.6681,-88.799, -88.8484,-88.8113,-88.6897,-88.5013, -88.2678,-88.0028,-87.7165,-87.2596, -86.9402,-86.6117,-86.2772,-85.9365, -85.59,-85.2381,-84.8816,-84.5192, -84.1528,-83.782,-83.4071,-83.0262, -82.6422,-82.2534,-81.8605,-81.4631, -81.0606,-80.6533,-80.2411,-79.8249, -79.6139,-79.5821,-79.6292,-79.6357, -79.6169,-79.5749,-79.5116,-79.4291, -79.4233,-79.4211,-80.0463,-80.4565, -80.8623,-81.2629,-81.6581,-82.0491, -82.4364,-82.8198,-83.1975,-83.569, -83.9368,-84.3004,-84.6596,-85.013, -85.3608,-85.7034,-86.0385,-86.3672, -86.689,-87.0,-87.4458,-87.8557, -88.1007,-88.3111,-88.535,-88.6048, -88.6,-88.5234,-88.3869,-87.9902, -87.5035,-86.9746,-86.5608,-86.0082, -85.4476,-85.0278,-84.4678,-84.0465, -83.4956,-83.3575,-83.396)
FOOTPRINT_POINT_LONGITUDE = (346.336,340.776,337.866,334.888, 331.851,327.989,327.794,326.613,325.992 ,325.309,324.222,322.345,320.337, 318.397,314.944,308.104,301.646,287.801 ,277.378,264.032,248.46,232.495,218.477 ,207.259,198.764,192.32,187.374,181.852 ,179.194,177.002,175.155,173.594, 172.207,171.09,170.103,169.25,168.493, 167.822,167.24,166.758,166.25,165.806, 165.403,165.044,164.726,164.429,164.157 ,163.89,163.779,163.761,160.031,157.131 ,154.315,151.584,148.952,146.418, 146.263,146.186,145.717,145.375,145.014 ,144.604,144.151,143.674,143.163, 142.619,141.998,141.288,140.51,139.653, 138.692,137.606,136.357,134.915,133.243 ,131.284,128.96,126.175,120.811,113.399 ,106.816,98.5451,82.4452,69.6074, 56.3334,43.8408,33.1237,17.4787,7.57743 ,1.10277,357.467,354.118,351.498,349.93 ,348.222,347.143,345.992,345.736, 346.336)
ORBIT_NUMBER = 4810
ORBITAL_ECCENTRICITY = 0.57
ORBITAL_INCLINATION = 86.7
ORBITAL_SEMIMAJOR_AXIS = 8564.21
PERIAPSIS_ALTITUDE = 300.07
PERIAPSIS_ARGUMENT_ANGLE = 232.03
PERIAPSIS_TIME = 2007-10-01T12:52:34.000Z
SPACECRAFT_ORIENTATION = (0.0,-1.0,0.0)
^MEX_ORIENTATION_DESC = "MEX_ORIENTATION_DESC.TXT"
SPACECRAFT_POINTING_MODE = INERT
^MEX_POINTING_DESC = "MEX_POINTING_DESC.TXT"
RIGHT_ASCENSION = 242.54
DECLINATION = 64.635
OFFSET_ANGLE = -1e+32
SPACECRAFT_SOLAR_DISTANCE = 2.19726e+08
TARGET_NAME = MARS
/* CAMERA DATA ELEMENTS */
DETECTOR_TEMPERATURE = 18.1666
FOCAL_PLANE_TEMPERATURE = 9.195
INST_CMPRS_NAME = "DISCRETE COSINE TRANSFORMATION (DCT)"
INST_CMPRS_RATIO = 5.74951
INST_CMPRS_QUALITY = 0
INST_CMPRS_QUANTZ_TBL_ID = 0
INSTRUMENT_TEMPERATURE = 11.4379
LENS_TEMPERATURE = 9.3989
MACROPIXEL_SIZE = 1
MISSING_FRAMES = 0
PIXEL_SUBSAMPLING_FLAG = N
SIGNAL_CHAIN_ID = 0
/* RADIOMETRIC DATA ELEMENTS */
BANDWIDTH = 177.0
CENTER_FILTER_WAVELENGTH = 677.5
RADIANCE_OFFSET = 2.27416
RADIANCE_SCALING_FACTOR = 0.0241874
REFLECTANCE_SCALING_FACTOR = 0.000620356
MEX:REFLECTANCE_OFFSET = 0.0583273
/* IMAGE OBJECT DEFINITIONS */
OBJECT = IMAGE
  INTERCHANGE_FORMAT = BINARY
  LINES = 39105
  LINE_SAMPLES = 22851
  SAMPLE_TYPE = UNSIGNED_INTEGER
  SAMPLE_BITS = 8
  BANDS = 1
  BAND_STORAGE_TYPE = BAND_SEQUENTIAL
  MAXIMUM = 255
  MEAN = 76.8009
  MINIMUM = 1
  STANDARD_DEVIATION = 46.5887
END_OBJECT = IMAGE
/* MAP OBJECT DEFINITIONS */
OBJECT = IMAGE_MAP_PROJECTION
  ^DATA_SET_MAP_PROJECTION_CATALOG= "DSMAP.CAT"
  A_AXIS_RADIUS = 3396.0
  B_AXIS_RADIUS = 3396.0
  C_AXIS_RADIUS = 3396.0
  CENTER_LATITUDE = -90.0
  CENTER_LONGITUDE = 0.0
  COORDINATE_SYSTEM_NAME = PLANETOGRAPHIC
  COORDINATE_SYSTEM_TYPE = "BODY-FIXED ROTATING"
  EASTERNMOST_LONGITUDE = 360.0
  FIRST_STANDARD_PARALLEL = "N/A"
  LINE_FIRST_PIXEL = 1
  LINE_LAST_PIXEL = 39105
  LINE_PROJECTION_OFFSET = 15325.0
  MAP_PROJECTION_ROTATION = 0.0
  MAP_PROJECTION_TYPE = STEREOGRAPHIC
  MAP_RESOLUTION = 2370.85521546667
  MAP_SCALE = 0.025
  MAXIMUM_LATITUDE = -79.4211
  MINIMUM_LATITUDE = -90.0
  POSITIVE_LONGITUDE_DIRECTION = EAST
  REFERENCE_LATITUDE = "N/A"
  REFERENCE_LONGITUDE = "N/A"
  SAMPLE_FIRST_PIXEL = 1
  SAMPLE_LAST_PIXEL = 22851
  SAMPLE_PROJECTION_OFFSET = 8852.0
  SECOND_STANDARD_PARALLEL = "N/A"
  WESTERNMOST_LONGITUDE = 0.0
END_OBJECT = IMAGE_MAP_PROJECTION
END
