PDS_VERSION_ID = PDS3
/* FILE DATA ELEMENTS */
RECORD_TYPE = UNDEFINED
/* POINTERS TO DATA OBJECTS */
^IMAGE = ("H4808_0000_ND4.TIF")
/* IDENTIFICATION DATA ELEMENTS */
DATA_SET_ID = "MEX-M-HRSC-4-REFDR-MAPPROJECT-EXT1-V4.0"
DATA_SET_NAME = "MARS EXPRESS HRSC MAP PROJECTED REFDR EXTENSION1 V4.0"
DETECTOR_ID = MEX_HRSC_NADIR
EVENT_TYPE = "MARS-REGIONAL-MAPPING-Im-Fl"
INSTRUMENT_HOST_ID = MEX
INSTRUMENT_HOST_NAME = "MARS EXPRESS"
INSTRUMENT_ID = HRSC
INSTRUMENT_NAME = "HIGH RESOLUTION STEREO CAMERA"
MISSION_NAME = "MARS EXPRESS"
MISSION_PHASE_NAME = ME_Phase_10
PROCESSING_LEVEL_ID = 4
PRODUCT_CREATION_TIME = 2023-02-11T00:15:54.000Z
PRODUCT_ID = "H4808_0000_ND4.TIF"
RELEASE_ID = 0007
REVISION_ID = 0000
/* QUALITY DATA ELEMENTS */
DATA_QUALITY_ID = 1
DATA_QUALITY_DESC = "Data calculated based on original SPICE kernels"
/* TIME DATA ELEMENTS */
SPACECRAFT_CLOCK_START_COUNT = "1/0139275651.08385"
SPACECRAFT_CLOCK_STOP_COUNT = "1/0139276582.15135"
START_TIME = 2007-09-30T23:42:51.123Z
STOP_TIME = 2007-09-30T23:49:07.085Z
/* ORBITAL DATA ELEMENTS */
ASCENDING_NODE_LONGITUDE = 127.94
MAXIMUM_RESOLUTION = 0.0425
FOOTPRINT_POINT_LATITUDE = (-69.1774,-69.2453,-69.3539,-69.4143, -69.4984,-69.5555,-69.6289,-69.6604, -69.6622,-69.6662,-69.1564,-68.8184, -68.4818,-68.1467,-67.8129,-67.4806, -67.1497,-66.8203,-66.4921,-66.1655, -65.8402,-65.5164,-65.194,-64.8729, -64.5531,-64.2348,-63.9178,-63.6023, -63.2882,-62.9755,-62.664,-62.3539, -62.0452,-61.7377,-61.4316,-61.1269, -60.8235,-60.2206,-59.623,-59.0307, -58.4434,-57.8613,-57.2842,-56.7122, -56.1451,-55.5829,-55.0256,-54.4731, -54.3357,-54.3277,-54.3394,-54.3484, -54.3524,-54.3518,-54.3415,-54.3182, -54.292,-54.2727,-54.2508,-54.2131, -54.1533,-54.1478,-54.1455,-54.6839, -55.2273,-55.7758,-56.3291,-56.8876, -57.4512,-58.02,-58.594,-59.173, -59.7574,-60.3469,-60.9418,-61.5421, -62.1476,-62.4523,-62.7584,-63.0659, -63.3748,-63.6849,-63.9964,-64.3093, -64.6236,-64.9392,-65.2562,-65.5744, -65.8941,-66.215,-66.5372,-66.8608, -67.1857,-67.5119,-67.8394,-68.1683, -68.4984,-68.9962,-69.1627,-69.1774)
FOOTPRINT_POINT_LONGITUDE = (332.408,333.308,334.916,335.93,337.56, 338.892,341.165,342.622,342.727,342.872 ,343.006,343.095,343.179,343.259, 343.335,343.412,343.484,343.554,343.62, 343.685,343.747,343.808,343.866,343.921 ,343.974,344.025,344.074,344.123, 344.171,344.22,344.264,344.306,344.346, 344.385,344.423,344.459,344.494,344.562 ,344.625,344.688,344.743,344.797, 344.846,344.894,344.938,344.979,345.018 ,345.056,345.065,345.066,344.402, 343.642,342.978,342.033,340.9,339.674, 338.73,338.165,337.599,336.75,335.62, 335.526,335.48,335.449,335.416,335.381, 335.337,335.29,335.237,335.181,335.118, 335.041,334.962,334.871,334.773,334.669 ,334.552,334.489,334.424,334.356, 334.286,334.212,334.135,334.056,333.972 ,333.886,333.797,333.702,333.603, 333.499,333.39,333.275,333.156,333.032, 332.9,332.765,332.624,332.399,332.32, 332.408)
ORBIT_NUMBER = 4808
ORBITAL_ECCENTRICITY = 0.57
ORBITAL_INCLINATION = 86.7
ORBITAL_SEMIMAJOR_AXIS = 8563.51
PERIAPSIS_ALTITUDE = 299.67
PERIAPSIS_ARGUMENT_ANGLE = 232.39
PERIAPSIS_TIME = 2007-09-30T23:26:16.000Z
SPACECRAFT_ORIENTATION = (0.0,-1.0,0.0)
^MEX_ORIENTATION_DESC = "MEX_ORIENTATION_DESC.TXT"
SPACECRAFT_POINTING_MODE = NADIR
^MEX_POINTING_DESC = "MEX_POINTING_DESC.TXT"
RIGHT_ASCENSION = -1e+32
DECLINATION = -1e+32
OFFSET_ANGLE = -1e+32
SPACECRAFT_SOLAR_DISTANCE = 2.19622e+08
TARGET_NAME = MARS
/* CAMERA DATA ELEMENTS */
DETECTOR_TEMPERATURE = 18.5744
FOCAL_PLANE_TEMPERATURE = 9.195
INST_CMPRS_NAME = "DISCRETE COSINE TRANSFORMATION (DCT)"
INST_CMPRS_RATIO = 7.31978
INST_CMPRS_QUALITY = 0
INST_CMPRS_QUANTZ_TBL_ID = 0
INSTRUMENT_TEMPERATURE = 11.234
LENS_TEMPERATURE = 9.6028
MACROPIXEL_SIZE = 1
MISSING_FRAMES = 0
PIXEL_SUBSAMPLING_FLAG = N
SIGNAL_CHAIN_ID = 0
/* RADIOMETRIC DATA ELEMENTS */
BANDWIDTH = 177.0
CENTER_FILTER_WAVELENGTH = 677.5
RADIANCE_OFFSET = 2.59061
RADIANCE_SCALING_FACTOR = 0.0151608
REFLECTANCE_SCALING_FACTOR = 0.000388476
MEX:REFLECTANCE_OFFSET = 0.0663813
/* IMAGE OBJECT DEFINITIONS */
OBJECT = IMAGE
  INTERCHANGE_FORMAT = BINARY
  LINES = 18400
  LINE_SAMPLES = 6741
  SAMPLE_TYPE = UNSIGNED_INTEGER
  SAMPLE_BITS = 8
  BANDS = 1
  BAND_STORAGE_TYPE = BAND_SEQUENTIAL
  MAXIMUM = 255
  MEAN = 136.95
  MINIMUM = 1
  STANDARD_DEVIATION = 34.3376
END_OBJECT = IMAGE
/* MAP OBJECT DEFINITIONS */
OBJECT = IMAGE_MAP_PROJECTION
  ^DATA_SET_MAP_PROJECTION_CATALOG= "DSMAP.CAT"
  A_AXIS_RADIUS = 3396.0
  B_AXIS_RADIUS = 3396.0
  C_AXIS_RADIUS = 3396.0
  CENTER_LATITUDE = 0.0
  CENTER_LONGITUDE = 340.0
  COORDINATE_SYSTEM_NAME = PLANETOGRAPHIC
  COORDINATE_SYSTEM_TYPE = "BODY-FIXED ROTATING"
  EASTERNMOST_LONGITUDE = 345.066
  FIRST_STANDARD_PARALLEL = "N/A"
  LINE_FIRST_PIXEL = 1
  LINE_LAST_PIXEL = 18400
  LINE_PROJECTION_OFFSET = -64186.0
  MAP_PROJECTION_ROTATION = 0.0
  MAP_PROJECTION_TYPE = SINUSOIDAL
  MAP_RESOLUTION = 1185.42760773333
  MAP_SCALE = 0.05
  MAXIMUM_LATITUDE = -54.1455
  MINIMUM_LATITUDE = -69.6662
  POSITIVE_LONGITUDE_DIRECTION = EAST
  REFERENCE_LATITUDE = "N/A"
  REFERENCE_LONGITUDE = "N/A"
  SAMPLE_FIRST_PIXEL = 1
  SAMPLE_LAST_PIXEL = 6741
  SAMPLE_PROJECTION_OFFSET = 3238.0
  SECOND_STANDARD_PARALLEL = "N/A"
  WESTERNMOST_LONGITUDE = 332.32
END_OBJECT = IMAGE_MAP_PROJECTION
END
