PDS_VERSION_ID = PDS3
/* FILE DATA ELEMENTS */
RECORD_TYPE = UNDEFINED
/* POINTERS TO DATA OBJECTS */
^IMAGE = ("H4808_0000_IR4.TIF")
/* IDENTIFICATION DATA ELEMENTS */
DATA_SET_ID = "MEX-M-HRSC-4-REFDR-MAPPROJECT-EXT1-V4.0"
DATA_SET_NAME = "MARS EXPRESS HRSC MAP PROJECTED REFDR EXTENSION1 V4.0"
DETECTOR_ID = MEX_HRSC_IR
EVENT_TYPE = "MARS-REGIONAL-MAPPING-Im-Fl"
INSTRUMENT_HOST_ID = MEX
INSTRUMENT_HOST_NAME = "MARS EXPRESS"
INSTRUMENT_ID = HRSC
INSTRUMENT_NAME = "HIGH RESOLUTION STEREO CAMERA"
MISSION_NAME = "MARS EXPRESS"
MISSION_PHASE_NAME = ME_Phase_10
PROCESSING_LEVEL_ID = 4
PRODUCT_CREATION_TIME = 2023-02-11T00:15:54.000Z
PRODUCT_ID = "H4808_0000_IR4.TIF"
RELEASE_ID = 0007
REVISION_ID = 0000
/* QUALITY DATA ELEMENTS */
DATA_QUALITY_ID = 1
DATA_QUALITY_DESC = "Data calculated based on original SPICE kernels"
/* TIME DATA ELEMENTS */
SPACECRAFT_CLOCK_START_COUNT = "1/0139275651.08385"
SPACECRAFT_CLOCK_STOP_COUNT = "1/0139276582.15135"
START_TIME = 2007-09-30T23:41:12.458Z
STOP_TIME = 2007-09-30T23:46:13.623Z
/* ORBITAL DATA ELEMENTS */
ASCENDING_NODE_LONGITUDE = 127.94
MAXIMUM_RESOLUTION = 0.0788
FOOTPRINT_POINT_LATITUDE = (-69.308,-69.3983,-69.4976,-69.5531, -69.6312,-69.6848,-69.7388,-69.7836, -69.7856,-69.6982,-69.2701,-68.6857, -68.0962,-67.4987,-67.1962,-66.8916, -66.5851,-66.2778,-65.8107,-65.4981, -65.0228,-64.706,-64.3866,-64.0669, -63.7483,-63.4293,-63.1091,-62.7905, -62.4734,-62.1586,-61.846,-61.5338, -61.066,-60.7561,-60.2919,-59.985, -59.6754,-59.2114,-58.905,-58.4493, -58.1456,-57.6897,-57.0877,-56.7859, -56.1887,-55.5931,-55.1477,-54.557, -54.4099,-54.4076,-54.4124,-54.4117, -54.3989,-54.3796,-54.3634,-54.3384, -54.3113,-54.2775,-54.2374,-54.1745, -54.1399,-54.1333,-54.1321,-54.5639, -55.4376,-56.0247,-56.7663,-57.2153, -57.8162,-58.1178,-58.4209,-59.1752, -59.6304,-59.9349,-60.2403,-60.5466, -60.8542,-61.1631,-61.6262,-61.9357, -62.2463,-62.5573,-62.8705,-63.1835, -63.5,-63.9708,-64.4448,-64.7631, -65.0758,-65.385,-65.6929,-65.998, -66.3008,-66.8979,-67.4877,-68.0695, -68.6399,-69.0691,-69.209,-69.308)
FOOTPRINT_POINT_LONGITUDE = (333.012,334.147,335.556,336.442,337.87 ,339.037,340.482,342.121,342.212, 342.355,342.469,342.622,342.765,342.901 ,342.968,343.033,343.096,343.156, 343.246,343.302,343.387,343.439,343.49, 343.54,343.588,343.636,343.684,343.729, 343.773,343.814,343.852,343.889,343.944 ,343.978,344.028,344.058,344.09,344.138 ,344.166,344.206,344.232,344.271, 344.317,344.341,344.383,344.423,344.452 ,344.488,344.496,344.496,343.861, 343.145,342.114,341.244,340.69,339.9, 339.269,338.559,337.851,336.985,336.437 ,336.358,336.33,336.298,336.228,336.176 ,336.103,336.056,335.988,335.951, 335.913,335.808,335.739,335.691,335.64, 335.588,335.534,335.477,335.388,335.325 ,335.26,335.191,335.121,335.048,334.973 ,334.852,334.725,334.64,334.55,334.458, 334.362,334.264,334.163,333.951,333.727 ,333.491,333.239,333.044,332.976, 333.012)
ORBIT_NUMBER = 4808
ORBITAL_ECCENTRICITY = 0.57
ORBITAL_INCLINATION = 86.7
ORBITAL_SEMIMAJOR_AXIS = 8563.51
PERIAPSIS_ALTITUDE = 299.67
PERIAPSIS_ARGUMENT_ANGLE = 232.39
PERIAPSIS_TIME = 2007-09-30T23:26:16.000Z
SPACECRAFT_ORIENTATION = (0.0,-1.0,0.0)
^MEX_ORIENTATION_DESC = "MEX_ORIENTATION_DESC.TXT"
SPACECRAFT_POINTING_MODE = NADIR
^MEX_POINTING_DESC = "MEX_POINTING_DESC.TXT"
RIGHT_ASCENSION = -1e+32
DECLINATION = -1e+32
OFFSET_ANGLE = -1e+32
SPACECRAFT_SOLAR_DISTANCE = 2.19622e+08
TARGET_NAME = MARS
/* CAMERA DATA ELEMENTS */
DETECTOR_TEMPERATURE = 17.7588
FOCAL_PLANE_TEMPERATURE = 9.195
INST_CMPRS_NAME = "DISCRETE COSINE TRANSFORMATION (DCT)"
INST_CMPRS_RATIO = 8.19285
INST_CMPRS_QUALITY = 0
INST_CMPRS_QUANTZ_TBL_ID = 0
INSTRUMENT_TEMPERATURE = 11.234
LENS_TEMPERATURE = 9.6028
MACROPIXEL_SIZE = 2
MISSING_FRAMES = 0
PIXEL_SUBSAMPLING_FLAG = N
SIGNAL_CHAIN_ID = 3
/* RADIOMETRIC DATA ELEMENTS */
BANDWIDTH = 81.0
CENTER_FILTER_WAVELENGTH = 955.5
RADIANCE_OFFSET = 0.659597
RADIANCE_SCALING_FACTOR = 0.00354336
REFLECTANCE_SCALING_FACTOR = 0.000368724
MEX:REFLECTANCE_OFFSET = 0.068638
/* IMAGE OBJECT DEFINITIONS */
OBJECT = IMAGE
  INTERCHANGE_FORMAT = BINARY
  LINES = 9200
  LINE_SAMPLES = 3371
  SAMPLE_TYPE = UNSIGNED_INTEGER
  SAMPLE_BITS = 8
  BANDS = 1
  BAND_STORAGE_TYPE = BAND_SEQUENTIAL
  MAXIMUM = 255
  MEAN = 135.54
  MINIMUM = 1
  STANDARD_DEVIATION = 34.3304
END_OBJECT = IMAGE
/* MAP OBJECT DEFINITIONS */
OBJECT = IMAGE_MAP_PROJECTION
  ^DATA_SET_MAP_PROJECTION_CATALOG= "DSMAP.CAT"
  A_AXIS_RADIUS = 3396.0
  B_AXIS_RADIUS = 3396.0
  C_AXIS_RADIUS = 3396.0
  CENTER_LATITUDE = 0.0
  CENTER_LONGITUDE = 340.0
  COORDINATE_SYSTEM_NAME = PLANETOGRAPHIC
  COORDINATE_SYSTEM_TYPE = "BODY-FIXED ROTATING"
  EASTERNMOST_LONGITUDE = 344.496
  FIRST_STANDARD_PARALLEL = "N/A"
  LINE_FIRST_PIXEL = 1
  LINE_LAST_PIXEL = 9200
  LINE_PROJECTION_OFFSET = -32093.25
  MAP_PROJECTION_ROTATION = 0.0
  MAP_PROJECTION_TYPE = SINUSOIDAL
  MAP_RESOLUTION = 592.713803866667
  MAP_SCALE = 0.1
  MAXIMUM_LATITUDE = -54.1321
  MINIMUM_LATITUDE = -69.7856
  POSITIVE_LONGITUDE_DIRECTION = EAST
  REFERENCE_LATITUDE = "N/A"
  REFERENCE_LONGITUDE = "N/A"
  SAMPLE_FIRST_PIXEL = 1
  SAMPLE_LAST_PIXEL = 3371
  SAMPLE_PROJECTION_OFFSET = 1618.75
  SECOND_STANDARD_PARALLEL = "N/A"
  WESTERNMOST_LONGITUDE = 332.976
END_OBJECT = IMAGE_MAP_PROJECTION
END
