PDS_VERSION_ID = PDS3
/* FILE DATA ELEMENTS */
RECORD_TYPE = UNDEFINED
/* POINTERS TO DATA OBJECTS */
^IMAGE = ("H4803_0000_S24.TIF")
/* IDENTIFICATION DATA ELEMENTS */
DATA_SET_ID = "MEX-M-HRSC-4-REFDR-MAPPROJECT-EXT1-V4.0"
DATA_SET_NAME = "MARS EXPRESS HRSC MAP PROJECTED REFDR EXTENSION1 V4.0"
DETECTOR_ID = MEX_HRSC_S2
EVENT_TYPE = "MARS-REGIONAL-MAPPING-Im-Lc"
INSTRUMENT_HOST_ID = MEX
INSTRUMENT_HOST_NAME = "MARS EXPRESS"
INSTRUMENT_ID = HRSC
INSTRUMENT_NAME = "HIGH RESOLUTION STEREO CAMERA"
MISSION_NAME = "MARS EXPRESS"
MISSION_PHASE_NAME = ME_Phase_10
PROCESSING_LEVEL_ID = 4
PRODUCT_CREATION_TIME = 2023-02-11T00:15:54.000Z
PRODUCT_ID = "H4803_0000_S24.TIF"
RELEASE_ID = 0007
REVISION_ID = 0000
/* QUALITY DATA ELEMENTS */
DATA_QUALITY_ID = 1
DATA_QUALITY_DESC = "Data calculated based on original SPICE kernels"
/* TIME DATA ELEMENTS */
SPACECRAFT_CLOCK_START_COUNT = "1/0139154764.08250"
SPACECRAFT_CLOCK_STOP_COUNT = "1/0139155783.49308"
START_TIME = 2007-09-29T14:12:05.925Z
STOP_TIME = 2007-09-29T14:23:05.867Z
/* ORBITAL DATA ELEMENTS */
ASCENDING_NODE_LONGITUDE = 128.05
MAXIMUM_RESOLUTION = 0.1308
FOOTPRINT_POINT_LATITUDE = (-64.4746,-64.5312,-64.5765,-64.617, -64.6528,-64.684,-64.7104,-64.7323, -64.7495,-64.762,-64.7697,-64.7727, -64.7672,-64.7663,-64.8859,-64.509, -64.1242,-63.7504,-63.3878,-63.0279, -62.6713,-62.3203,-61.9854,-61.6412, -61.2863,-60.9483,-60.618,-59.8016, -59.1643,-58.5406,-58.0948,-57.4926, -56.7558,-56.0478,-55.4955,-55.0898, -54.6918,-54.2952,-53.7759,-53.2644, -52.7712,-52.4187,-51.8271,-51.3663, -50.9149,-50.4789,-50.37,-50.3442, -50.3853,-50.4324,-50.4757,-50.5377, -50.5736,-50.6086,-50.6428,-50.6986, -50.7357,-50.7654,-50.7921,-50.8317, -50.8728,-50.8938,-50.9194,-50.9428, -50.9662,-50.9895,-51.0302,-51.0504, -51.0536,-51.0554,-51.6179,-52.1321, -52.5331,-52.9676,-53.3014,-53.7496, -54.0929,-54.5586,-54.9243,-55.4182, -56.0424,-56.5627,-57.0952,-57.6506, -58.3552,-58.7906,-59.3863,-59.9995, -60.6267,-61.1062,-61.608,-62.2589, -62.6003,-62.9435,-63.292,-63.6396, -63.9966,-64.3552,-64.5359,-64.4746)
FOOTPRINT_POINT_LONGITUDE = (104.514,105.595,106.557,107.52,108.485 ,109.45,110.417,111.385,112.354,113.324 ,114.297,115.272,116.862,116.985, 117.121,117.208,117.282,117.36,117.441, 117.52,117.596,117.671,117.754,117.826, 117.885,117.952,118.022,118.185,118.311 ,118.433,118.533,118.648,118.787,118.93 ,119.043,119.127,119.21,119.29,119.395, 119.496,119.603,119.69,119.823,119.929, 120.036,120.146,120.173,120.179,119.617 ,118.906,118.196,117.352,116.788, 116.225,115.662,114.677,113.973,113.41, 112.562,111.574,110.584,110.017,109.448 ,108.878,108.023,107.164,106.579, 105.712,105.567,105.515,105.545,105.554 ,105.571,105.574,105.574,105.575, 105.575,105.573,105.564,105.551,105.536 ,105.515,105.488,105.45,105.398,105.36, 105.3,105.229,105.147,105.08,104.993, 104.894,104.829,104.763,104.691,104.62, 104.539,104.455,104.411,104.514)
ORBIT_NUMBER = 4803
ORBITAL_ECCENTRICITY = 0.57
ORBITAL_INCLINATION = 86.7
ORBITAL_SEMIMAJOR_AXIS = 8561.64
PERIAPSIS_ALTITUDE = 298.93
PERIAPSIS_ARGUMENT_ANGLE = 233.27
PERIAPSIS_TIME = 2007-09-29T13:50:20.000Z
SPACECRAFT_ORIENTATION = (0.0,-1.0,0.0)
^MEX_ORIENTATION_DESC = "MEX_ORIENTATION_DESC.TXT"
SPACECRAFT_POINTING_MODE = NADIR
^MEX_POINTING_DESC = "MEX_POINTING_DESC.TXT"
RIGHT_ASCENSION = -1e+32
DECLINATION = -1e+32
OFFSET_ANGLE = -1e+32
SPACECRAFT_SOLAR_DISTANCE = 2.19362e+08
TARGET_NAME = MARS
/* CAMERA DATA ELEMENTS */
DETECTOR_TEMPERATURE = 19.1861
FOCAL_PLANE_TEMPERATURE = 8.7872
INST_CMPRS_NAME = "DISCRETE COSINE TRANSFORMATION (DCT)"
INST_CMPRS_RATIO = 11.0633
INST_CMPRS_QUALITY = 0
INST_CMPRS_QUANTZ_TBL_ID = 0
INSTRUMENT_TEMPERATURE = 12.4574
LENS_TEMPERATURE = 9.3989
MACROPIXEL_SIZE = 2
MISSING_FRAMES = 0
PIXEL_SUBSAMPLING_FLAG = N
SIGNAL_CHAIN_ID = 1
/* RADIOMETRIC DATA ELEMENTS */
BANDWIDTH = 178.0
CENTER_FILTER_WAVELENGTH = 679.0
RADIANCE_OFFSET = 3.63474
RADIANCE_SCALING_FACTOR = 0.019929
REFLECTANCE_SCALING_FACTOR = 0.000507864
MEX:REFLECTANCE_OFFSET = 0.0926263
/* IMAGE OBJECT DEFINITIONS */
OBJECT = IMAGE
  INTERCHANGE_FORMAT = BINARY
  LINES = 8503
  LINE_SAMPLES = 3553
  SAMPLE_TYPE = UNSIGNED_INTEGER
  SAMPLE_BITS = 8
  BANDS = 1
  BAND_STORAGE_TYPE = BAND_SEQUENTIAL
  MAXIMUM = 227
  MEAN = 108.093
  MINIMUM = 1
  STANDARD_DEVIATION = 36.1026
END_OBJECT = IMAGE
/* MAP OBJECT DEFINITIONS */
OBJECT = IMAGE_MAP_PROJECTION
  ^DATA_SET_MAP_PROJECTION_CATALOG= "DSMAP.CAT"
  A_AXIS_RADIUS = 3396.0
  B_AXIS_RADIUS = 3396.0
  C_AXIS_RADIUS = 3396.0
  CENTER_LATITUDE = 0.0
  CENTER_LONGITUDE = 111.0
  COORDINATE_SYSTEM_NAME = PLANETOGRAPHIC
  COORDINATE_SYSTEM_TYPE = "BODY-FIXED ROTATING"
  EASTERNMOST_LONGITUDE = 120.179
  FIRST_STANDARD_PARALLEL = "N/A"
  LINE_FIRST_PIXEL = 1
  LINE_LAST_PIXEL = 8503
  LINE_PROJECTION_OFFSET = -30004.25
  MAP_PROJECTION_ROTATION = 0.0
  MAP_PROJECTION_TYPE = SINUSOIDAL
  MAP_RESOLUTION = 592.713803866667
  MAP_SCALE = 0.1
  MAXIMUM_LATITUDE = -50.3442
  MINIMUM_LATITUDE = -64.88590000000001
  POSITIVE_LONGITUDE_DIRECTION = EAST
  REFERENCE_LATITUDE = "N/A"
  REFERENCE_LONGITUDE = "N/A"
  SAMPLE_FIRST_PIXEL = 1
  SAMPLE_LAST_PIXEL = 3553
  SAMPLE_PROJECTION_OFFSET = 1462.25
  SECOND_STANDARD_PARALLEL = "N/A"
  WESTERNMOST_LONGITUDE = 104.411
END_OBJECT = IMAGE_MAP_PROJECTION
END
