PDS_VERSION_ID = PDS3
/* FILE DATA ELEMENTS */
RECORD_TYPE = UNDEFINED
/* POINTERS TO DATA OBJECTS */
^IMAGE = ("H4799_0000_ND4.TIF")
/* IDENTIFICATION DATA ELEMENTS */
DATA_SET_ID = "MEX-M-HRSC-4-REFDR-MAPPROJECT-EXT1-V4.0"
DATA_SET_NAME = "MARS EXPRESS HRSC MAP PROJECTED REFDR EXTENSION1 V4.0"
DETECTOR_ID = MEX_HRSC_NADIR
EVENT_TYPE = "MARS-REGIONAL-MAPPING-Gl-Ot"
INSTRUMENT_HOST_ID = MEX
INSTRUMENT_HOST_NAME = "MARS EXPRESS"
INSTRUMENT_ID = HRSC
INSTRUMENT_NAME = "HIGH RESOLUTION STEREO CAMERA"
MISSION_NAME = "MARS EXPRESS"
MISSION_PHASE_NAME = ME_Phase_10
PROCESSING_LEVEL_ID = 4
PRODUCT_CREATION_TIME = 2023-02-11T00:15:54.000Z
PRODUCT_ID = "H4799_0000_ND4.TIF"
RELEASE_ID = 0007
REVISION_ID = 0000
/* QUALITY DATA ELEMENTS */
DATA_QUALITY_ID = 1
DATA_QUALITY_DESC = "Data calculated based on original SPICE kernels"
/* TIME DATA ELEMENTS */
SPACECRAFT_CLOCK_START_COUNT = "1/0139057690.09068"
SPACECRAFT_CLOCK_STOP_COUNT = "1/0139058402.27718"
START_TIME = 2007-09-28T11:09:25.102Z
STOP_TIME = 2007-09-28T11:16:03.162Z
/* ORBITAL DATA ELEMENTS */
ASCENDING_NODE_LONGITUDE = 128.13
MAXIMUM_RESOLUTION = 0.0289
FOOTPRINT_POINT_LATITUDE = (-80.9173,-81.1245,-81.2841,-81.431, -81.598,-81.8347,-81.8407,-81.8532, -81.2486,-80.6318,-80.0031,-79.3632, -78.7116,-78.0486,-77.3744,-76.6881, -75.9902,-75.6367,-75.2806,-74.9216, -74.5585,-74.193,-73.8243,-73.4531, -73.0785,-72.7001,-72.3186,-71.9338, -71.5458,-71.1544,-70.7598,-70.3614, -69.9597,-69.5545,-69.1456,-68.7333, -68.3171,-67.8972,-67.4741,-67.0467, -66.6158,-66.1809,-65.7421,-65.299, -64.8521,-64.401,-63.9457,-63.2551, -63.0229,-62.9996,-62.9823,-62.9551, -62.9193,-62.8572,-62.798,-62.7289, -62.6558,-62.6493,-62.6467,-63.3284, -63.7778,-64.2231,-64.6641,-65.1012, -65.5342,-65.9634,-66.3883,-66.8096, -67.2268,-67.6404,-68.0505,-68.4565, -68.8592,-69.2578,-69.6533,-70.0447, -70.4328,-70.8174,-71.198,-71.5762, -71.9506,-72.3205,-72.6876,-73.0517, -73.4123,-73.7697,-74.1234,-74.4733, -75.1635,-75.8402,-76.5034,-77.1535, -77.7901,-78.4113,-79.0182,-79.6129, -80.1902,-80.7521,-80.8895,-80.9173)
FOOTPRINT_POINT_LONGITUDE = (122.073,124.555,126.706,128.934, 131.858,137.203,137.37,137.672,138.797, 139.812,140.689,141.478,142.188,142.821 ,143.397,143.916,144.393,144.617, 144.833,145.046,145.231,145.42,145.602, 145.781,145.951,146.115,146.266,146.41, 146.554,146.692,146.826,146.953,147.076 ,147.194,147.308,147.417,147.523, 147.625,147.724,147.82,147.917,148.0, 148.088,148.168,148.246,148.323,148.401 ,148.51,148.544,148.547,146.874,145.576 ,144.375,142.81,141.616,140.426,139.329 ,139.238,139.193,139.044,138.937, 138.825,138.705,138.582,138.455,138.327 ,138.184,138.033,137.879,137.719, 137.554,137.381,137.201,137.014,136.819 ,136.616,136.407,136.188,135.961, 135.732,135.484,135.218,134.955,134.682 ,134.394,134.093,133.778,133.448, 132.745,131.976,131.133,130.219,129.215 ,128.1,126.873,125.538,124.042,122.377, 121.934,122.073)
ORBIT_NUMBER = 4799
ORBITAL_ECCENTRICITY = 0.57
ORBITAL_INCLINATION = 86.69
ORBITAL_SEMIMAJOR_AXIS = 8561.35
PERIAPSIS_ALTITUDE = 299.79
PERIAPSIS_ARGUMENT_ANGLE = 233.95
PERIAPSIS_TIME = 2007-09-28T10:57:32.000Z
SPACECRAFT_ORIENTATION = (0.0,-1.0,0.0)
^MEX_ORIENTATION_DESC = "MEX_ORIENTATION_DESC.TXT"
SPACECRAFT_POINTING_MODE = NADIR
^MEX_POINTING_DESC = "MEX_POINTING_DESC.TXT"
RIGHT_ASCENSION = -1e+32
DECLINATION = -1e+32
OFFSET_ANGLE = -1e+32
SPACECRAFT_SOLAR_DISTANCE = 2.19155e+08
TARGET_NAME = MARS
/* CAMERA DATA ELEMENTS */
DETECTOR_TEMPERATURE = 18.1666
FOCAL_PLANE_TEMPERATURE = 8.1755
INST_CMPRS_NAME = "DISCRETE COSINE TRANSFORMATION (DCT)"
INST_CMPRS_RATIO = 6.87869
INST_CMPRS_QUALITY = 0
INST_CMPRS_QUANTZ_TBL_ID = 0
INSTRUMENT_TEMPERATURE = 11.4379
LENS_TEMPERATURE = 8.9911
MACROPIXEL_SIZE = 1
MISSING_FRAMES = 0
PIXEL_SUBSAMPLING_FLAG = N
SIGNAL_CHAIN_ID = 0
/* RADIOMETRIC DATA ELEMENTS */
BANDWIDTH = 177.0
CENTER_FILTER_WAVELENGTH = 677.5
RADIANCE_OFFSET = 2.5937
RADIANCE_SCALING_FACTOR = 0.0140409
REFLECTANCE_SCALING_FACTOR = 0.000358252
MEX:REFLECTANCE_OFFSET = 0.0661779
/* IMAGE OBJECT DEFINITIONS */
OBJECT = IMAGE
  INTERCHANGE_FORMAT = BINARY
  LINES = 45538
  LINE_SAMPLES = 15989
  SAMPLE_TYPE = UNSIGNED_INTEGER
  SAMPLE_BITS = 8
  BANDS = 1
  BAND_STORAGE_TYPE = BAND_SEQUENTIAL
  MAXIMUM = 255
  MEAN = 109.327
  MINIMUM = 1
  STANDARD_DEVIATION = 42.2071
END_OBJECT = IMAGE
/* MAP OBJECT DEFINITIONS */
OBJECT = IMAGE_MAP_PROJECTION
  ^DATA_SET_MAP_PROJECTION_CATALOG= "DSMAP.CAT"
  A_AXIS_RADIUS = 3396.0
  B_AXIS_RADIUS = 3396.0
  C_AXIS_RADIUS = 3396.0
  CENTER_LATITUDE = 0.0
  CENTER_LONGITUDE = 140.0
  COORDINATE_SYSTEM_NAME = PLANETOGRAPHIC
  COORDINATE_SYSTEM_TYPE = "BODY-FIXED ROTATING"
  EASTERNMOST_LONGITUDE = 148.547
  FIRST_STANDARD_PARALLEL = "N/A"
  LINE_FIRST_PIXEL = 1
  LINE_LAST_PIXEL = 45538
  LINE_PROJECTION_OFFSET = -148527.0
  MAP_PROJECTION_ROTATION = 0.0
  MAP_PROJECTION_TYPE = SINUSOIDAL
  MAP_RESOLUTION = 2370.85521546667
  MAP_SCALE = 0.025
  MAXIMUM_LATITUDE = -62.6467
  MINIMUM_LATITUDE = -81.8532
  POSITIVE_LONGITUDE_DIRECTION = EAST
  REFERENCE_LATITUDE = "N/A"
  REFERENCE_LONGITUDE = "N/A"
  SAMPLE_FIRST_PIXEL = 1
  SAMPLE_LAST_PIXEL = 15989
  SAMPLE_PROJECTION_OFFSET = 6788.0
  SECOND_STANDARD_PARALLEL = "N/A"
  WESTERNMOST_LONGITUDE = 121.934
END_OBJECT = IMAGE_MAP_PROJECTION
END
