PDS_VERSION_ID = PDS3
/* FILE DATA ELEMENTS */
RECORD_TYPE = UNDEFINED
/* POINTERS TO DATA OBJECTS */
^IMAGE = ("H4799_0000_GR4.TIF")
/* IDENTIFICATION DATA ELEMENTS */
DATA_SET_ID = "MEX-M-HRSC-4-REFDR-MAPPROJECT-EXT1-V4.0"
DATA_SET_NAME = "MARS EXPRESS HRSC MAP PROJECTED REFDR EXTENSION1 V4.0"
DETECTOR_ID = MEX_HRSC_GREEN
EVENT_TYPE = "MARS-REGIONAL-MAPPING-Gl-Ot"
INSTRUMENT_HOST_ID = MEX
INSTRUMENT_HOST_NAME = "MARS EXPRESS"
INSTRUMENT_ID = HRSC
INSTRUMENT_NAME = "HIGH RESOLUTION STEREO CAMERA"
MISSION_NAME = "MARS EXPRESS"
MISSION_PHASE_NAME = ME_Phase_10
PROCESSING_LEVEL_ID = 4
PRODUCT_CREATION_TIME = 2023-02-11T00:15:54.000Z
PRODUCT_ID = "H4799_0000_GR4.TIF"
RELEASE_ID = 0007
REVISION_ID = 0000
/* QUALITY DATA ELEMENTS */
DATA_QUALITY_ID = 1
DATA_QUALITY_DESC = "Data calculated based on original SPICE kernels"
/* TIME DATA ELEMENTS */
SPACECRAFT_CLOCK_START_COUNT = "1/0139057690.09068"
SPACECRAFT_CLOCK_STOP_COUNT = "1/0139058402.27718"
START_TIME = 2007-09-28T11:09:11.735Z
STOP_TIME = 2007-09-28T11:15:35.635Z
/* ORBITAL DATA ELEMENTS */
ASCENDING_NODE_LONGITUDE = 128.13
MAXIMUM_RESOLUTION = 0.0567
FOOTPRINT_POINT_LATITUDE = (-80.9519,-81.2871,-81.4593,-81.5974, -81.721,-81.86,-81.866,-81.8593, -81.2564,-80.7955,-80.1724,-79.5363, -78.5551,-77.8904,-77.2143,-76.5269, -75.8271,-75.4725,-75.1148,-74.754, -74.391,-74.0243,-73.6539,-73.2804, -72.9031,-72.5238,-72.1411,-71.7553, -71.3655,-70.9724,-70.5756,-70.1758, -69.7723,-69.3652,-68.9546,-68.5403, -68.1222,-67.7006,-67.2749,-66.8454, -66.4125,-65.9748,-65.5335,-65.0888, -64.6398,-64.1856,-63.7275,-63.265, -63.0322,-63.01,-62.9942,-62.951, -62.9189,-62.8719,-62.7959,-62.6539, -62.6475,-62.6464,-63.3315,-63.7824, -64.2291,-64.6709,-65.1084,-65.5431, -65.975,-66.3999,-66.8214,-67.2388, -67.6528,-68.0634,-68.47,-68.8727, -69.2724,-69.6677,-70.0595,-70.4483, -70.8331,-71.2144,-71.5947,-71.9681, -72.3374,-72.7056,-73.071,-73.4317, -73.789,-74.1425,-74.4927,-74.8392, -75.1829,-75.859,-76.5209,-77.1712, -77.8076,-78.5869,-79.1889,-79.6342, -80.2105,-80.7712,-80.9091,-80.9519)
FOOTPRINT_POINT_LONGITUDE = (122.133,126.307,128.872,131.232, 133.668,136.977,137.138,137.445,138.579 ,139.361,140.271,141.09,142.165,142.789 ,143.353,143.864,144.334,144.556, 144.769,144.972,145.159,145.346,145.526 ,145.701,145.873,146.031,146.18,146.321 ,146.463,146.6,146.731,146.856,146.977, 147.093,147.205,147.313,147.417,147.517 ,147.614,147.707,147.797,147.886,147.97 ,148.05,148.125,148.203,148.278,148.349 ,148.383,148.387,147.064,145.214, 144.249,143.113,141.63,139.46,139.374, 139.342,139.19,139.083,138.969,138.849, 138.724,138.595,138.465,138.322,138.172 ,138.015,137.855,137.688,137.514, 137.334,137.146,136.951,136.747,136.537 ,136.317,136.09,135.86,135.609,135.347, 135.082,134.809,134.518,134.216,133.901 ,133.57,133.225,132.867,132.097,131.256 ,130.343,129.338,127.921,126.666, 125.651,124.156,122.493,122.048, 122.133)
ORBIT_NUMBER = 4799
ORBITAL_ECCENTRICITY = 0.57
ORBITAL_INCLINATION = 86.69
ORBITAL_SEMIMAJOR_AXIS = 8561.35
PERIAPSIS_ALTITUDE = 299.79
PERIAPSIS_ARGUMENT_ANGLE = 233.95
PERIAPSIS_TIME = 2007-09-28T10:57:32.000Z
SPACECRAFT_ORIENTATION = (0.0,-1.0,0.0)
^MEX_ORIENTATION_DESC = "MEX_ORIENTATION_DESC.TXT"
SPACECRAFT_POINTING_MODE = NADIR
^MEX_POINTING_DESC = "MEX_POINTING_DESC.TXT"
RIGHT_ASCENSION = -1e+32
DECLINATION = -1e+32
OFFSET_ANGLE = -1e+32
SPACECRAFT_SOLAR_DISTANCE = 2.19155e+08
TARGET_NAME = MARS
/* CAMERA DATA ELEMENTS */
DETECTOR_TEMPERATURE = 18.1666
FOCAL_PLANE_TEMPERATURE = 8.1755
INST_CMPRS_NAME = "DISCRETE COSINE TRANSFORMATION (DCT)"
INST_CMPRS_RATIO = 8.87156
INST_CMPRS_QUALITY = 0
INST_CMPRS_QUANTZ_TBL_ID = 0
INSTRUMENT_TEMPERATURE = 11.4379
LENS_TEMPERATURE = 8.9911
MACROPIXEL_SIZE = 2
MISSING_FRAMES = 1
PIXEL_SUBSAMPLING_FLAG = N
SIGNAL_CHAIN_ID = 2
/* RADIOMETRIC DATA ELEMENTS */
BANDWIDTH = 88.0
CENTER_FILTER_WAVELENGTH = 538.0
RADIANCE_OFFSET = 1.09775
RADIANCE_SCALING_FACTOR = 0.00375466
REFLECTANCE_SCALING_FACTOR = 0.000155263
MEX:REFLECTANCE_OFFSET = 0.0453945
/* IMAGE OBJECT DEFINITIONS */
OBJECT = IMAGE
  INTERCHANGE_FORMAT = BINARY
  LINES = 22769
  LINE_SAMPLES = 7995
  SAMPLE_TYPE = UNSIGNED_INTEGER
  SAMPLE_BITS = 8
  BANDS = 1
  BAND_STORAGE_TYPE = BAND_SEQUENTIAL
  MAXIMUM = 255
  MEAN = 115.757
  MINIMUM = 1
  STANDARD_DEVIATION = 38.1286
END_OBJECT = IMAGE
/* MAP OBJECT DEFINITIONS */
OBJECT = IMAGE_MAP_PROJECTION
  ^DATA_SET_MAP_PROJECTION_CATALOG= "DSMAP.CAT"
  A_AXIS_RADIUS = 3396.0
  B_AXIS_RADIUS = 3396.0
  C_AXIS_RADIUS = 3396.0
  CENTER_LATITUDE = 0.0
  CENTER_LONGITUDE = 140.0
  COORDINATE_SYSTEM_NAME = PLANETOGRAPHIC
  COORDINATE_SYSTEM_TYPE = "BODY-FIXED ROTATING"
  EASTERNMOST_LONGITUDE = 148.387
  FIRST_STANDARD_PARALLEL = "N/A"
  LINE_FIRST_PIXEL = 1
  LINE_LAST_PIXEL = 22769
  LINE_PROJECTION_OFFSET = -74263.75
  MAP_PROJECTION_ROTATION = 0.0
  MAP_PROJECTION_TYPE = SINUSOIDAL
  MAP_RESOLUTION = 1185.42760773333
  MAP_SCALE = 0.05
  MAXIMUM_LATITUDE = -62.6464
  MINIMUM_LATITUDE = -81.866
  POSITIVE_LONGITUDE_DIRECTION = EAST
  REFERENCE_LATITUDE = "N/A"
  REFERENCE_LONGITUDE = "N/A"
  SAMPLE_FIRST_PIXEL = 1
  SAMPLE_LAST_PIXEL = 7995
  SAMPLE_PROJECTION_OFFSET = 3393.75
  SECOND_STANDARD_PARALLEL = "N/A"
  WESTERNMOST_LONGITUDE = 122.048
END_OBJECT = IMAGE_MAP_PROJECTION
END
