PDS_VERSION_ID = PDS3
/* FILE DATA ELEMENTS */
RECORD_TYPE = UNDEFINED
/* POINTERS TO DATA OBJECTS */
^IMAGE = ("H4799_0000_BL4.TIF")
/* IDENTIFICATION DATA ELEMENTS */
DATA_SET_ID = "MEX-M-HRSC-4-REFDR-MAPPROJECT-EXT1-V4.0"
DATA_SET_NAME = "MARS EXPRESS HRSC MAP PROJECTED REFDR EXTENSION1 V4.0"
DETECTOR_ID = MEX_HRSC_BLUE
EVENT_TYPE = "MARS-REGIONAL-MAPPING-Gl-Ot"
INSTRUMENT_HOST_ID = MEX
INSTRUMENT_HOST_NAME = "MARS EXPRESS"
INSTRUMENT_ID = HRSC
INSTRUMENT_NAME = "HIGH RESOLUTION STEREO CAMERA"
MISSION_NAME = "MARS EXPRESS"
MISSION_PHASE_NAME = ME_Phase_10
PROCESSING_LEVEL_ID = 4
PRODUCT_CREATION_TIME = 2023-02-11T00:15:54.000Z
PRODUCT_ID = "H4799_0000_BL4.TIF"
RELEASE_ID = 0007
REVISION_ID = 0000
/* QUALITY DATA ELEMENTS */
DATA_QUALITY_ID = 1
DATA_QUALITY_DESC = "Data calculated based on original SPICE kernels"
/* TIME DATA ELEMENTS */
SPACECRAFT_CLOCK_START_COUNT = "1/0139057690.09068"
SPACECRAFT_CLOCK_STOP_COUNT = "1/0139058402.27718"
START_TIME = 2007-09-28T11:09:39.147Z
STOP_TIME = 2007-09-28T11:16:33.210Z
/* ORBITAL DATA ELEMENTS */
ASCENDING_NODE_LONGITUDE = 128.13
MAXIMUM_RESOLUTION = 0.0591
FOOTPRINT_POINT_LATITUDE = (-80.8793,-81.3351,-81.5004,-81.6234, -81.809,-81.8149,-81.8441,-81.0834, -80.4645,-79.8316,-79.1869,-78.5319, -77.8653,-77.1868,-76.4967,-75.7957, -75.4409,-75.0842,-74.7216,-74.3579, -73.9913,-73.6219,-73.2489,-72.8741, -72.4945,-72.1108,-71.7246,-71.3351, -70.9428,-70.5471,-70.1475,-69.7447, -69.3381,-68.9278,-68.5146,-68.0973, -67.6763,-67.2522,-66.8239,-66.3921, -65.9563,-65.5178,-65.0718,-64.6235, -64.1726,-63.7173,-63.2579,-63.0263, -62.9846,-62.9787,-62.944,-62.8971, -62.8451,-62.8064,-62.7574,-62.7085, -62.6485,-62.6421,-62.641,-63.0936, -63.5424,-63.9874,-64.4288,-64.8662, -65.2995,-65.728,-66.1535,-66.5766, -66.9944,-67.4091,-67.82,-68.2269, -68.6304,-69.0303,-69.4265,-69.8194, -70.2084,-70.594,-70.9761,-71.3545, -71.7284,-72.1013,-72.4702,-72.8349, -73.196,-73.5537,-73.9087,-74.2604, -74.9544,-75.6343,-76.3016,-76.9551, -77.5948,-78.2214,-78.8339,-79.4305, -80.156,-80.7186,-80.8566,-80.8793)
FOOTPRINT_POINT_LONGITUDE = (122.01,127.957,130.683,133.03,137.425, 137.592,137.837,139.221,140.198,141.05, 141.809,142.495,143.111,143.669,144.176 ,144.641,144.861,145.076,145.268, 145.459,145.644,145.825,145.996,146.166 ,146.323,146.469,146.613,146.753, 146.889,147.021,147.146,147.267,147.382 ,147.494,147.603,147.707,147.808, 147.906,147.999,148.092,148.18,148.27, 148.345,148.422,148.502,148.578,148.653 ,148.687,148.692,147.659,145.588, 143.997,142.69,141.851,140.922,140.087, 139.159,139.066,139.033,138.936,138.835 ,138.728,138.612,138.493,138.37,138.247 ,138.11,137.961,137.815,137.658,137.496 ,137.329,137.154,136.971,136.782, 136.584,136.38,136.166,135.945,135.715, 135.489,135.225,134.96,134.695,134.418, 134.128,133.82,133.499,132.813,132.063, 131.24,130.349,129.372,128.288,127.088, 125.794,123.953,122.293,121.849,122.01)
ORBIT_NUMBER = 4799
ORBITAL_ECCENTRICITY = 0.57
ORBITAL_INCLINATION = 86.69
ORBITAL_SEMIMAJOR_AXIS = 8561.35
PERIAPSIS_ALTITUDE = 299.79
PERIAPSIS_ARGUMENT_ANGLE = 233.95
PERIAPSIS_TIME = 2007-09-28T10:57:32.000Z
SPACECRAFT_ORIENTATION = (0.0,-1.0,0.0)
^MEX_ORIENTATION_DESC = "MEX_ORIENTATION_DESC.TXT"
SPACECRAFT_POINTING_MODE = NADIR
^MEX_POINTING_DESC = "MEX_POINTING_DESC.TXT"
RIGHT_ASCENSION = -1e+32
DECLINATION = -1e+32
OFFSET_ANGLE = -1e+32
SPACECRAFT_SOLAR_DISTANCE = 2.19155e+08
TARGET_NAME = MARS
/* CAMERA DATA ELEMENTS */
DETECTOR_TEMPERATURE = 18.1666
FOCAL_PLANE_TEMPERATURE = 8.1755
INST_CMPRS_NAME = "DISCRETE COSINE TRANSFORMATION (DCT)"
INST_CMPRS_RATIO = 5.1971
INST_CMPRS_QUALITY = 0
INST_CMPRS_QUANTZ_TBL_ID = 0
INSTRUMENT_TEMPERATURE = 11.4379
LENS_TEMPERATURE = 8.9911
MACROPIXEL_SIZE = 2
MISSING_FRAMES = 0
PIXEL_SUBSAMPLING_FLAG = N
SIGNAL_CHAIN_ID = 2
/* RADIOMETRIC DATA ELEMENTS */
BANDWIDTH = 76.0
CENTER_FILTER_WAVELENGTH = 444.0
RADIANCE_OFFSET = 0.445403
RADIANCE_SCALING_FACTOR = 0.00146543
REFLECTANCE_SCALING_FACTOR = 7.23154e-05
MEX:REFLECTANCE_OFFSET = 0.0219795
/* IMAGE OBJECT DEFINITIONS */
OBJECT = IMAGE
  INTERCHANGE_FORMAT = BINARY
  LINES = 22769
  LINE_SAMPLES = 7995
  SAMPLE_TYPE = UNSIGNED_INTEGER
  SAMPLE_BITS = 8
  BANDS = 1
  BAND_STORAGE_TYPE = BAND_SEQUENTIAL
  MAXIMUM = 255
  MEAN = 129.83
  MINIMUM = 2
  STANDARD_DEVIATION = 32.8739
END_OBJECT = IMAGE
/* MAP OBJECT DEFINITIONS */
OBJECT = IMAGE_MAP_PROJECTION
  ^DATA_SET_MAP_PROJECTION_CATALOG= "DSMAP.CAT"
  A_AXIS_RADIUS = 3396.0
  B_AXIS_RADIUS = 3396.0
  C_AXIS_RADIUS = 3396.0
  CENTER_LATITUDE = 0.0
  CENTER_LONGITUDE = 140.0
  COORDINATE_SYSTEM_NAME = PLANETOGRAPHIC
  COORDINATE_SYSTEM_TYPE = "BODY-FIXED ROTATING"
  EASTERNMOST_LONGITUDE = 148.692
  FIRST_STANDARD_PARALLEL = "N/A"
  LINE_FIRST_PIXEL = 1
  LINE_LAST_PIXEL = 22769
  LINE_PROJECTION_OFFSET = -74263.75
  MAP_PROJECTION_ROTATION = 0.0
  MAP_PROJECTION_TYPE = SINUSOIDAL
  MAP_RESOLUTION = 1185.42760773333
  MAP_SCALE = 0.05
  MAXIMUM_LATITUDE = -62.641
  MINIMUM_LATITUDE = -81.8441
  POSITIVE_LONGITUDE_DIRECTION = EAST
  REFERENCE_LATITUDE = "N/A"
  REFERENCE_LONGITUDE = "N/A"
  SAMPLE_FIRST_PIXEL = 1
  SAMPLE_LAST_PIXEL = 7995
  SAMPLE_PROJECTION_OFFSET = 3393.75
  SECOND_STANDARD_PARALLEL = "N/A"
  WESTERNMOST_LONGITUDE = 121.849
END_OBJECT = IMAGE_MAP_PROJECTION
END
