PDS_VERSION_ID = PDS3
/* FILE DATA ELEMENTS */
RECORD_TYPE = UNDEFINED
/* POINTERS TO DATA OBJECTS */
^IMAGE = ("H4795_0000_S14.TIF")
/* IDENTIFICATION DATA ELEMENTS */
DATA_SET_ID = "MEX-M-HRSC-4-REFDR-MAPPROJECT-EXT1-V4.0"
DATA_SET_NAME = "MARS EXPRESS HRSC MAP PROJECTED REFDR EXTENSION1 V4.0"
DETECTOR_ID = MEX_HRSC_S1
EVENT_TYPE = "MARS-REGIONAL-MAPPING-Vo-Fl-Eo"
INSTRUMENT_HOST_ID = MEX
INSTRUMENT_HOST_NAME = "MARS EXPRESS"
INSTRUMENT_ID = HRSC
INSTRUMENT_NAME = "HIGH RESOLUTION STEREO CAMERA"
MISSION_NAME = "MARS EXPRESS"
MISSION_PHASE_NAME = ME_Phase_10
PROCESSING_LEVEL_ID = 4
PRODUCT_CREATION_TIME = 2023-02-11T00:15:54.000Z
PRODUCT_ID = "H4795_0000_S14.TIF"
RELEASE_ID = 0007
REVISION_ID = 0000
/* QUALITY DATA ELEMENTS */
DATA_QUALITY_ID = 1
DATA_QUALITY_DESC = "Data calculated based on original SPICE kernels"
/* TIME DATA ELEMENTS */
SPACECRAFT_CLOCK_START_COUNT = "1/0138961086.09082"
SPACECRAFT_CLOCK_STOP_COUNT = "1/0138961875.36781"
START_TIME = 2007-09-27T08:18:10.100Z
STOP_TIME = 2007-09-27T08:22:51.834Z
/* ORBITAL DATA ELEMENTS */
ASCENDING_NODE_LONGITUDE = 128.21
MAXIMUM_RESOLUTION = 0.0703
FOOTPRINT_POINT_LATITUDE = (-71.5101,-71.5909,-71.7005,-71.8104, -71.881,-71.94,-71.9953,-71.9977, -71.8995,-71.3738,-70.8373,-70.0373, -69.2163,-68.6584,-68.094,-67.5246, -67.0879,-66.6528,-66.0661,-65.7685, -65.4693,-65.168,-64.8648,-64.5598, -64.2531,-63.9433,-63.6319,-63.3181, -63.0028,-62.6839,-62.3624,-62.0397, -61.7141,-61.3862,-61.0568,-60.7262, -60.3921,-60.0563,-59.7185,-59.3781, -59.036,-58.6913,-58.3434,-57.9931, -57.6409,-57.2852,-56.7469,-56.566, -56.5289,-56.5216,-56.5095,-56.499, -56.4774,-56.456,-56.4209,-56.3831, -56.3378,-56.251,-56.2451,-56.2444, -56.7767,-57.13,-57.4783,-57.8268, -58.1703,-58.5073,-59.021,-59.3567, -59.8581,-60.1896,-60.5192,-60.8466, -61.1712,-61.4935,-61.8129,-62.1304, -62.4467,-62.7598,-63.0706,-63.3786, -63.6824,-63.9901,-64.2931,-64.5934, -65.0414,-65.3372,-65.6319,-65.9244, -66.5047,-67.0753,-67.4941,-68.0538, -68.6026,-69.1442,-69.6795,-70.34, -70.8604,-71.246,-71.3742,-71.5101)
FOOTPRINT_POINT_LONGITUDE = (169.778,170.793,172.33,174.144,175.539 ,176.946,178.632,178.721,178.881, 179.078,179.272,179.524,179.765,179.919 ,180.064,180.2,180.303,180.396,180.516, 180.575,180.632,180.688,180.743,180.796 ,180.848,180.899,180.949,180.998, 181.045,181.092,181.138,181.182,181.226 ,181.269,181.31,181.35,181.389,181.427, 181.464,181.499,181.534,181.567,181.601 ,181.633,181.664,181.695,181.739, 181.753,181.756,180.5,179.761,179.171, 178.436,177.849,177.043,176.311,175.508 ,174.271,174.198,174.172,174.115, 174.075,174.033,173.991,173.946,173.898 ,173.827,173.776,173.697,173.642, 173.585,173.527,173.467,173.405,173.34, 173.274,173.206,173.136,173.063,172.989 ,172.911,172.834,172.753,172.67,172.541 ,172.452,172.361,172.267,172.073, 171.867,171.705,171.481,171.243,170.994 ,170.731,170.383,170.088,169.856, 169.777,169.778)
ORBIT_NUMBER = 4795
ORBITAL_ECCENTRICITY = 0.57
ORBITAL_INCLINATION = 86.69
ORBITAL_SEMIMAJOR_AXIS = 8562.61
PERIAPSIS_ALTITUDE = 299.34
PERIAPSIS_ARGUMENT_ANGLE = 234.65
PERIAPSIS_TIME = 2007-09-27T08:04:49.000Z
SPACECRAFT_ORIENTATION = (0.0,-1.0,0.0)
^MEX_ORIENTATION_DESC = "MEX_ORIENTATION_DESC.TXT"
SPACECRAFT_POINTING_MODE = NADIR
^MEX_POINTING_DESC = "MEX_POINTING_DESC.TXT"
RIGHT_ASCENSION = -1e+32
DECLINATION = -1e+32
OFFSET_ANGLE = -1e+32
SPACECRAFT_SOLAR_DISTANCE = 2.18949e+08
TARGET_NAME = MARS
/* CAMERA DATA ELEMENTS */
DETECTOR_TEMPERATURE = 17.9627
FOCAL_PLANE_TEMPERATURE = 8.7872
INST_CMPRS_NAME = "DISCRETE COSINE TRANSFORMATION (DCT)"
INST_CMPRS_RATIO = 12.3347
INST_CMPRS_QUALITY = 0
INST_CMPRS_QUANTZ_TBL_ID = 0
INSTRUMENT_TEMPERATURE = 11.6418
LENS_TEMPERATURE = 8.9911
MACROPIXEL_SIZE = 2
MISSING_FRAMES = 0
PIXEL_SUBSAMPLING_FLAG = N
SIGNAL_CHAIN_ID = 1
/* RADIOMETRIC DATA ELEMENTS */
BANDWIDTH = 180.0
CENTER_FILTER_WAVELENGTH = 677.0
RADIANCE_OFFSET = 3.13404
RADIANCE_SCALING_FACTOR = 0.014794
REFLECTANCE_SCALING_FACTOR = 0.000370016
MEX:REFLECTANCE_OFFSET = 0.0783864
/* IMAGE OBJECT DEFINITIONS */
OBJECT = IMAGE
  INTERCHANGE_FORMAT = BINARY
  LINES = 9267
  LINE_SAMPLES = 3243
  SAMPLE_TYPE = UNSIGNED_INTEGER
  SAMPLE_BITS = 8
  BANDS = 1
  BAND_STORAGE_TYPE = BAND_SEQUENTIAL
  MAXIMUM = 255
  MEAN = 140.098
  MINIMUM = 1
  STANDARD_DEVIATION = 31.374
END_OBJECT = IMAGE
/* MAP OBJECT DEFINITIONS */
OBJECT = IMAGE_MAP_PROJECTION
  ^DATA_SET_MAP_PROJECTION_CATALOG= "DSMAP.CAT"
  A_AXIS_RADIUS = 3396.0
  B_AXIS_RADIUS = 3396.0
  C_AXIS_RADIUS = 3396.0
  CENTER_LATITUDE = 0.0
  CENTER_LONGITUDE = 177.0
  COORDINATE_SYSTEM_NAME = PLANETOGRAPHIC
  COORDINATE_SYSTEM_TYPE = "BODY-FIXED ROTATING"
  EASTERNMOST_LONGITUDE = 181.756
  FIRST_STANDARD_PARALLEL = "N/A"
  LINE_FIRST_PIXEL = 1
  LINE_LAST_PIXEL = 9267
  LINE_PROJECTION_OFFSET = -33327.25
  MAP_PROJECTION_ROTATION = 0.0
  MAP_PROJECTION_TYPE = SINUSOIDAL
  MAP_RESOLUTION = 592.713803866667
  MAP_SCALE = 0.1
  MAXIMUM_LATITUDE = -56.2444
  MINIMUM_LATITUDE = -71.99769999999999
  POSITIVE_LONGITUDE_DIRECTION = EAST
  REFERENCE_LATITUDE = "N/A"
  REFERENCE_LONGITUDE = "N/A"
  SAMPLE_FIRST_PIXEL = 1
  SAMPLE_LAST_PIXEL = 3243
  SAMPLE_PROJECTION_OFFSET = 1502.75
  SECOND_STANDARD_PARALLEL = "N/A"
  WESTERNMOST_LONGITUDE = 169.777
END_OBJECT = IMAGE_MAP_PROJECTION
END
