PDS_VERSION_ID = PDS3
/* FILE DATA ELEMENTS */
RECORD_TYPE = UNDEFINED
/* POINTERS TO DATA OBJECTS */
^IMAGE = ("H4793_0000_GR4.TIF")
/* IDENTIFICATION DATA ELEMENTS */
DATA_SET_ID = "MEX-M-HRSC-4-REFDR-MAPPROJECT-EXT1-V4.0"
DATA_SET_NAME = "MARS EXPRESS HRSC MAP PROJECTED REFDR EXTENSION1 V4.0"
DETECTOR_ID = MEX_HRSC_GREEN
EVENT_TYPE = "MARS-REGIONAL-MAPPING-Gl-Pf-Ot"
INSTRUMENT_HOST_ID = MEX
INSTRUMENT_HOST_NAME = "MARS EXPRESS"
INSTRUMENT_ID = HRSC
INSTRUMENT_NAME = "HIGH RESOLUTION STEREO CAMERA"
MISSION_NAME = "MARS EXPRESS"
MISSION_PHASE_NAME = ME_Phase_10
PROCESSING_LEVEL_ID = 4
PRODUCT_CREATION_TIME = 2023-02-11T00:15:54.000Z
PRODUCT_ID = "H4793_0000_GR4.TIF"
RELEASE_ID = 0007
REVISION_ID = 0000
/* QUALITY DATA ELEMENTS */
DATA_QUALITY_ID = 1
DATA_QUALITY_DESC = "Data calculated based on original SPICE kernels"
/* TIME DATA ELEMENTS */
SPACECRAFT_CLOCK_START_COUNT = "1/0138912452.08247"
SPACECRAFT_CLOCK_STOP_COUNT = "1/0138912940.05738"
START_TIME = 2007-09-26T18:48:23.843Z
STOP_TIME = 2007-09-26T18:52:57.937Z
/* ORBITAL DATA ELEMENTS */
ASCENDING_NODE_LONGITUDE = 128.25
MAXIMUM_RESOLUTION = 0.0484
FOOTPRINT_POINT_LATITUDE = (-84.5556,-85.0495,-85.2976,-85.5198, -85.8049,-85.9838,-85.9952,-86.0022, -85.6924,-85.2588,-84.8067,-84.3383, -83.8563,-83.2355,-82.7263,-82.3376, -81.7978,-81.5309,-81.2607,-80.9882, -80.7139,-80.4363,-80.1572,-79.7334, -79.4487,-79.161,-78.8708,-78.5791, -78.2843,-77.9875,-77.6894,-77.3879, -77.0833,-76.7768,-76.4682,-76.1574, -75.8443,-75.5286,-75.21,-74.8892, -74.566,-74.2402,-73.9122,-73.5815, -73.2481,-72.9122,-72.5737,-72.0613, -71.8887,-71.8388,-71.8128,-71.7818, -71.7128,-71.6531,-71.5959,-71.5023, -71.4029,-71.3381,-71.3307,-71.329, -71.8334,-72.1659,-72.4957,-72.8232, -73.1474,-73.4684,-73.7871,-74.1029, -74.4161,-74.7263,-75.0343,-75.3393, -75.6415,-75.941,-76.2376,-76.5317, -76.8236,-77.1128,-77.3988,-77.6822, -77.9628,-78.2412,-78.5147,-78.9214, -79.3222,-79.7161,-80.1025,-80.4824, -80.9771,-81.3501,-81.7038,-82.1618, -82.603,-82.9216,-83.3299,-83.7177, -84.0819,-84.4201,-84.4998,-84.5556)
FOOTPRINT_POINT_LONGITUDE = (329.145,333.626,336.381,339.242, 343.658,347.025,347.26,347.766,350.689, 354.013,356.804,359.19,361.204,363.329, 364.783,365.752,366.94,367.468,367.964, 368.438,368.886,369.311,369.71,370.279, 370.628,370.959,371.287,371.594,371.887 ,372.166,372.42,372.682,372.934,373.171 ,373.4,373.617,373.826,374.025,374.219, 374.405,374.583,374.756,374.922,375.081 ,375.235,375.384,375.527,375.733, 375.799,375.818,374.835,373.85,372.094, 370.836,369.777,368.247,366.827,365.981 ,365.887,365.853,365.529,365.304,365.07 ,364.83,364.578,364.316,364.047,363.767 ,363.476,363.173,362.858,362.531, 362.191,361.838,361.472,361.09,360.692, 360.278,359.849,359.402,358.932,358.445 ,357.931,357.121,356.257,355.333, 354.341,353.277,351.732,350.43,349.066, 347.073,344.86,343.036,340.364,337.385, 334.063,330.361,329.372,329.145)
ORBIT_NUMBER = 4793
ORBITAL_ECCENTRICITY = 0.57
ORBITAL_INCLINATION = 86.69
ORBITAL_SEMIMAJOR_AXIS = 8560.36
PERIAPSIS_ALTITUDE = 299.15
PERIAPSIS_ARGUMENT_ANGLE = 234.98
PERIAPSIS_TIME = 2007-09-26T18:38:24.000Z
SPACECRAFT_ORIENTATION = (0.0,-1.0,0.0)
^MEX_ORIENTATION_DESC = "MEX_ORIENTATION_DESC.TXT"
SPACECRAFT_POINTING_MODE = NADIR
^MEX_POINTING_DESC = "MEX_POINTING_DESC.TXT"
RIGHT_ASCENSION = -1e+32
DECLINATION = -1e+32
OFFSET_ANGLE = -1e+32
SPACECRAFT_SOLAR_DISTANCE = 2.18847e+08
TARGET_NAME = MARS
/* CAMERA DATA ELEMENTS */
DETECTOR_TEMPERATURE = 18.1666
FOCAL_PLANE_TEMPERATURE = 8.7872
INST_CMPRS_NAME = "DISCRETE COSINE TRANSFORMATION (DCT)"
INST_CMPRS_RATIO = 13.8108
INST_CMPRS_QUALITY = 0
INST_CMPRS_QUANTZ_TBL_ID = 0
INSTRUMENT_TEMPERATURE = 11.234
LENS_TEMPERATURE = 8.5833
MACROPIXEL_SIZE = 2
PIXEL_SUBSAMPLING_FLAG = N
SIGNAL_CHAIN_ID = 2
/* RADIOMETRIC DATA ELEMENTS */
BANDWIDTH = 88.0
CENTER_FILTER_WAVELENGTH = 538.0
RADIANCE_OFFSET = 1.07195
RADIANCE_SCALING_FACTOR = 0.00786251
REFLECTANCE_SCALING_FACTOR = 0.000324218
MEX:REFLECTANCE_OFFSET = 0.0442027
/* IMAGE OBJECT DEFINITIONS */
OBJECT = IMAGE
  INTERCHANGE_FORMAT = BINARY
  LINES = 17407
  LINE_SAMPLES = 8652
  SAMPLE_TYPE = UNSIGNED_INTEGER
  SAMPLE_BITS = 8
  BANDS = 1
  BAND_STORAGE_TYPE = BAND_SEQUENTIAL
  MAXIMUM = 255
  MEAN = 58.6348
  MINIMUM = 1
  STANDARD_DEVIATION = 22.673
END_OBJECT = IMAGE
/* MAP OBJECT DEFINITIONS */
OBJECT = IMAGE_MAP_PROJECTION
  ^DATA_SET_MAP_PROJECTION_CATALOG= "DSMAP.CAT"
  A_AXIS_RADIUS = 3396.0
  B_AXIS_RADIUS = 3396.0
  C_AXIS_RADIUS = 3396.0
  CENTER_LATITUDE = 0.0
  CENTER_LONGITUDE = 3.0
  COORDINATE_SYSTEM_NAME = PLANETOGRAPHIC
  COORDINATE_SYSTEM_TYPE = "BODY-FIXED ROTATING"
  EASTERNMOST_LONGITUDE = 15.818
  FIRST_STANDARD_PARALLEL = "N/A"
  LINE_FIRST_PIXEL = 1
  LINE_LAST_PIXEL = 17407
  LINE_PROJECTION_OFFSET = -84542.25
  MAP_PROJECTION_ROTATION = 0.0
  MAP_PROJECTION_TYPE = SINUSOIDAL
  MAP_RESOLUTION = 1185.42760773333
  MAP_SCALE = 0.05
  MAXIMUM_LATITUDE = -71.32899999999999
  MINIMUM_LATITUDE = -86.0022
  POSITIVE_LONGITUDE_DIRECTION = EAST
  REFERENCE_LATITUDE = "N/A"
  REFERENCE_LONGITUDE = "N/A"
  SAMPLE_FIRST_PIXEL = 1
  SAMPLE_LAST_PIXEL = 8652
  SAMPLE_PROJECTION_OFFSET = 3856.25
  SECOND_STANDARD_PARALLEL = "N/A"
  WESTERNMOST_LONGITUDE = -30.855
END_OBJECT = IMAGE_MAP_PROJECTION
END
