PDS_VERSION_ID = PDS3
/* FILE DATA ELEMENTS */
RECORD_TYPE = UNDEFINED
/* POINTERS TO DATA OBJECTS */
^IMAGE = ("H4774_0000_IR4.TIF")
/* IDENTIFICATION DATA ELEMENTS */
DATA_SET_ID = "MEX-M-HRSC-4-REFDR-MAPPROJECT-EXT1-V4.0"
DATA_SET_NAME = "MARS EXPRESS HRSC MAP PROJECTED REFDR EXTENSION1 V4.0"
DETECTOR_ID = MEX_HRSC_IR
EVENT_TYPE = "MARS-LOCAL-COLOR-Im-Fl-Ot"
INSTRUMENT_HOST_ID = MEX
INSTRUMENT_HOST_NAME = "MARS EXPRESS"
INSTRUMENT_ID = HRSC
INSTRUMENT_NAME = "HIGH RESOLUTION STEREO CAMERA"
MISSION_NAME = "MARS EXPRESS"
MISSION_PHASE_NAME = ME_Phase_10
PROCESSING_LEVEL_ID = 4
PRODUCT_CREATION_TIME = 2023-02-11T00:15:54.000Z
PRODUCT_ID = "H4774_0000_IR4.TIF"
RELEASE_ID = 0007
REVISION_ID = 0000
/* QUALITY DATA ELEMENTS */
DATA_QUALITY_ID = 1
DATA_QUALITY_DESC = "Data calculated based on original SPICE kernels"
/* TIME DATA ELEMENTS */
SPACECRAFT_CLOCK_START_COUNT = "1/0138453609.07297"
SPACECRAFT_CLOCK_STOP_COUNT = "1/0138454644.51957"
START_TIME = 2007-09-21T11:20:13.132Z
STOP_TIME = 2007-09-21T11:22:18.432Z
/* ORBITAL DATA ELEMENTS */
ASCENDING_NODE_LONGITUDE = 128.63
MAXIMUM_RESOLUTION = 0.0657
FOOTPRINT_POINT_LATITUDE = (-41.8174,-41.8414,-41.856,-41.8696, -41.8821,-41.8935,-41.9014,-41.911, -41.9196,-41.927,-41.9335,-41.9388, -41.943,-41.9462,-41.9483,-41.9493, -41.9493,-41.9482,-41.946,-41.9428, -41.9385,-41.9331,-41.9266,-41.9191, -41.9104,-41.9033,-41.9007,-41.8037, -41.5807,-41.4138,-41.2471,-41.0806, -40.9145,-40.7491,-40.4742,-40.2531, -40.0334,-39.8098,-39.4323,-39.1065, -38.8883,-38.7266,-38.5649,-38.2954, -38.0267,-37.7041,-37.5432,-37.2759, -37.1159,-36.8506,-36.6379,-36.4263, -36.3733,-36.366,-36.3901,-36.408, -36.4221,-36.432,-36.4398,-36.4505, -36.4553,-36.4595,-36.4654,-36.4661, -36.4678,-36.4643,-36.4594,-36.4551, -36.4493,-36.4451,-36.4378,-36.4288, -36.4132,-36.4019,-36.3887,-36.3711, -36.3674,-36.366,-36.7822,-37.0952, -37.462,-37.674,-38.0417,-38.3057, -38.6779,-38.8902,-39.1043,-39.3718, -39.6941,-39.9099,-40.179,-40.3954, -40.5572,-40.779,-40.9926,-41.1558, -41.3751,-41.6499,-41.7049,-41.8174)
FOOTPRINT_POINT_LONGITUDE = (78.6944,79.1299,79.42,79.7098,79.9994, 80.289,80.5061,80.7957,81.0853,81.3749, 81.6646,81.9542,82.2438,82.5333,82.8227 ,83.1122,83.4018,83.6914,83.9811,84.271 ,84.5613,84.8518,85.1426,85.4336, 85.7248,85.9433,86.0162,86.0935,86.0952 ,86.0964,86.0975,86.0986,86.0995, 86.1002,86.1009,86.1021,86.1027,86.1051 ,86.1035,86.1031,86.1035,86.1029, 86.1024,86.1015,86.1005,86.0994,86.0987 ,86.0973,86.0964,86.0943,86.0929, 86.0911,86.0907,86.0907,85.6325,85.1745 ,84.7928,84.4876,84.1829,83.7261, 83.4218,83.0414,82.7368,82.4325,82.128, 81.8234,81.5184,81.0611,80.756,80.5272, 80.2221,79.9168,79.4585,79.1529,78.8466 ,78.4635,78.3869,78.3493,78.3796, 78.4015,78.4265,78.4411,78.4644,78.4806 ,78.5033,78.5154,78.5278,78.5426, 78.5599,78.5713,78.5844,78.5949,78.6022 ,78.614,78.6219,78.6288,78.6381,78.6493 ,78.6515,78.6944)
ORBIT_NUMBER = 4774
ORBITAL_ECCENTRICITY = 0.57
ORBITAL_INCLINATION = 86.7
ORBITAL_SEMIMAJOR_AXIS = 8554.78
PERIAPSIS_ALTITUDE = 297.78
PERIAPSIS_ARGUMENT_ANGLE = 238.32
PERIAPSIS_TIME = 2007-09-21T10:57:53.000Z
SPACECRAFT_ORIENTATION = (0.0,-1.0,0.0)
^MEX_ORIENTATION_DESC = "MEX_ORIENTATION_DESC.TXT"
SPACECRAFT_POINTING_MODE = NADIR
^MEX_POINTING_DESC = "MEX_POINTING_DESC.TXT"
RIGHT_ASCENSION = -1e+32
DECLINATION = -1e+32
OFFSET_ANGLE = -1e+32
SPACECRAFT_SOLAR_DISTANCE = 2.17882e+08
TARGET_NAME = MARS
/* CAMERA DATA ELEMENTS */
DETECTOR_TEMPERATURE = 17.7588
FOCAL_PLANE_TEMPERATURE = 8.9911
INST_CMPRS_NAME = "DISCRETE COSINE TRANSFORMATION (DCT)"
INST_CMPRS_RATIO = 5.40182
INST_CMPRS_QUALITY = 0
INST_CMPRS_QUANTZ_TBL_ID = 0
INSTRUMENT_TEMPERATURE = 11.4379
LENS_TEMPERATURE = 9.195
MACROPIXEL_SIZE = 1
MISSING_FRAMES = 0
PIXEL_SUBSAMPLING_FLAG = N
SIGNAL_CHAIN_ID = 3
/* RADIOMETRIC DATA ELEMENTS */
BANDWIDTH = 81.0
CENTER_FILTER_WAVELENGTH = 955.5
RADIANCE_OFFSET = 1.72127
RADIANCE_SCALING_FACTOR = 0.00253128
REFLECTANCE_SCALING_FACTOR = 0.000259252
MEX:REFLECTANCE_OFFSET = 0.176291
/* IMAGE OBJECT DEFINITIONS */
OBJECT = IMAGE
  INTERCHANGE_FORMAT = BINARY
  LINES = 3375
  LINE_SAMPLES = 4736
  SAMPLE_TYPE = UNSIGNED_INTEGER
  SAMPLE_BITS = 8
  BANDS = 1
  BAND_STORAGE_TYPE = BAND_SEQUENTIAL
  MAXIMUM = 254
  MEAN = 131.651
  MINIMUM = 2
  STANDARD_DEVIATION = 43.0526
END_OBJECT = IMAGE
/* MAP OBJECT DEFINITIONS */
OBJECT = IMAGE_MAP_PROJECTION
  ^DATA_SET_MAP_PROJECTION_CATALOG= "DSMAP.CAT"
  A_AXIS_RADIUS = 3396.0
  B_AXIS_RADIUS = 3396.0
  C_AXIS_RADIUS = 3396.0
  CENTER_LATITUDE = 0.0
  CENTER_LONGITUDE = 82.0
  COORDINATE_SYSTEM_NAME = PLANETOGRAPHIC
  COORDINATE_SYSTEM_TYPE = "BODY-FIXED ROTATING"
  EASTERNMOST_LONGITUDE = 86.10509999999999
  FIRST_STANDARD_PARALLEL = "N/A"
  LINE_FIRST_PIXEL = 1
  LINE_LAST_PIXEL = 3375
  LINE_PROJECTION_OFFSET = -21475.0
  MAP_PROJECTION_ROTATION = 0.0
  MAP_PROJECTION_TYPE = SINUSOIDAL
  MAP_RESOLUTION = 592.713803866667
  MAP_SCALE = 0.1
  MAXIMUM_LATITUDE = -36.366
  MINIMUM_LATITUDE = -41.9493
  POSITIVE_LONGITUDE_DIRECTION = EAST
  REFERENCE_LATITUDE = "N/A"
  REFERENCE_LONGITUDE = "N/A"
  SAMPLE_FIRST_PIXEL = 1
  SAMPLE_LAST_PIXEL = 4736
  SAMPLE_PROJECTION_OFFSET = 2353.0
  SECOND_STANDARD_PARALLEL = "N/A"
  WESTERNMOST_LONGITUDE = 78.3493
END_OBJECT = IMAGE_MAP_PROJECTION
END
