PDS_VERSION_ID = PDS3
/* FILE DATA ELEMENTS */
RECORD_TYPE = UNDEFINED
/* POINTERS TO DATA OBJECTS */
^IMAGE = ("H4762_0000_ND4.TIF")
/* IDENTIFICATION DATA ELEMENTS */
DATA_SET_ID = "MEX-M-HRSC-4-REFDR-MAPPROJECT-EXT1-V4.0"
DATA_SET_NAME = "MARS EXPRESS HRSC MAP PROJECTED REFDR EXTENSION1 V4.0"
DETECTOR_ID = MEX_HRSC_NADIR
EVENT_TYPE = "MARS-REGIONAL-MAPPING-Gl-La"
INSTRUMENT_HOST_ID = MEX
INSTRUMENT_HOST_NAME = "MARS EXPRESS"
INSTRUMENT_ID = HRSC
INSTRUMENT_NAME = "HIGH RESOLUTION STEREO CAMERA"
MISSION_NAME = "MARS EXPRESS"
MISSION_PHASE_NAME = ME_Phase_10
PROCESSING_LEVEL_ID = 4
PRODUCT_CREATION_TIME = 2023-02-11T00:15:54.000Z
PRODUCT_ID = "H4762_0000_ND4.TIF"
RELEASE_ID = 0007
REVISION_ID = 0000
/* QUALITY DATA ELEMENTS */
DATA_QUALITY_ID = 1
DATA_QUALITY_DESC = "Data calculated based on original SPICE kernels"
/* TIME DATA ELEMENTS */
SPACECRAFT_CLOCK_START_COUNT = "1/0138162412.08241"
SPACECRAFT_CLOCK_STOP_COUNT = "1/0138162725.49247"
START_TIME = 2007-09-18T02:27:43.834Z
STOP_TIME = 2007-09-18T02:30:40.841Z
/* ORBITAL DATA ELEMENTS */
ASCENDING_NODE_LONGITUDE = 128.88
MAXIMUM_RESOLUTION = 0.0204
FOOTPRINT_POINT_LATITUDE = (-84.0328,-84.3758,-84.6438,-84.906, -85.162,-85.4122,-85.6565,-85.6715, -85.6635,-85.5397,-85.401,-85.1981, -85.0318,-84.7948,-84.605,-84.3389, -84.057,-83.6889,-83.5358,-83.381, -83.2225,-83.0613,-82.8985,-82.7325, -82.564,-82.3943,-82.2213,-82.0465, -81.8709,-81.6922,-81.5118,-81.2381, -81.0527,-80.8668,-80.6776,-80.3924, -80.199,-79.9076,-79.7099,-79.4126, -79.2109,-79.0091,-78.7022,-78.4968, -78.2886,-78.0799,-77.7628,-77.5507, -77.4431,-77.4083,-77.3038,-77.1884, -77.0622,-76.9688,-76.8607,-76.7174, -76.5745,-76.5639,-76.5591,-76.7634, -76.9651,-77.1663,-77.3644,-77.5621, -77.8533,-78.0463,-78.2363,-78.5193, -78.7048,-78.9806,-79.1617,-79.3415, -79.5178,-79.6933,-79.9517,-80.1216, -80.2894,-80.4539,-80.617,-80.8555, -81.0117,-81.1652,-81.3174,-81.4706, -81.6184,-81.7619,-81.9034,-82.0407, -82.304,-82.433,-82.6822,-82.8619, -83.0846,-83.242,-83.436,-83.5715, -83.7351,-83.9158,-83.948,-84.0328)
FOOTPRINT_POINT_LONGITUDE = (118.059,119.306,120.399,121.589, 122.887,124.309,125.876,125.979,125.905 ,129.015,131.993,135.681,138.272, 141.471,143.704,146.446,148.96,151.815, 152.871,153.878,154.847,155.775,156.658 ,157.51,158.326,159.104,159.852,160.574 ,161.266,161.941,162.582,163.496,164.08 ,164.638,165.181,165.955,166.451,167.16 ,167.615,168.264,168.682,169.084, 169.665,170.035,170.395,170.744,171.249 ,171.571,171.729,171.78,170.157,168.544 ,166.947,165.855,164.668,163.208, 161.856,161.76,161.712,161.323,160.922, 160.509,160.087,159.65,158.975,158.505, 158.025,157.276,156.759,155.953,155.399 ,154.82,154.233,153.624,152.676,152.019 ,151.339,150.64,149.914,148.783,147.995 ,147.175,146.358,145.53,144.648,143.744 ,142.806,141.825,139.781,138.71,136.517 ,134.775,132.332,130.395,127.706, 125.588,122.667,118.834,118.048, 118.059)
ORBIT_NUMBER = 4762
ORBITAL_ECCENTRICITY = 0.57
ORBITAL_INCLINATION = 86.68
ORBITAL_SEMIMAJOR_AXIS = 8554.13
PERIAPSIS_ALTITUDE = 298.38
PERIAPSIS_ARGUMENT_ANGLE = 240.39
PERIAPSIS_TIME = 2007-09-18T02:19:30.000Z
SPACECRAFT_ORIENTATION = (0.0,-1.0,0.0)
^MEX_ORIENTATION_DESC = "MEX_ORIENTATION_DESC.TXT"
SPACECRAFT_POINTING_MODE = ACROSSTRACK
^MEX_POINTING_DESC = "MEX_POINTING_DESC.TXT"
RIGHT_ASCENSION = -1e+32
DECLINATION = -1e+32
OFFSET_ANGLE = 1.4
SPACECRAFT_SOLAR_DISTANCE = 2.17284e+08
TARGET_NAME = MARS
/* CAMERA DATA ELEMENTS */
DETECTOR_TEMPERATURE = 18.3705
FOCAL_PLANE_TEMPERATURE = 8.9911
INST_CMPRS_NAME = "DISCRETE COSINE TRANSFORMATION (DCT)"
INST_CMPRS_RATIO = 6.56524
INST_CMPRS_QUALITY = 0
INST_CMPRS_QUANTZ_TBL_ID = 0
INSTRUMENT_TEMPERATURE = 11.4379
LENS_TEMPERATURE = 9.6028
MACROPIXEL_SIZE = 1
MISSING_FRAMES = 0
PIXEL_SUBSAMPLING_FLAG = N
SIGNAL_CHAIN_ID = 0
/* RADIOMETRIC DATA ELEMENTS */
BANDWIDTH = 177.0
CENTER_FILTER_WAVELENGTH = 677.5
RADIANCE_OFFSET = 2.57276
RADIANCE_SCALING_FACTOR = 0.00945866
REFLECTANCE_SCALING_FACTOR = 0.000237233
MEX:REFLECTANCE_OFFSET = 0.0645274
/* IMAGE OBJECT DEFINITIONS */
OBJECT = IMAGE
  INTERCHANGE_FORMAT = BINARY
  LINES = 21587
  LINE_SAMPLES = 18494
  SAMPLE_TYPE = UNSIGNED_INTEGER
  SAMPLE_BITS = 8
  BANDS = 1
  BAND_STORAGE_TYPE = BAND_SEQUENTIAL
  MAXIMUM = 254
  MEAN = 108.987
  MINIMUM = 1
  STANDARD_DEVIATION = 50.8861
END_OBJECT = IMAGE
/* MAP OBJECT DEFINITIONS */
OBJECT = IMAGE_MAP_PROJECTION
  ^DATA_SET_MAP_PROJECTION_CATALOG= "DSMAP.CAT"
  A_AXIS_RADIUS = 3396.0
  B_AXIS_RADIUS = 3396.0
  C_AXIS_RADIUS = 3396.0
  CENTER_LATITUDE = 0.0
  CENTER_LONGITUDE = 153.0
  COORDINATE_SYSTEM_NAME = PLANETOGRAPHIC
  COORDINATE_SYSTEM_TYPE = "BODY-FIXED ROTATING"
  EASTERNMOST_LONGITUDE = 171.78
  FIRST_STANDARD_PARALLEL = "N/A"
  LINE_FIRST_PIXEL = 1
  LINE_LAST_PIXEL = 21587
  LINE_PROJECTION_OFFSET = -181511.0
  MAP_PROJECTION_ROTATION = 0.0
  MAP_PROJECTION_TYPE = SINUSOIDAL
  MAP_RESOLUTION = 2370.85521546667
  MAP_SCALE = 0.025
  MAXIMUM_LATITUDE = -76.5591
  MINIMUM_LATITUDE = -85.67149999999999
  POSITIVE_LONGITUDE_DIRECTION = EAST
  REFERENCE_LATITUDE = "N/A"
  REFERENCE_LONGITUDE = "N/A"
  SAMPLE_FIRST_PIXEL = 1
  SAMPLE_LAST_PIXEL = 18494
  SAMPLE_PROJECTION_OFFSET = 8786.0
  SECOND_STANDARD_PARALLEL = "N/A"
  WESTERNMOST_LONGITUDE = 118.048
END_OBJECT = IMAGE_MAP_PROJECTION
END
