PDS_VERSION_ID = PDS3
/* FILE DATA ELEMENTS */
RECORD_TYPE = UNDEFINED
/* POINTERS TO DATA OBJECTS */
^IMAGE = ("H4762_0000_GR4.TIF")
/* IDENTIFICATION DATA ELEMENTS */
DATA_SET_ID = "MEX-M-HRSC-4-REFDR-MAPPROJECT-EXT1-V4.0"
DATA_SET_NAME = "MARS EXPRESS HRSC MAP PROJECTED REFDR EXTENSION1 V4.0"
DETECTOR_ID = MEX_HRSC_GREEN
EVENT_TYPE = "MARS-REGIONAL-MAPPING-Gl-La"
INSTRUMENT_HOST_ID = MEX
INSTRUMENT_HOST_NAME = "MARS EXPRESS"
INSTRUMENT_ID = HRSC
INSTRUMENT_NAME = "HIGH RESOLUTION STEREO CAMERA"
MISSION_NAME = "MARS EXPRESS"
MISSION_PHASE_NAME = ME_Phase_10
PROCESSING_LEVEL_ID = 4
PRODUCT_CREATION_TIME = 2023-02-11T00:15:54.000Z
PRODUCT_ID = "H4762_0000_GR4.TIF"
RELEASE_ID = 0007
REVISION_ID = 0000
/* QUALITY DATA ELEMENTS */
DATA_QUALITY_ID = 1
DATA_QUALITY_DESC = "Data calculated based on original SPICE kernels"
/* TIME DATA ELEMENTS */
SPACECRAFT_CLOCK_START_COUNT = "1/0138162412.08241"
SPACECRAFT_CLOCK_STOP_COUNT = "1/0138162725.49247"
START_TIME = 2007-09-18T02:27:35.212Z
STOP_TIME = 2007-09-18T02:30:28.826Z
/* ORBITAL DATA ELEMENTS */
ASCENDING_NODE_LONGITUDE = 128.88
MAXIMUM_RESOLUTION = 0.0806
FOOTPRINT_POINT_LATITUDE = (-84.0467,-84.4621,-84.7113,-84.9554, -85.1943,-85.4281,-85.657,-85.6711, -85.6509,-85.4383,-85.1372,-84.8526, -84.6681,-84.5401,-84.4088,-84.2027, -84.0612,-83.8451,-83.697,-83.5457, -83.3927,-83.2352,-83.0754,-82.9141, -82.7495,-82.5822,-82.4135,-82.154, -81.98,-81.806,-81.6274,-81.3573, -81.174,-80.9892,-80.7093,-80.5201, -80.3304,-80.0407,-79.8467,-79.5511, -79.353,-79.0513,-78.8495,-78.542, -78.3364,-78.1272,-77.9185,-77.6013, -77.4952,-77.4038,-77.2566,-77.082, -76.9366,-76.8411,-76.6958,-76.56, -76.55,-76.5481,-76.7508,-77.0528, -77.2516,-77.4497,-77.6446,-77.9351, -78.1255,-78.4093,-78.5952,-78.8719, -79.0533,-79.3226,-79.5866,-79.7611, -79.9319,-80.1016,-80.2691,-80.4333, -80.5959,-80.7561,-80.9904,-81.1432, -81.3727,-81.5232,-81.669,-81.8113, -81.9514,-82.0866,-82.2821,-82.4106, -82.5379,-82.6609,-82.7821,-82.9561, -83.1721,-83.324,-83.5113,-83.6419, -83.7978,-83.9054,-83.9386,-84.0467)
FOOTPRINT_POINT_LONGITUDE = (118.022,119.484,120.48,121.558,122.73, 124.007,125.406,125.498,125.596,130.699 ,136.223,140.341,142.622,144.059, 145.427,147.384,148.615,150.358,151.47, 152.527,153.535,154.509,155.439,156.326 ,157.181,158.002,158.785,159.907, 160.617,161.3,161.961,162.898,163.497, 164.072,164.895,165.421,165.926,166.655 ,167.117,167.786,168.211,168.826, 169.217,169.784,170.145,170.498,170.838 ,171.331,171.489,171.624,169.483, 167.271,165.628,164.629,163.198,161.955 ,161.867,161.834,161.449,160.846, 160.432,160.005,159.568,158.884,158.414 ,157.68,157.175,156.387,155.845,154.996 ,154.112,153.497,152.868,152.216, 151.543,150.851,150.133,149.394,148.24, 147.427,146.209,145.357,144.473,143.563 ,142.619,141.635,140.112,139.056,137.98 ,136.877,135.739,133.96,131.471,129.504 ,126.777,124.629,121.677,119.366, 118.584,118.022)
ORBIT_NUMBER = 4762
ORBITAL_ECCENTRICITY = 0.57
ORBITAL_INCLINATION = 86.68
ORBITAL_SEMIMAJOR_AXIS = 8554.13
PERIAPSIS_ALTITUDE = 298.38
PERIAPSIS_ARGUMENT_ANGLE = 240.39
PERIAPSIS_TIME = 2007-09-18T02:19:30.000Z
SPACECRAFT_ORIENTATION = (0.0,-1.0,0.0)
^MEX_ORIENTATION_DESC = "MEX_ORIENTATION_DESC.TXT"
SPACECRAFT_POINTING_MODE = ACROSSTRACK
^MEX_POINTING_DESC = "MEX_POINTING_DESC.TXT"
RIGHT_ASCENSION = -1e+32
DECLINATION = -1e+32
OFFSET_ANGLE = 1.4
SPACECRAFT_SOLAR_DISTANCE = 2.17284e+08
TARGET_NAME = MARS
/* CAMERA DATA ELEMENTS */
DETECTOR_TEMPERATURE = 18.3705
FOCAL_PLANE_TEMPERATURE = 8.9911
INST_CMPRS_NAME = "DISCRETE COSINE TRANSFORMATION (DCT)"
INST_CMPRS_RATIO = 21.0544
INST_CMPRS_QUALITY = 0
INST_CMPRS_QUANTZ_TBL_ID = 0
INSTRUMENT_TEMPERATURE = 11.4379
LENS_TEMPERATURE = 9.6028
MACROPIXEL_SIZE = 4
MISSING_FRAMES = 0
PIXEL_SUBSAMPLING_FLAG = N
SIGNAL_CHAIN_ID = 2
/* RADIOMETRIC DATA ELEMENTS */
BANDWIDTH = 88.0
CENTER_FILTER_WAVELENGTH = 538.0
RADIANCE_OFFSET = 1.14693
RADIANCE_SCALING_FACTOR = 0.00253
REFLECTANCE_SCALING_FACTOR = 0.000102841
MEX:REFLECTANCE_OFFSET = 0.0466213
/* IMAGE OBJECT DEFINITIONS */
OBJECT = IMAGE
  INTERCHANGE_FORMAT = BINARY
  LINES = 5397
  LINE_SAMPLES = 4624
  SAMPLE_TYPE = UNSIGNED_INTEGER
  SAMPLE_BITS = 8
  BANDS = 1
  BAND_STORAGE_TYPE = BAND_SEQUENTIAL
  MAXIMUM = 254
  MEAN = 111.537
  MINIMUM = 1
  STANDARD_DEVIATION = 54.411
END_OBJECT = IMAGE
/* MAP OBJECT DEFINITIONS */
OBJECT = IMAGE_MAP_PROJECTION
  ^DATA_SET_MAP_PROJECTION_CATALOG= "DSMAP.CAT"
  A_AXIS_RADIUS = 3396.0
  B_AXIS_RADIUS = 3396.0
  C_AXIS_RADIUS = 3396.0
  CENTER_LATITUDE = 0.0
  CENTER_LONGITUDE = 153.0
  COORDINATE_SYSTEM_NAME = PLANETOGRAPHIC
  COORDINATE_SYSTEM_TYPE = "BODY-FIXED ROTATING"
  EASTERNMOST_LONGITUDE = 171.624
  FIRST_STANDARD_PARALLEL = "N/A"
  LINE_FIRST_PIXEL = 1
  LINE_LAST_PIXEL = 5397
  LINE_PROJECTION_OFFSET = -45378.125
  MAP_PROJECTION_ROTATION = 0.0
  MAP_PROJECTION_TYPE = SINUSOIDAL
  MAP_RESOLUTION = 592.713803866667
  MAP_SCALE = 0.1
  MAXIMUM_LATITUDE = -76.54810000000001
  MINIMUM_LATITUDE = -85.6711
  POSITIVE_LONGITUDE_DIRECTION = EAST
  REFERENCE_LATITUDE = "N/A"
  REFERENCE_LONGITUDE = "N/A"
  SAMPLE_FIRST_PIXEL = 1
  SAMPLE_LAST_PIXEL = 4624
  SAMPLE_PROJECTION_OFFSET = 2196.125
  SECOND_STANDARD_PARALLEL = "N/A"
  WESTERNMOST_LONGITUDE = 118.022
END_OBJECT = IMAGE_MAP_PROJECTION
END
