PDS_VERSION_ID = PDS3
/* FILE DATA ELEMENTS */
RECORD_TYPE = UNDEFINED
/* POINTERS TO DATA OBJECTS */
^IMAGE = ("H4752_0000_S24.TIF")
/* IDENTIFICATION DATA ELEMENTS */
DATA_SET_ID = "MEX-M-HRSC-4-REFDR-MAPPROJECT-EXT1-V4.0"
DATA_SET_NAME = "MARS EXPRESS HRSC MAP PROJECTED REFDR EXTENSION1 V4.0"
DETECTOR_ID = MEX_HRSC_S2
EVENT_TYPE = "MARS-REGIONAL-MAPPING-Fl-Gl-La"
INSTRUMENT_HOST_ID = MEX
INSTRUMENT_HOST_NAME = "MARS EXPRESS"
INSTRUMENT_ID = HRSC
INSTRUMENT_NAME = "HIGH RESOLUTION STEREO CAMERA"
MISSION_NAME = "MARS EXPRESS"
MISSION_PHASE_NAME = ME_Phase_10
PROCESSING_LEVEL_ID = 4
PRODUCT_CREATION_TIME = 2023-02-11T00:15:54.000Z
PRODUCT_ID = "H4752_0000_S24.TIF"
RELEASE_ID = 0007
REVISION_ID = 0000
/* QUALITY DATA ELEMENTS */
DATA_QUALITY_ID = 1
DATA_QUALITY_DESC = "Data calculated based on original SPICE kernels"
/* TIME DATA ELEMENTS */
SPACECRAFT_CLOCK_START_COUNT = "1/0137920518.09075"
SPACECRAFT_CLOCK_STOP_COUNT = "1/0137920865.59008"
START_TIME = 2007-09-15T07:17:14.353Z
STOP_TIME = 2007-09-15T07:21:07.974Z
/* ORBITAL DATA ELEMENTS */
ASCENDING_NODE_LONGITUDE = 129.08
MAXIMUM_RESOLUTION = 0.0503
FOOTPRINT_POINT_LATITUDE = (-81.8886,-82.2066,-82.4244,-82.6309, -82.8258,-83.0091,-83.1808,-83.1911, -83.2651,-82.954,-82.6312,-82.2992, -81.9587,-81.6981,-81.3416,-80.8869, -80.5128,-80.3225,-80.1315,-79.9383, -79.7443,-79.5478,-79.3499,-79.15, -78.8477,-78.6445,-78.4387,-78.2324, -78.0231,-77.7082,-77.3895,-77.1758, -76.9593,-76.6241,-76.2961,-75.9652, -75.6307,-75.4056,-75.1786,-74.9501, -74.7205,-74.4888,-74.2555,-74.0212, -73.787,-73.5515,-73.3156,-73.1958, -73.1465,-73.1147,-73.08,-73.0372, -72.9971,-72.9474,-72.8825,-72.7922, -72.6997,-72.6319,-72.5273,-72.5188, -72.5165,-72.8596,-73.0867,-73.312, -73.5386,-73.7632,-73.9855,-74.3171, -74.6421,-74.8568,-75.0719,-75.2847, -75.4952,-75.7019,-75.9091,-76.1148, -76.3197,-76.5219,-76.8223,-77.021, -77.2174,-77.4121,-77.6052,-77.8008, -77.9904,-78.1768,-78.4538,-78.6354, -78.992,-79.3447,-79.6863,-80.0189, -80.3423,-80.7329,-81.0335,-81.3231, -81.6012,-81.8013,-81.8668,-81.8886)
FOOTPRINT_POINT_LONGITUDE = (41.6811,44.1752,46.073,48.0428,50.0831 ,52.1989,54.3914,54.5309,53.8727, 55.9015,57.7778,59.5027,61.0916,62.2029 ,63.5967,65.1913,66.3749,66.9374, 67.4775,68.0,68.5026,68.9911,69.4629, 69.9203,70.5782,70.9986,71.4087,71.8038 ,72.1899,72.7439,73.2744,73.6142, 73.9467,74.4415,74.8972,75.3344,75.7548 ,76.0265,76.2917,76.5503,76.8018,77.048 ,77.2881,77.5219,77.7484,77.9695, 78.1844,78.2913,78.3348,77.5583,76.7769 ,75.8979,75.1145,74.2349,73.1568, 71.7805,70.5025,69.6134,68.3267,68.2281 ,68.1917,67.809,67.5425,67.2719,66.9806 ,66.6852,66.3828,65.9105,65.4376, 65.1107,64.7644,64.4132,64.0549,63.7051 ,63.3301,62.9413,62.5397,62.1302, 61.4951,61.0539,60.6023,60.1381,59.6603 ,59.1174,58.6091,58.0938,57.2866, 56.7389,55.6032,54.3315,53.0231,51.6342 ,50.1587,48.1886,46.5027,44.7203, 42.8476,41.3519,40.8329,41.6811)
ORBIT_NUMBER = 4752
ORBITAL_ECCENTRICITY = 0.57
ORBITAL_INCLINATION = 86.7
ORBITAL_SEMIMAJOR_AXIS = 8549.06
PERIAPSIS_ALTITUDE = 297.24
PERIAPSIS_ARGUMENT_ANGLE = 242.14
PERIAPSIS_TIME = 2007-09-15T07:07:34.000Z
SPACECRAFT_ORIENTATION = (0.0,-1.0,0.0)
^MEX_ORIENTATION_DESC = "MEX_ORIENTATION_DESC.TXT"
SPACECRAFT_POINTING_MODE = ACROSSTRACK
^MEX_POINTING_DESC = "MEX_POINTING_DESC.TXT"
RIGHT_ASCENSION = -1e+32
DECLINATION = -1e+32
OFFSET_ANGLE = 1.8
SPACECRAFT_SOLAR_DISTANCE = 2.16793e+08
TARGET_NAME = MARS
/* CAMERA DATA ELEMENTS */
DETECTOR_TEMPERATURE = 18.7783
FOCAL_PLANE_TEMPERATURE = 8.7872
INST_CMPRS_NAME = "DISCRETE COSINE TRANSFORMATION (DCT)"
INST_CMPRS_RATIO = 13.5016
INST_CMPRS_QUALITY = 0
INST_CMPRS_QUANTZ_TBL_ID = 0
INSTRUMENT_TEMPERATURE = 11.234
LENS_TEMPERATURE = 9.195
MACROPIXEL_SIZE = 2
MISSING_FRAMES = 0
PIXEL_SUBSAMPLING_FLAG = N
SIGNAL_CHAIN_ID = 1
/* RADIOMETRIC DATA ELEMENTS */
BANDWIDTH = 178.0
CENTER_FILTER_WAVELENGTH = 679.0
RADIANCE_OFFSET = 3.62383
RADIANCE_SCALING_FACTOR = 0.00991815
REFLECTANCE_SCALING_FACTOR = 0.000246862
MEX:REFLECTANCE_OFFSET = 0.0901966
/* IMAGE OBJECT DEFINITIONS */
OBJECT = IMAGE
  INTERCHANGE_FORMAT = BINARY
  LINES = 12804
  LINE_SAMPLES = 8182
  SAMPLE_TYPE = UNSIGNED_INTEGER
  SAMPLE_BITS = 8
  BANDS = 1
  BAND_STORAGE_TYPE = BAND_SEQUENTIAL
  MAXIMUM = 255
  MEAN = 121.16
  MINIMUM = 1
  STANDARD_DEVIATION = 36.9657
END_OBJECT = IMAGE
/* MAP OBJECT DEFINITIONS */
OBJECT = IMAGE_MAP_PROJECTION
  ^DATA_SET_MAP_PROJECTION_CATALOG= "DSMAP.CAT"
  A_AXIS_RADIUS = 3396.0
  B_AXIS_RADIUS = 3396.0
  C_AXIS_RADIUS = 3396.0
  CENTER_LATITUDE = 0.0
  CENTER_LONGITUDE = 65.0
  COORDINATE_SYSTEM_NAME = PLANETOGRAPHIC
  COORDINATE_SYSTEM_TYPE = "BODY-FIXED ROTATING"
  EASTERNMOST_LONGITUDE = 78.3348
  FIRST_STANDARD_PARALLEL = "N/A"
  LINE_FIRST_PIXEL = 1
  LINE_LAST_PIXEL = 12804
  LINE_PROJECTION_OFFSET = -85941.75
  MAP_PROJECTION_ROTATION = 0.0
  MAP_PROJECTION_TYPE = SINUSOIDAL
  MAP_RESOLUTION = 1185.42760773333
  MAP_SCALE = 0.05
  MAXIMUM_LATITUDE = -72.51649999999999
  MINIMUM_LATITUDE = -83.2651
  POSITIVE_LONGITUDE_DIRECTION = EAST
  REFERENCE_LATITUDE = "N/A"
  REFERENCE_LONGITUDE = "N/A"
  SAMPLE_FIRST_PIXEL = 1
  SAMPLE_LAST_PIXEL = 8182
  SAMPLE_PROJECTION_OFFSET = 3918.25
  SECOND_STANDARD_PARALLEL = "N/A"
  WESTERNMOST_LONGITUDE = 40.8329
END_OBJECT = IMAGE_MAP_PROJECTION
END
