PDS_VERSION_ID = PDS3
/* FILE DATA ELEMENTS */
RECORD_TYPE = UNDEFINED
/* POINTERS TO DATA OBJECTS */
^IMAGE = ("H4737_0000_S14.TIF")
/* IDENTIFICATION DATA ELEMENTS */
DATA_SET_ID = "MEX-M-HRSC-4-REFDR-MAPPROJECT-EXT1-V4.0"
DATA_SET_NAME = "MARS EXPRESS HRSC MAP PROJECTED REFDR EXTENSION1 V4.0"
DETECTOR_ID = MEX_HRSC_S1
EVENT_TYPE = "MARS-REGIONAL-MAPPING-Fl-Gl-La"
INSTRUMENT_HOST_ID = MEX
INSTRUMENT_HOST_NAME = "MARS EXPRESS"
INSTRUMENT_ID = HRSC
INSTRUMENT_NAME = "HIGH RESOLUTION STEREO CAMERA"
MISSION_NAME = "MARS EXPRESS"
MISSION_PHASE_NAME = ME_Phase_10
PROCESSING_LEVEL_ID = 4
PRODUCT_CREATION_TIME = 2023-02-11T00:15:54.000Z
PRODUCT_ID = "H4737_0000_S14.TIF"
RELEASE_ID = 0007
REVISION_ID = 0000
/* QUALITY DATA ELEMENTS */
DATA_QUALITY_ID = 1
DATA_QUALITY_DESC = "Data calculated based on original SPICE kernels"
/* TIME DATA ELEMENTS */
SPACECRAFT_CLOCK_START_COUNT = "1/0137557561.07583"
SPACECRAFT_CLOCK_STOP_COUNT = "1/0137557921.35926"
START_TIME = 2007-09-11T02:26:05.079Z
STOP_TIME = 2007-09-11T02:29:32.700Z
/* ORBITAL DATA ELEMENTS */
ASCENDING_NODE_LONGITUDE = 129.38
MAXIMUM_RESOLUTION = 0.037
FOOTPRINT_POINT_LATITUDE = (-84.1763,-84.6679,-85.06,-85.4305, -85.4417,-85.3785,-85.1502,-84.7341, -84.4689,-84.0944,-83.9002,-83.7005, -83.4956,-83.2901,-82.9772,-82.7625, -82.5452,-82.326,-82.1083,-81.769, -81.5409,-81.3081,-81.0725,-80.8358, -80.595,-80.3514,-80.1072,-79.8578, -79.6066,-79.3537,-79.0918,-78.8362, -78.5768,-78.3135,-78.0498,-77.6479, -77.3787,-77.105,-76.8311,-76.5545, -76.2752,-75.9971,-75.5774,-75.286, -74.849,-74.5543,-74.2595,-73.9607, -73.5143,-73.3616,-73.3415,-73.2647, -73.1561,-73.0846,-72.9939,-72.8705, -72.7514,-72.7442,-72.7424,-73.0411, -73.3357,-73.7742,-74.0612,-74.4896, -74.7601,-75.036,-75.3124,-75.585, -75.8679,-76.2646,-76.5307,-76.7967, -77.1817,-77.5582,-77.8095,-78.1817, -78.4274,-78.67,-79.0275,-79.265, -79.4968,-79.7276,-79.9561,-80.178, -80.5093,-80.7219,-81.0396,-81.2485, -81.4508,-81.7534,-81.9509,-82.1418, -82.3293,-82.6044,-83.0339,-83.5103, -83.7292,-83.9972,-84.0601,-84.1763)
FOOTPRINT_POINT_LONGITUDE = (67.1672,70.0544,72.8693,76.1055, 76.2143,77.0905,80.166,84.7506,87.1696, 90.0986,91.4361,92.7018,93.9036,95.0215 ,96.5748,97.5497,98.4704,99.338,100.148 ,101.311,102.034,102.728,103.39,104.017 ,104.619,105.195,105.741,106.27,106.774 ,107.256,107.729,108.168,108.593, 109.003,109.394,109.956,110.311,110.656 ,110.985,111.304,111.611,111.905, 112.325,112.601,112.995,113.246,113.488 ,113.724,114.058,114.168,114.183, 112.996,111.533,110.631,109.592,108.282 ,107.116,107.048,107.023,106.744,106.46 ,106.014,105.703,105.22,104.874,104.527 ,104.167,103.797,103.421,102.818,102.4, 101.971,101.29,100.574,100.074,99.2928, 98.7455,98.1777,97.2868,96.6596,96.0147 ,95.3392,94.6354,93.9083,92.751,91.9449 ,90.6676,89.7631,88.8335,87.3486, 86.2985,85.2158,84.0784,82.2643,78.9969 ,74.5721,72.1338,68.6726,67.7644, 67.1672)
ORBIT_NUMBER = 4737
ORBITAL_ECCENTRICITY = 0.57
ORBITAL_INCLINATION = 86.69
ORBITAL_SEMIMAJOR_AXIS = 8545.38
PERIAPSIS_ALTITUDE = 297.42
PERIAPSIS_ARGUMENT_ANGLE = 244.74
PERIAPSIS_TIME = 2007-09-11T02:19:28.000Z
SPACECRAFT_ORIENTATION = (0.0,-1.0,0.0)
^MEX_ORIENTATION_DESC = "MEX_ORIENTATION_DESC.TXT"
SPACECRAFT_POINTING_MODE = ACROSSTRACK
^MEX_POINTING_DESC = "MEX_POINTING_DESC.TXT"
RIGHT_ASCENSION = -1e+32
DECLINATION = -1e+32
OFFSET_ANGLE = 0.9
SPACECRAFT_SOLAR_DISTANCE = 2.16069e+08
TARGET_NAME = MARS
/* CAMERA DATA ELEMENTS */
DETECTOR_TEMPERATURE = 17.7588
FOCAL_PLANE_TEMPERATURE = 8.7872
INST_CMPRS_NAME = "DISCRETE COSINE TRANSFORMATION (DCT)"
INST_CMPRS_RATIO = 10.5296
INST_CMPRS_QUALITY = 0
INST_CMPRS_QUANTZ_TBL_ID = 0
INSTRUMENT_TEMPERATURE = 11.4379
LENS_TEMPERATURE = 8.9911
MACROPIXEL_SIZE = 2
MISSING_FRAMES = 0
PIXEL_SUBSAMPLING_FLAG = N
SIGNAL_CHAIN_ID = 1
/* RADIOMETRIC DATA ELEMENTS */
BANDWIDTH = 180.0
CENTER_FILTER_WAVELENGTH = 677.0
RADIANCE_OFFSET = 3.99513
RADIANCE_SCALING_FACTOR = 0.0116919
REFLECTANCE_SCALING_FACTOR = 0.000284784
MEX:REFLECTANCE_OFFSET = 0.0973108
/* IMAGE OBJECT DEFINITIONS */
OBJECT = IMAGE
  INTERCHANGE_FORMAT = BINARY
  LINES = 29927
  LINE_SAMPLES = 17554
  SAMPLE_TYPE = UNSIGNED_INTEGER
  SAMPLE_BITS = 8
  BANDS = 1
  BAND_STORAGE_TYPE = BAND_SEQUENTIAL
  MAXIMUM = 255
  MEAN = 118.708
  MINIMUM = 1
  STANDARD_DEVIATION = 42.5317
END_OBJECT = IMAGE
/* MAP OBJECT DEFINITIONS */
OBJECT = IMAGE_MAP_PROJECTION
  ^DATA_SET_MAP_PROJECTION_CATALOG= "DSMAP.CAT"
  A_AXIS_RADIUS = 3396.0
  B_AXIS_RADIUS = 3396.0
  C_AXIS_RADIUS = 3396.0
  CENTER_LATITUDE = 0.0
  CENTER_LONGITUDE = 101.0
  COORDINATE_SYSTEM_NAME = PLANETOGRAPHIC
  COORDINATE_SYSTEM_TYPE = "BODY-FIXED ROTATING"
  EASTERNMOST_LONGITUDE = 114.183
  FIRST_STANDARD_PARALLEL = "N/A"
  LINE_FIRST_PIXEL = 1
  LINE_LAST_PIXEL = 29927
  LINE_PROJECTION_OFFSET = -172460.75
  MAP_PROJECTION_ROTATION = 0.0
  MAP_PROJECTION_TYPE = SINUSOIDAL
  MAP_RESOLUTION = 2370.85521546667
  MAP_SCALE = 0.025
  MAXIMUM_LATITUDE = -72.7424
  MINIMUM_LATITUDE = -85.4417
  POSITIVE_LONGITUDE_DIRECTION = EAST
  REFERENCE_LATITUDE = "N/A"
  REFERENCE_LONGITUDE = "N/A"
  SAMPLE_FIRST_PIXEL = 1
  SAMPLE_LAST_PIXEL = 17554
  SAMPLE_PROJECTION_OFFSET = 8296.75
  SECOND_STANDARD_PARALLEL = "N/A"
  WESTERNMOST_LONGITUDE = 67.16719999999999
END_OBJECT = IMAGE_MAP_PROJECTION
END
