PDS_VERSION_ID = PDS3
/* FILE DATA ELEMENTS */
RECORD_TYPE = UNDEFINED
/* POINTERS TO DATA OBJECTS */
^IMAGE = ("H4737_0000_RE4.TIF")
/* IDENTIFICATION DATA ELEMENTS */
DATA_SET_ID = "MEX-M-HRSC-4-REFDR-MAPPROJECT-EXT1-V4.0"
DATA_SET_NAME = "MARS EXPRESS HRSC MAP PROJECTED REFDR EXTENSION1 V4.0"
DETECTOR_ID = MEX_HRSC_RED
EVENT_TYPE = "MARS-REGIONAL-MAPPING-Fl-Gl-La"
INSTRUMENT_HOST_ID = MEX
INSTRUMENT_HOST_NAME = "MARS EXPRESS"
INSTRUMENT_ID = HRSC
INSTRUMENT_NAME = "HIGH RESOLUTION STEREO CAMERA"
MISSION_NAME = "MARS EXPRESS"
MISSION_PHASE_NAME = ME_Phase_10
PROCESSING_LEVEL_ID = 4
PRODUCT_CREATION_TIME = 2023-02-11T00:15:54.000Z
PRODUCT_ID = "H4737_0000_RE4.TIF"
RELEASE_ID = 0007
REVISION_ID = 0000
/* QUALITY DATA ELEMENTS */
DATA_QUALITY_ID = 1
DATA_QUALITY_DESC = "Data calculated based on original SPICE kernels"
/* TIME DATA ELEMENTS */
SPACECRAFT_CLOCK_START_COUNT = "1/0137557561.07583"
SPACECRAFT_CLOCK_STOP_COUNT = "1/0137557921.35926"
START_TIME = 2007-09-11T02:27:28.963Z
STOP_TIME = 2007-09-11T02:31:46.528Z
/* ORBITAL DATA ELEMENTS */
ASCENDING_NODE_LONGITUDE = 129.38
MAXIMUM_RESOLUTION = 0.0834
FOOTPRINT_POINT_LATITUDE = (-84.0029,-84.3464,-84.5498,-84.7469, -84.9371,-85.1204,-85.2964,-85.3072, -85.365,-85.042,-84.6958,-84.2345, -83.8501,-83.5471,-83.1311,-82.9182, -82.5915,-82.3712,-82.1416,-81.9149, -81.5683,-81.3357,-81.0986,-80.8613, -80.6195,-80.378,-80.1318,-79.8854, -79.6351,-79.2615,-79.0072,-78.7492, -78.3591,-78.0976,-77.8324,-77.5664, -77.2971,-77.026,-76.6133,-76.3361, -76.055,-75.7806,-75.4971,-75.209, -74.7761,-74.3394,-74.0478,-73.7512, -73.4491,-73.2992,-73.2538,-73.1916, -73.1306,-73.0252,-72.8869,-72.8158, -72.7518,-72.7452,-72.7445,-73.1804, -73.4676,-73.8974,-74.1791,-74.4559, -74.7349,-75.0136,-75.2864,-75.5538, -75.8193,-76.0887,-76.4848,-76.8721, -77.1288,-77.3858,-77.6361,-77.885, -78.1308,-78.4949,-78.7352,-78.9715, -79.2059,-79.4369,-79.7782,-80.0033, -80.2238,-80.551,-80.7643,-80.9751, -81.1814,-81.4854,-81.6823,-82.0663, -82.3443,-82.7854,-83.1169,-83.3512, -83.7145,-83.9145,-83.9776,-84.0029)
FOOTPRINT_POINT_LONGITUDE = (67.9386,70.4311,72.0938,73.8638, 75.7475,77.7562,79.9029,80.0418,79.3489 ,83.3111,86.7954,90.5775,93.1847, 94.9721,97.1213,98.1072,99.493,100.351, 101.186,101.96,103.053,103.733,104.386, 105.003,105.596,106.157,106.698,107.211 ,107.706,108.401,108.844,109.272,109.88 ,110.264,110.636,110.993,111.337, 111.669,112.146,112.449,112.744,113.024 ,113.298,113.564,113.945,114.309, 114.541,114.767,114.987,115.093,115.125 ,113.539,112.201,110.286,108.125,107.13 ,106.305,106.223,106.194,105.783, 105.501,105.045,104.737,104.429,104.09, 103.733,103.377,103.025,102.661,102.247 ,101.62,100.978,100.521,100.03,99.5444, 99.0398,98.5157,97.6911,97.112,96.5144, 95.8934,95.2482,94.2336,93.5161,92.7759 ,91.5919,90.7672,89.9054,89.0108, 87.5919,86.6164,84.5046,82.7949,79.6798 ,76.935,74.7316,70.7181,68.0987,67.1943 ,67.9386)
ORBIT_NUMBER = 4737
ORBITAL_ECCENTRICITY = 0.57
ORBITAL_INCLINATION = 86.69
ORBITAL_SEMIMAJOR_AXIS = 8545.38
PERIAPSIS_ALTITUDE = 297.42
PERIAPSIS_ARGUMENT_ANGLE = 244.74
PERIAPSIS_TIME = 2007-09-11T02:19:28.000Z
SPACECRAFT_ORIENTATION = (0.0,-1.0,0.0)
^MEX_ORIENTATION_DESC = "MEX_ORIENTATION_DESC.TXT"
SPACECRAFT_POINTING_MODE = ACROSSTRACK
^MEX_POINTING_DESC = "MEX_POINTING_DESC.TXT"
RIGHT_ASCENSION = -1e+32
DECLINATION = -1e+32
OFFSET_ANGLE = 0.9
SPACECRAFT_SOLAR_DISTANCE = 2.16069e+08
TARGET_NAME = MARS
/* CAMERA DATA ELEMENTS */
DETECTOR_TEMPERATURE = 18.7783
FOCAL_PLANE_TEMPERATURE = 8.7872
INST_CMPRS_NAME = "DISCRETE COSINE TRANSFORMATION (DCT)"
INST_CMPRS_RATIO = 22.2728
INST_CMPRS_QUALITY = 0
INST_CMPRS_QUANTZ_TBL_ID = 0
INSTRUMENT_TEMPERATURE = 11.4379
LENS_TEMPERATURE = 8.9911
MACROPIXEL_SIZE = 4
MISSING_FRAMES = 0
PIXEL_SUBSAMPLING_FLAG = N
SIGNAL_CHAIN_ID = 2
/* RADIOMETRIC DATA ELEMENTS */
BANDWIDTH = 48.0
CENTER_FILTER_WAVELENGTH = 748.0
RADIANCE_OFFSET = 0.91883
RADIANCE_SCALING_FACTOR = 0.0031318
REFLECTANCE_SCALING_FACTOR = 0.000333664
MEX:REFLECTANCE_OFFSET = 0.0978927
/* IMAGE OBJECT DEFINITIONS */
OBJECT = IMAGE
  INTERCHANGE_FORMAT = BINARY
  LINES = 14964
  LINE_SAMPLES = 8777
  SAMPLE_TYPE = UNSIGNED_INTEGER
  SAMPLE_BITS = 8
  BANDS = 1
  BAND_STORAGE_TYPE = BAND_SEQUENTIAL
  MAXIMUM = 255
  MEAN = 118.786
  MINIMUM = 1
  STANDARD_DEVIATION = 45.9144
END_OBJECT = IMAGE
/* MAP OBJECT DEFINITIONS */
OBJECT = IMAGE_MAP_PROJECTION
  ^DATA_SET_MAP_PROJECTION_CATALOG= "DSMAP.CAT"
  A_AXIS_RADIUS = 3396.0
  B_AXIS_RADIUS = 3396.0
  C_AXIS_RADIUS = 3396.0
  CENTER_LATITUDE = 0.0
  CENTER_LONGITUDE = 101.0
  COORDINATE_SYSTEM_NAME = PLANETOGRAPHIC
  COORDINATE_SYSTEM_TYPE = "BODY-FIXED ROTATING"
  EASTERNMOST_LONGITUDE = 115.125
  FIRST_STANDARD_PARALLEL = "N/A"
  LINE_FIRST_PIXEL = 1
  LINE_LAST_PIXEL = 14964
  LINE_PROJECTION_OFFSET = -86230.625
  MAP_PROJECTION_ROTATION = 0.0
  MAP_PROJECTION_TYPE = SINUSOIDAL
  MAP_RESOLUTION = 1185.42760773333
  MAP_SCALE = 0.05
  MAXIMUM_LATITUDE = -72.7445
  MINIMUM_LATITUDE = -85.36499999999999
  POSITIVE_LONGITUDE_DIRECTION = EAST
  REFERENCE_LATITUDE = "N/A"
  REFERENCE_LONGITUDE = "N/A"
  SAMPLE_FIRST_PIXEL = 1
  SAMPLE_LAST_PIXEL = 8777
  SAMPLE_PROJECTION_OFFSET = 4148.125
  SECOND_STANDARD_PARALLEL = "N/A"
  WESTERNMOST_LONGITUDE = 67.1943
END_OBJECT = IMAGE_MAP_PROJECTION
END
