PDS_VERSION_ID = PDS3
/* FILE DATA ELEMENTS */
RECORD_TYPE = UNDEFINED
/* POINTERS TO DATA OBJECTS */
^IMAGE = ("H4737_0000_P24.TIF")
/* IDENTIFICATION DATA ELEMENTS */
DATA_SET_ID = "MEX-M-HRSC-4-REFDR-MAPPROJECT-EXT1-V4.0"
DATA_SET_NAME = "MARS EXPRESS HRSC MAP PROJECTED REFDR EXTENSION1 V4.0"
DETECTOR_ID = MEX_HRSC_P2
EVENT_TYPE = "MARS-REGIONAL-MAPPING-Fl-Gl-La"
INSTRUMENT_HOST_ID = MEX
INSTRUMENT_HOST_NAME = "MARS EXPRESS"
INSTRUMENT_ID = HRSC
INSTRUMENT_NAME = "HIGH RESOLUTION STEREO CAMERA"
MISSION_NAME = "MARS EXPRESS"
MISSION_PHASE_NAME = ME_Phase_10
PROCESSING_LEVEL_ID = 4
PRODUCT_CREATION_TIME = 2023-02-11T00:15:54.000Z
PRODUCT_ID = "H4737_0000_P24.TIF"
RELEASE_ID = 0007
REVISION_ID = 0000
/* QUALITY DATA ELEMENTS */
DATA_QUALITY_ID = 1
DATA_QUALITY_DESC = "Data calculated based on original SPICE kernels"
/* TIME DATA ELEMENTS */
SPACECRAFT_CLOCK_START_COUNT = "1/0137557561.07583"
SPACECRAFT_CLOCK_STOP_COUNT = "1/0137557921.35926"
START_TIME = 2007-09-11T02:27:19.904Z
STOP_TIME = 2007-09-11T02:31:30.850Z
/* ORBITAL DATA ELEMENTS */
ASCENDING_NODE_LONGITUDE = 129.38
MAXIMUM_RESOLUTION = 0.0405
FOOTPRINT_POINT_LATITUDE = (-84.0214,-84.3222,-84.5334,-84.738, -84.9356,-85.1259,-85.3086,-85.3197, -85.3664,-85.1275,-84.7883,-84.5199, -84.2396,-83.8549,-83.4513,-83.1376, -82.9254,-82.5991,-82.2643,-82.0377, -81.8107,-81.5786,-81.346,-81.1096, -80.872,-80.6311,-80.3889,-80.0198, -79.7726,-79.5215,-79.1445,-78.8893, -78.6302,-78.2389,-77.9759,-77.7092, -77.3068,-77.036,-76.7618,-76.485, -76.2058,-75.9242,-75.6471,-75.3629, -75.0717,-74.7836,-74.3463,-74.0536, -73.757,-73.4554,-73.3051,-73.2556, -73.2141,-73.1258,-73.0399,-72.9271, -72.8498,-72.7458,-72.739,-72.7373, -73.1751,-73.463,-73.8936,-74.1759, -74.595,-74.8744,-75.1495,-75.5549, -75.8208,-76.09,-76.3557,-76.745, -77.0025,-77.2597,-77.5129,-77.7634, -78.0107,-78.3772,-78.6191,-78.8569, -79.093,-79.3253,-79.5561,-79.7827, -80.0079,-80.2285,-80.4481,-80.6625, -80.9797,-81.1862,-81.4905,-81.8828, -82.3508,-82.7056,-82.9595,-83.2817, -83.5808,-83.9208,-83.9842,-84.0214)
FOOTPRINT_POINT_LONGITUDE = (67.8788,70.0007,71.6641,73.4405, 75.3355,77.3617,79.5308,79.6713,79.1254 ,82.1509,85.7537,88.1723,90.3831,93.005 ,95.3532,96.9517,97.9392,99.33,100.617, 101.42,102.174,102.899,103.582,104.236, 104.856,105.45,106.015,106.818,107.322, 107.807,108.493,108.928,109.348,109.945 ,110.324,110.69,111.212,111.543,111.865 ,112.175,112.474,112.763,113.04,113.309 ,113.572,113.824,114.188,114.42,114.646 ,114.865,114.972,115.007,113.992,112.13 ,110.612,108.844,107.752,106.415, 106.331,106.3,105.888,105.605,105.15, 104.84,104.36,104.007,103.657,103.124, 102.76,102.346,101.927,101.3,100.853, 100.379,99.8919,99.3935,98.8811,98.0709 ,97.5028,96.9165,96.3068,95.6761, 95.0149,94.3327,93.6153,92.8763,92.0933 ,91.2861,90.0085,89.1135,87.6954, 85.6798,82.895,80.4349,78.4438,75.5856, 72.4757,68.2161,67.3076,67.8788)
ORBIT_NUMBER = 4737
ORBITAL_ECCENTRICITY = 0.57
ORBITAL_INCLINATION = 86.69
ORBITAL_SEMIMAJOR_AXIS = 8545.38
PERIAPSIS_ALTITUDE = 297.42
PERIAPSIS_ARGUMENT_ANGLE = 244.74
PERIAPSIS_TIME = 2007-09-11T02:19:28.000Z
SPACECRAFT_ORIENTATION = (0.0,-1.0,0.0)
^MEX_ORIENTATION_DESC = "MEX_ORIENTATION_DESC.TXT"
SPACECRAFT_POINTING_MODE = ACROSSTRACK
^MEX_POINTING_DESC = "MEX_POINTING_DESC.TXT"
RIGHT_ASCENSION = -1e+32
DECLINATION = -1e+32
OFFSET_ANGLE = 0.9
SPACECRAFT_SOLAR_DISTANCE = 2.16069e+08
TARGET_NAME = MARS
/* CAMERA DATA ELEMENTS */
DETECTOR_TEMPERATURE = 18.7783
FOCAL_PLANE_TEMPERATURE = 8.7872
INST_CMPRS_NAME = "DISCRETE COSINE TRANSFORMATION (DCT)"
INST_CMPRS_RATIO = 7.14493
INST_CMPRS_QUALITY = 0
INST_CMPRS_QUANTZ_TBL_ID = 0
INSTRUMENT_TEMPERATURE = 11.4379
LENS_TEMPERATURE = 8.9911
MACROPIXEL_SIZE = 2
MISSING_FRAMES = 0
PIXEL_SUBSAMPLING_FLAG = N
SIGNAL_CHAIN_ID = 3
/* RADIOMETRIC DATA ELEMENTS */
BANDWIDTH = 177.0
CENTER_FILTER_WAVELENGTH = 676.5
RADIANCE_OFFSET = 3.2929
RADIANCE_SCALING_FACTOR = 0.0108273
REFLECTANCE_SCALING_FACTOR = 0.00026802
MEX:REFLECTANCE_OFFSET = 0.0815126
/* IMAGE OBJECT DEFINITIONS */
OBJECT = IMAGE
  INTERCHANGE_FORMAT = BINARY
  LINES = 29927
  LINE_SAMPLES = 17554
  SAMPLE_TYPE = UNSIGNED_INTEGER
  SAMPLE_BITS = 8
  BANDS = 1
  BAND_STORAGE_TYPE = BAND_SEQUENTIAL
  MAXIMUM = 255
  MEAN = 122.489
  MINIMUM = 1
  STANDARD_DEVIATION = 44.9131
END_OBJECT = IMAGE
/* MAP OBJECT DEFINITIONS */
OBJECT = IMAGE_MAP_PROJECTION
  ^DATA_SET_MAP_PROJECTION_CATALOG= "DSMAP.CAT"
  A_AXIS_RADIUS = 3396.0
  B_AXIS_RADIUS = 3396.0
  C_AXIS_RADIUS = 3396.0
  CENTER_LATITUDE = 0.0
  CENTER_LONGITUDE = 101.0
  COORDINATE_SYSTEM_NAME = PLANETOGRAPHIC
  COORDINATE_SYSTEM_TYPE = "BODY-FIXED ROTATING"
  EASTERNMOST_LONGITUDE = 115.007
  FIRST_STANDARD_PARALLEL = "N/A"
  LINE_FIRST_PIXEL = 1
  LINE_LAST_PIXEL = 29927
  LINE_PROJECTION_OFFSET = -172460.75
  MAP_PROJECTION_ROTATION = 0.0
  MAP_PROJECTION_TYPE = SINUSOIDAL
  MAP_RESOLUTION = 2370.85521546667
  MAP_SCALE = 0.025
  MAXIMUM_LATITUDE = -72.7373
  MINIMUM_LATITUDE = -85.3664
  POSITIVE_LONGITUDE_DIRECTION = EAST
  REFERENCE_LATITUDE = "N/A"
  REFERENCE_LONGITUDE = "N/A"
  SAMPLE_FIRST_PIXEL = 1
  SAMPLE_LAST_PIXEL = 17554
  SAMPLE_PROJECTION_OFFSET = 8296.75
  SECOND_STANDARD_PARALLEL = "N/A"
  WESTERNMOST_LONGITUDE = 67.30759999999999
END_OBJECT = IMAGE_MAP_PROJECTION
END
