PDS_VERSION_ID = PDS3
/* FILE DATA ELEMENTS */
RECORD_TYPE = UNDEFINED
/* POINTERS TO DATA OBJECTS */
^IMAGE = ("H4731_0000_S24.TIF")
/* IDENTIFICATION DATA ELEMENTS */
DATA_SET_ID = "MEX-M-HRSC-4-REFDR-MAPPROJECT-EXT1-V4.0"
DATA_SET_NAME = "MARS EXPRESS HRSC MAP PROJECTED REFDR EXTENSION1 V4.0"
DETECTOR_ID = MEX_HRSC_S2
EVENT_TYPE = "MARS-REGIONAL-STEREO-Gl-La"
INSTRUMENT_HOST_ID = MEX
INSTRUMENT_HOST_NAME = "MARS EXPRESS"
INSTRUMENT_ID = HRSC
INSTRUMENT_NAME = "HIGH RESOLUTION STEREO CAMERA"
MISSION_NAME = "MARS EXPRESS"
MISSION_PHASE_NAME = ME_Phase_10
PROCESSING_LEVEL_ID = 4
PRODUCT_CREATION_TIME = 2023-02-11T00:15:54.000Z
PRODUCT_ID = "H4731_0000_S24.TIF"
RELEASE_ID = 0007
REVISION_ID = 0000
/* QUALITY DATA ELEMENTS */
DATA_QUALITY_ID = 1
DATA_QUALITY_DESC = "Data calculated based on original SPICE kernels"
/* TIME DATA ELEMENTS */
SPACECRAFT_CLOCK_START_COUNT = "1/0137412525.07294"
SPACECRAFT_CLOCK_STOP_COUNT = "1/0137412869.39474"
START_TIME = 2007-09-09T10:10:50.734Z
STOP_TIME = 2007-09-09T10:14:31.618Z
/* ORBITAL DATA ELEMENTS */
ASCENDING_NODE_LONGITUDE = 129.5
MAXIMUM_RESOLUTION = 0.0274
FOOTPRINT_POINT_LATITUDE = (-77.0223,-77.171,-77.28,-77.3802, -77.4716,-77.5544,-77.6285,-77.6329, -77.7439,-77.4783,-77.1195,-76.8503, -76.5792,-76.3048,-75.9364,-75.4719, -74.9127,-74.5254,-74.3311,-74.1399, -73.9456,-73.6519,-73.4552,-73.2571, -73.0601,-72.8608,-72.5603,-72.3592, -72.1563,-71.8503,-71.5423,-71.2327, -71.0244,-70.8148,-70.6064,-70.3964, -70.188,-69.9763,-69.7568,-69.5414, -69.2159,-69.0015,-68.7873,-68.5762, -68.3668,-68.1567,-67.947,-67.8433, -67.8425,-67.8228,-67.8039,-67.7827, -67.7555,-67.725,-67.7009,-67.6703, -67.6387,-67.5995,-67.5664,-67.5269, -67.4775,-67.4716,-67.4693,-67.6728, -67.8798,-68.0866,-68.3971,-68.7107, -68.9203,-69.2359,-69.5514,-69.7615, -69.9696,-70.2773,-70.5822,-70.8862, -71.0882,-71.3892,-71.589,-71.8874, -72.0857,-72.2815,-72.5743,-72.7669, -73.0545,-73.2456,-73.5287,-73.7169, -73.9045,-74.3692,-74.7353,-75.0962, -75.455,-75.8091,-76.0726,-76.3329, -76.5919,-77.0181,-77.1029,-77.0223)
FOOTPRINT_POINT_LONGITUDE = (330.76,332.659,334.192,335.737,337.29, 338.854,340.429,340.528,340.482,340.833 ,341.283,341.604,341.914,342.215, 342.599,343.056,343.569,343.898,344.057 ,344.211,344.363,344.585,344.73,344.872 ,345.01,345.146,345.346,345.475,345.603 ,345.79,345.972,346.149,346.264,346.378 ,346.489,346.598,346.706,346.812, 346.916,347.019,347.168,347.264,347.358 ,347.45,347.54,347.627,347.713,347.755, 347.756,347.021,346.366,345.711,344.975 ,344.24,343.666,343.01,342.353,341.613, 340.949,340.29,339.553,339.471,339.43, 339.335,339.231,339.127,338.967,338.796 ,338.68,338.498,338.309,338.177,338.045 ,337.848,337.645,337.433,337.285, 337.059,336.904,336.663,336.495,336.329 ,336.07,335.896,335.628,335.443,335.162 ,334.967,334.767,334.247,333.815, 333.367,332.891,332.395,332.004,331.606 ,331.188,330.459,330.308,330.76)
ORBIT_NUMBER = 4731
ORBITAL_ECCENTRICITY = 0.57
ORBITAL_INCLINATION = 86.7
ORBITAL_SEMIMAJOR_AXIS = 8544.99
PERIAPSIS_ALTITUDE = 297.72
PERIAPSIS_ARGUMENT_ANGLE = 245.77
PERIAPSIS_TIME = 2007-09-09T10:00:14.000Z
SPACECRAFT_ORIENTATION = (0.0,-1.0,0.0)
^MEX_ORIENTATION_DESC = "MEX_ORIENTATION_DESC.TXT"
SPACECRAFT_POINTING_MODE = ACROSSTRACK
^MEX_POINTING_DESC = "MEX_POINTING_DESC.TXT"
RIGHT_ASCENSION = -1e+32
DECLINATION = -1e+32
OFFSET_ANGLE = 0.9
SPACECRAFT_SOLAR_DISTANCE = 2.15784e+08
TARGET_NAME = MARS
/* CAMERA DATA ELEMENTS */
DETECTOR_TEMPERATURE = 18.5744
FOCAL_PLANE_TEMPERATURE = 8.9911
INST_CMPRS_NAME = "DISCRETE COSINE TRANSFORMATION (DCT)"
INST_CMPRS_RATIO = 8.01454
INST_CMPRS_QUALITY = 0
INST_CMPRS_QUANTZ_TBL_ID = 0
INSTRUMENT_TEMPERATURE = 11.4379
LENS_TEMPERATURE = 9.195
MACROPIXEL_SIZE = 1
MISSING_FRAMES = 0
PIXEL_SUBSAMPLING_FLAG = N
SIGNAL_CHAIN_ID = 1
/* RADIOMETRIC DATA ELEMENTS */
BANDWIDTH = 178.0
CENTER_FILTER_WAVELENGTH = 679.0
RADIANCE_OFFSET = 4.61304
RADIANCE_SCALING_FACTOR = 0.0127812
REFLECTANCE_SCALING_FACTOR = 0.000315171
MEX:REFLECTANCE_OFFSET = 0.113752
/* IMAGE OBJECT DEFINITIONS */
OBJECT = IMAGE
  INTERCHANGE_FORMAT = BINARY
  LINES = 24441
  LINE_SAMPLES = 11077
  SAMPLE_TYPE = UNSIGNED_INTEGER
  SAMPLE_BITS = 8
  BANDS = 1
  BAND_STORAGE_TYPE = BAND_SEQUENTIAL
  MAXIMUM = 253
  MEAN = 132.11
  MINIMUM = 1
  STANDARD_DEVIATION = 25.7886
END_OBJECT = IMAGE
/* MAP OBJECT DEFINITIONS */
OBJECT = IMAGE_MAP_PROJECTION
  ^DATA_SET_MAP_PROJECTION_CATALOG= "DSMAP.CAT"
  A_AXIS_RADIUS = 3396.0
  B_AXIS_RADIUS = 3396.0
  C_AXIS_RADIUS = 3396.0
  CENTER_LATITUDE = 0.0
  CENTER_LONGITUDE = 340.0
  COORDINATE_SYSTEM_NAME = PLANETOGRAPHIC
  COORDINATE_SYSTEM_TYPE = "BODY-FIXED ROTATING"
  EASTERNMOST_LONGITUDE = 347.756
  FIRST_STANDARD_PARALLEL = "N/A"
  LINE_FIRST_PIXEL = 1
  LINE_LAST_PIXEL = 24441
  LINE_PROJECTION_OFFSET = -159957.0
  MAP_PROJECTION_ROTATION = 0.0
  MAP_PROJECTION_TYPE = SINUSOIDAL
  MAP_RESOLUTION = 2370.85521546667
  MAP_SCALE = 0.025
  MAXIMUM_LATITUDE = -67.4693
  MINIMUM_LATITUDE = -77.7439
  POSITIVE_LONGITUDE_DIRECTION = EAST
  REFERENCE_LATITUDE = "N/A"
  REFERENCE_LONGITUDE = "N/A"
  SAMPLE_FIRST_PIXEL = 1
  SAMPLE_LAST_PIXEL = 11077
  SAMPLE_PROJECTION_OFFSET = 4836.0
  SECOND_STANDARD_PARALLEL = "N/A"
  WESTERNMOST_LONGITUDE = 330.308
END_OBJECT = IMAGE_MAP_PROJECTION
END
