PDS_VERSION_ID = PDS3
/* FILE DATA ELEMENTS */
RECORD_TYPE = UNDEFINED
/* POINTERS TO DATA OBJECTS */
^IMAGE = ("H4730_0000_P24.TIF")
/* IDENTIFICATION DATA ELEMENTS */
DATA_SET_ID = "MEX-M-HRSC-4-REFDR-MAPPROJECT-EXT1-V4.0"
DATA_SET_NAME = "MARS EXPRESS HRSC MAP PROJECTED REFDR EXTENSION1 V4.0"
DETECTOR_ID = MEX_HRSC_P2
EVENT_TYPE = "MARS-REGIONAL-MAPPING-Fl-Gl-La"
INSTRUMENT_HOST_ID = MEX
INSTRUMENT_HOST_NAME = "MARS EXPRESS"
INSTRUMENT_ID = HRSC
INSTRUMENT_NAME = "HIGH RESOLUTION STEREO CAMERA"
MISSION_NAME = "MARS EXPRESS"
MISSION_PHASE_NAME = ME_Phase_10
PROCESSING_LEVEL_ID = 4
PRODUCT_CREATION_TIME = 2023-02-11T00:15:54.000Z
PRODUCT_ID = "H4730_0000_P24.TIF"
RELEASE_ID = 0007
REVISION_ID = 0000
/* QUALITY DATA ELEMENTS */
DATA_QUALITY_ID = 1
DATA_QUALITY_DESC = "Data calculated based on original SPICE kernels"
/* TIME DATA ELEMENTS */
SPACECRAFT_CLOCK_START_COUNT = "1/0137388240.08540"
SPACECRAFT_CLOCK_STOP_COUNT = "1/0137388546.54431"
START_TIME = 2007-09-09T03:25:22.023Z
STOP_TIME = 2007-09-09T03:28:38.124Z
/* ORBITAL DATA ELEMENTS */
ASCENDING_NODE_LONGITUDE = 129.52
MAXIMUM_RESOLUTION = 0.0421
FOOTPRINT_POINT_LATITUDE = (-82.318,-82.5454,-82.7015,-82.8498, -82.9899,-83.1216,-83.2449,-83.2524, -83.3152,-82.8254,-82.4057,-82.1497, -81.8894,-81.537,-80.9973,-80.6323, -80.4462,-80.1667,-79.979,-79.7885, -79.598,-79.4048,-79.1143,-78.9183, -78.721,-78.5243,-78.3238,-78.1234, -77.92,-77.7153,-77.5115,-77.3053, -77.0998,-76.8912,-76.6837,-76.472, -76.2616,-75.939,-75.7231,-75.5052, -75.1816,-74.9633,-74.7436,-74.522, -74.2984,-74.0744,-73.8487,-73.6249, -73.5107,-73.4631,-73.4246,-73.3641, -73.2797,-73.2063,-73.1431,-73.0815, -72.9787,-72.9723,-72.9708,-73.194, -73.4145,-73.7426,-74.0674,-74.2837, -74.4967,-74.7093,-74.9255,-75.1365, -75.3444,-75.5515,-75.7529,-75.9572, -76.2615,-76.4628,-76.6626,-76.8601, -77.0543,-77.2541,-77.4489,-77.6407, -77.8323,-78.0216,-78.2097,-78.4894, -78.6736,-78.8575,-79.038,-79.218, -79.5729,-79.9222,-80.2641,-80.5157, -80.764,-81.0879,-81.4054,-81.7135, -82.0139,-82.2335,-82.3059,-82.318)
FOOTPRINT_POINT_LONGITUDE = (53.581,55.9101,57.6724,59.4953,61.3758 ,63.3163,65.3179,65.4449,65.2535, 67.4515,69.081,69.9788,70.8275,71.8839, 73.3268,74.2015,74.6193,75.2153,75.5962 ,75.9664,76.3221,76.669,77.1661,77.486, 77.7957,78.0939,78.3863,78.668,78.9433, 79.2101,79.468,79.7198,79.9629,80.2014, 80.4315,80.6573,80.8757,81.1943,81.3987 ,81.5993,81.8889,82.0763,82.2591, 82.4376,82.6118,82.7817,82.9481,83.11, 83.19,83.223,82.3226,81.0118,79.3771, 78.1565,77.1826,76.2914,74.9171,74.8364 ,74.8065,74.5986,74.3907,74.0696, 73.7373,73.503,73.2685,73.0279,72.7486, 72.4881,72.226,71.9573,71.7055,71.4231, 70.9806,70.678,70.3622,70.0478,69.7369, 69.3627,69.0122,68.6542,68.2849,67.906, 67.5153,66.9094,66.491,66.0577,65.6155, 65.1578,64.1989,63.1783,62.0954,61.2371 ,60.3389,59.0713,57.7127,56.2676, 54.7185,53.4829,53.0566,53.581)
ORBIT_NUMBER = 4730
ORBITAL_ECCENTRICITY = 0.57
ORBITAL_INCLINATION = 86.7
ORBITAL_SEMIMAJOR_AXIS = 8544.01
PERIAPSIS_ALTITUDE = 296.75
PERIAPSIS_ARGUMENT_ANGLE = 245.96
PERIAPSIS_TIME = 2007-09-09T03:17:04.000Z
SPACECRAFT_ORIENTATION = (0.0,-1.0,0.0)
^MEX_ORIENTATION_DESC = "MEX_ORIENTATION_DESC.TXT"
SPACECRAFT_POINTING_MODE = ACROSSTRACK
^MEX_POINTING_DESC = "MEX_POINTING_DESC.TXT"
RIGHT_ASCENSION = -1e+32
DECLINATION = -1e+32
OFFSET_ANGLE = 0.75
SPACECRAFT_SOLAR_DISTANCE = 2.15737e+08
TARGET_NAME = MARS
/* CAMERA DATA ELEMENTS */
DETECTOR_TEMPERATURE = 18.7783
FOCAL_PLANE_TEMPERATURE = 8.9911
INST_CMPRS_NAME = "DISCRETE COSINE TRANSFORMATION (DCT)"
INST_CMPRS_RATIO = 7.22699
INST_CMPRS_QUALITY = 0
INST_CMPRS_QUANTZ_TBL_ID = 0
INSTRUMENT_TEMPERATURE = 11.6418
LENS_TEMPERATURE = 9.3989
MACROPIXEL_SIZE = 2
MISSING_FRAMES = 0
PIXEL_SUBSAMPLING_FLAG = N
SIGNAL_CHAIN_ID = 3
/* RADIOMETRIC DATA ELEMENTS */
BANDWIDTH = 177.0
CENTER_FILTER_WAVELENGTH = 676.5
RADIANCE_OFFSET = 4.04623
RADIANCE_SCALING_FACTOR = 0.00963736
REFLECTANCE_SCALING_FACTOR = 0.000237831
MEX:REFLECTANCE_OFFSET = 0.0998528
/* IMAGE OBJECT DEFINITIONS */
OBJECT = IMAGE
  INTERCHANGE_FORMAT = BINARY
  LINES = 12284
  LINE_SAMPLES = 6437
  SAMPLE_TYPE = UNSIGNED_INTEGER
  SAMPLE_BITS = 8
  BANDS = 1
  BAND_STORAGE_TYPE = BAND_SEQUENTIAL
  MAXIMUM = 255
  MEAN = 105.749
  MINIMUM = 1
  STANDARD_DEVIATION = 35.7391
END_OBJECT = IMAGE
/* MAP OBJECT DEFINITIONS */
OBJECT = IMAGE_MAP_PROJECTION
  ^DATA_SET_MAP_PROJECTION_CATALOG= "DSMAP.CAT"
  A_AXIS_RADIUS = 3396.0
  B_AXIS_RADIUS = 3396.0
  C_AXIS_RADIUS = 3396.0
  CENTER_LATITUDE = 0.0
  CENTER_LONGITUDE = 73.0
  COORDINATE_SYSTEM_NAME = PLANETOGRAPHIC
  COORDINATE_SYSTEM_TYPE = "BODY-FIXED ROTATING"
  EASTERNMOST_LONGITUDE = 83.223
  FIRST_STANDARD_PARALLEL = "N/A"
  LINE_FIRST_PIXEL = 1
  LINE_LAST_PIXEL = 12284
  LINE_PROJECTION_OFFSET = -86501.75
  MAP_PROJECTION_ROTATION = 0.0
  MAP_PROJECTION_TYPE = SINUSOIDAL
  MAP_RESOLUTION = 1185.42760773333
  MAP_SCALE = 0.05
  MAXIMUM_LATITUDE = -72.9708
  MINIMUM_LATITUDE = -83.3152
  POSITIVE_LONGITUDE_DIRECTION = EAST
  REFERENCE_LATITUDE = "N/A"
  REFERENCE_LONGITUDE = "N/A"
  SAMPLE_FIRST_PIXEL = 1
  SAMPLE_LAST_PIXEL = 6437
  SAMPLE_PROJECTION_OFFSET = 3122.25
  SECOND_STANDARD_PARALLEL = "N/A"
  WESTERNMOST_LONGITUDE = 53.0566
END_OBJECT = IMAGE_MAP_PROJECTION
END
