PDS_VERSION_ID = PDS3
/* FILE DATA ELEMENTS */
RECORD_TYPE = UNDEFINED
/* POINTERS TO DATA OBJECTS */
^IMAGE = ("H4721_0000_S24.TIF")
/* IDENTIFICATION DATA ELEMENTS */
DATA_SET_ID = "MEX-M-HRSC-4-REFDR-MAPPROJECT-EXT1-V4.0"
DATA_SET_NAME = "MARS EXPRESS HRSC MAP PROJECTED REFDR EXTENSION1 V4.0"
DETECTOR_ID = MEX_HRSC_S2
EVENT_TYPE = "MARS-REGIONAL-MAPPING-Im-Gl-La"
INSTRUMENT_HOST_ID = MEX
INSTRUMENT_HOST_NAME = "MARS EXPRESS"
INSTRUMENT_ID = HRSC
INSTRUMENT_NAME = "HIGH RESOLUTION STEREO CAMERA"
MISSION_NAME = "MARS EXPRESS"
MISSION_PHASE_NAME = ME_Phase_9
PROCESSING_LEVEL_ID = 4
PRODUCT_CREATION_TIME = 2023-02-11T00:15:54.000Z
PRODUCT_ID = "H4721_0000_S24.TIF"
RELEASE_ID = 0007
REVISION_ID = 0000
/* QUALITY DATA ELEMENTS */
DATA_QUALITY_ID = 1
DATA_QUALITY_DESC = "Data calculated based on original SPICE kernels"
/* TIME DATA ELEMENTS */
SPACECRAFT_CLOCK_START_COUNT = "1/0137170518.09069"
SPACECRAFT_CLOCK_STOP_COUNT = "1/0137170809.53555"
START_TIME = 2007-09-06T14:57:02.737Z
STOP_TIME = 2007-09-06T15:00:11.877Z
/* ORBITAL DATA ELEMENTS */
ASCENDING_NODE_LONGITUDE = 129.71
MAXIMUM_RESOLUTION = 0.0464
FOOTPRINT_POINT_LATITUDE = (-80.917,-81.0208,-81.1181,-81.2084, -81.2913,-81.3664,-81.456,-81.4597, -81.5775,-81.3256,-80.9871,-80.6426, -80.2974,-79.8634,-79.4202,-79.1535, -78.9743,-78.7953,-78.6146,-78.4333, -78.2524,-78.069,-77.7938,-77.5163, -77.3314,-77.0504,-76.8632,-76.6743, -76.3908,-76.1038,-75.9129,-75.7195, -75.5266,-75.2339,-75.0388,-74.842, -74.6457,-74.4466,-74.2484,-74.0479, -73.8476,-73.6424,-73.4471,-73.1365, -72.8285,-72.5186,-72.3101,-72.2068, -72.1736,-72.1556,-72.1229,-72.0984, -72.0748,-72.0251,-71.9691,-71.9333, -71.8697,-71.8335,-71.829,-71.8281, -72.1356,-72.3398,-72.5416,-72.844, -73.0466,-73.2469,-73.4459,-73.6428, -73.8407,-74.0362,-74.3291,-74.5229, -74.7164,-74.9078,-75.0996,-75.289, -75.5731,-75.7606,-75.9486,-76.2269, -76.4124,-76.5954,-76.8707,-77.1422, -77.3232,-77.5019,-77.6807,-77.9472, -78.1239,-78.3005,-78.4747,-78.6482, -79.08,-79.506,-79.8433,-80.1756, -80.5858,-80.9108,-80.991,-80.917)
FOOTPRINT_POINT_LONGITUDE = (237.376,239.074,240.824,242.626, 244.478,246.381,249.082,249.208,249.598 ,249.888,250.259,250.594,250.91,251.288 ,251.625,251.817,251.942,252.062, 252.179,252.293,252.403,252.511,252.666 ,252.817,252.914,253.055,253.145, 253.234,253.363,253.488,253.569,253.648 ,253.725,253.837,253.909,253.981, 254.051,254.119,254.186,254.251,254.315 ,254.372,254.445,254.528,254.614, 254.699,254.752,254.78,254.789,254.03, 252.854,252.105,251.445,250.218,249.006 ,248.285,247.097,246.469,246.39,246.362 ,246.225,246.131,246.035,245.887, 245.783,245.678,245.571,245.461,245.348 ,245.233,245.054,244.932,244.806, 244.677,244.545,244.41,244.2,244.056, 243.907,243.678,243.52,243.359,243.107, 242.847,242.666,242.482,242.292,241.997 ,241.793,241.582,241.367,241.146, 240.561,239.932,239.393,238.822,238.055 ,237.393,237.221,237.376)
ORBIT_NUMBER = 4721
ORBITAL_ECCENTRICITY = 0.57
ORBITAL_INCLINATION = 86.69
ORBITAL_SEMIMAJOR_AXIS = 8545.51
PERIAPSIS_ALTITUDE = 296.83
PERIAPSIS_ARGUMENT_ANGLE = 247.51
PERIAPSIS_TIME = 2007-09-06T14:48:08.000Z
SPACECRAFT_ORIENTATION = (0.0,-1.0,0.0)
^MEX_ORIENTATION_DESC = "MEX_ORIENTATION_DESC.TXT"
SPACECRAFT_POINTING_MODE = ACROSSTRACK
^MEX_POINTING_DESC = "MEX_POINTING_DESC.TXT"
RIGHT_ASCENSION = -1e+32
DECLINATION = -1e+32
OFFSET_ANGLE = -1.0
SPACECRAFT_SOLAR_DISTANCE = 2.15316e+08
TARGET_NAME = MARS
/* CAMERA DATA ELEMENTS */
DETECTOR_TEMPERATURE = 18.7783
FOCAL_PLANE_TEMPERATURE = 9.195
INST_CMPRS_NAME = "DISCRETE COSINE TRANSFORMATION (DCT)"
INST_CMPRS_RATIO = 12.4619
INST_CMPRS_QUALITY = 0
INST_CMPRS_QUANTZ_TBL_ID = 0
INSTRUMENT_TEMPERATURE = 11.4379
LENS_TEMPERATURE = 9.3989
MACROPIXEL_SIZE = 2
MISSING_FRAMES = 0
PIXEL_SUBSAMPLING_FLAG = N
SIGNAL_CHAIN_ID = 1
/* RADIOMETRIC DATA ELEMENTS */
BANDWIDTH = 178.0
CENTER_FILTER_WAVELENGTH = 679.0
RADIANCE_OFFSET = 4.46297
RADIANCE_SCALING_FACTOR = 0.0132446
REFLECTANCE_SCALING_FACTOR = 0.000325181
MEX:REFLECTANCE_OFFSET = 0.109574
/* IMAGE OBJECT DEFINITIONS */
OBJECT = IMAGE
  INTERCHANGE_FORMAT = BINARY
  LINES = 11445
  LINE_SAMPLES = 4161
  SAMPLE_TYPE = UNSIGNED_INTEGER
  SAMPLE_BITS = 8
  BANDS = 1
  BAND_STORAGE_TYPE = BAND_SEQUENTIAL
  MAXIMUM = 254
  MEAN = 142.176
  MINIMUM = 1
  STANDARD_DEVIATION = 42.3002
END_OBJECT = IMAGE
/* MAP OBJECT DEFINITIONS */
OBJECT = IMAGE_MAP_PROJECTION
  ^DATA_SET_MAP_PROJECTION_CATALOG= "DSMAP.CAT"
  A_AXIS_RADIUS = 3396.0
  B_AXIS_RADIUS = 3396.0
  C_AXIS_RADIUS = 3396.0
  CENTER_LATITUDE = 0.0
  CENTER_LONGITUDE = 248.0
  COORDINATE_SYSTEM_NAME = PLANETOGRAPHIC
  COORDINATE_SYSTEM_TYPE = "BODY-FIXED ROTATING"
  EASTERNMOST_LONGITUDE = 254.789
  FIRST_STANDARD_PARALLEL = "N/A"
  LINE_FIRST_PIXEL = 1
  LINE_LAST_PIXEL = 11445
  LINE_PROJECTION_OFFSET = -85231.25
  MAP_PROJECTION_ROTATION = 0.0
  MAP_PROJECTION_TYPE = SINUSOIDAL
  MAP_RESOLUTION = 1185.42760773333
  MAP_SCALE = 0.05
  MAXIMUM_LATITUDE = -71.82810000000001
  MINIMUM_LATITUDE = -81.5775
  POSITIVE_LONGITUDE_DIRECTION = EAST
  REFERENCE_LATITUDE = "N/A"
  REFERENCE_LONGITUDE = "N/A"
  SAMPLE_FIRST_PIXEL = 1
  SAMPLE_LAST_PIXEL = 4161
  SAMPLE_PROJECTION_OFFSET = 1937.75
  SECOND_STANDARD_PARALLEL = "N/A"
  WESTERNMOST_LONGITUDE = 237.221
END_OBJECT = IMAGE_MAP_PROJECTION
END
