PDS_VERSION_ID = PDS3
/* FILE DATA ELEMENTS */
RECORD_TYPE = UNDEFINED
/* POINTERS TO DATA OBJECTS */
^IMAGE = ("H4718_0000_S24.TIF")
/* IDENTIFICATION DATA ELEMENTS */
DATA_SET_ID = "MEX-M-HRSC-4-REFDR-MAPPROJECT-EXT1-V4.0"
DATA_SET_NAME = "MARS EXPRESS HRSC MAP PROJECTED REFDR EXTENSION1 V4.0"
DETECTOR_ID = MEX_HRSC_S2
EVENT_TYPE = "MARS-REGIONAL-MAPPING-Gl-La"
INSTRUMENT_HOST_ID = MEX
INSTRUMENT_HOST_NAME = "MARS EXPRESS"
INSTRUMENT_ID = HRSC
INSTRUMENT_NAME = "HIGH RESOLUTION STEREO CAMERA"
MISSION_NAME = "MARS EXPRESS"
MISSION_PHASE_NAME = ME_Phase_9
PROCESSING_LEVEL_ID = 4
PRODUCT_CREATION_TIME = 2023-02-11T00:15:54.000Z
PRODUCT_ID = "H4718_0000_S24.TIF"
RELEASE_ID = 0007
REVISION_ID = 0000
/* QUALITY DATA ELEMENTS */
DATA_QUALITY_ID = 1
DATA_QUALITY_DESC = "Data calculated based on original SPICE kernels"
/* TIME DATA ELEMENTS */
SPACECRAFT_CLOCK_START_COUNT = "1/0137097988.08224"
SPACECRAFT_CLOCK_STOP_COUNT = "1/0137098266.54795"
START_TIME = 2007-09-05T18:48:23.507Z
STOP_TIME = 2007-09-05T18:51:08.848Z
/* ORBITAL DATA ELEMENTS */
ASCENDING_NODE_LONGITUDE = 129.76
MAXIMUM_RESOLUTION = 0.0255
FOOTPRINT_POINT_LATITUDE = (-77.1047,-77.1637,-77.2143,-77.263, -77.3098,-77.3549,-77.3982,-77.4396, -77.4793,-77.5171,-77.5531,-77.5996, -77.6313,-77.6351,-77.7401,-77.3135, -77.0225,-76.5858,-76.1453,-75.8488, -75.6234,-75.3208,-75.0928,-74.8631, -74.556,-74.3229,-74.1674,-74.0106, -73.8531,-73.6962,-73.5378,-73.3809, -73.2202,-72.9811,-72.82,-72.5786, -72.3367,-72.0925,-71.9288,-71.7645, -71.5987,-71.4333,-71.2659,-71.0988, -70.9306,-70.7622,-70.5075,-70.2519, -70.0807,-69.9949,-69.9091,-69.8882, -69.8521,-69.8274,-69.8015,-69.774, -69.7452,-69.7199,-69.6918,-69.6648, -69.625,-69.5746,-69.5446,-69.5394, -69.5372,-69.7063,-69.8748,-70.1259, -70.3762,-70.5415,-70.7058,-70.9512, -71.1148,-71.2771,-71.5196,-71.7612, -71.9207,-72.0799,-72.2376,-72.3963, -72.5544,-72.7108,-72.9453,-73.1002, -73.3323,-73.4852,-73.7899,-74.0174, -74.1697,-74.4685,-74.9135,-75.2055, -75.6406,-75.9979,-76.282,-76.5626, -76.8404,-77.048,-77.1171,-77.1047)
FOOTPRINT_POINT_LONGITUDE = (170.824,171.612,172.317,173.024, 173.735,174.45,175.168,175.888,176.61, 177.336,178.065,179.073,179.809,179.902 ,179.925,180.416,180.728,181.173, 181.594,181.862,182.058,182.309,182.493 ,182.671,182.902,183.071,183.18,183.289 ,183.395,183.5,183.603,183.704,183.804, 183.951,184.047,184.189,184.327,184.463 ,184.551,184.638,184.724,184.809, 184.892,184.974,185.056,185.135,185.253 ,185.369,185.444,185.482,185.519, 184.818,183.807,183.187,182.567,181.869 ,181.33,180.706,180.163,179.701,179.09, 178.239,177.777,177.7,177.662,177.571, 177.477,177.335,177.188,177.089,176.989 ,176.836,176.729,176.623,176.459,176.29 ,176.176,176.06,175.944,175.821,175.698 ,175.573,175.381,175.251,175.05,174.915 ,174.637,174.421,174.269,173.969, 173.493,173.165,172.645,172.192,171.812 ,171.419,171.011,170.693,170.584, 170.824)
ORBIT_NUMBER = 4718
ORBITAL_ECCENTRICITY = 0.57
ORBITAL_INCLINATION = 86.68
ORBITAL_SEMIMAJOR_AXIS = 8544.3
PERIAPSIS_ALTITUDE = 297.25
PERIAPSIS_ARGUMENT_ANGLE = 248.04
PERIAPSIS_TIME = 2007-09-05T18:38:30.000Z
SPACECRAFT_ORIENTATION = (0.0,-1.0,0.0)
^MEX_ORIENTATION_DESC = "MEX_ORIENTATION_DESC.TXT"
SPACECRAFT_POINTING_MODE = ACROSSTRACK
^MEX_POINTING_DESC = "MEX_POINTING_DESC.TXT"
RIGHT_ASCENSION = -1e+32
DECLINATION = -1e+32
OFFSET_ANGLE = 0.458
SPACECRAFT_SOLAR_DISTANCE = 2.15177e+08
TARGET_NAME = MARS
/* CAMERA DATA ELEMENTS */
DETECTOR_TEMPERATURE = 18.7783
FOCAL_PLANE_TEMPERATURE = 9.195
INST_CMPRS_NAME = "DISCRETE COSINE TRANSFORMATION (DCT)"
INST_CMPRS_RATIO = 8.15844
INST_CMPRS_QUALITY = 0
INST_CMPRS_QUANTZ_TBL_ID = 0
INSTRUMENT_TEMPERATURE = 11.6418
LENS_TEMPERATURE = 9.8067
MACROPIXEL_SIZE = 1
MISSING_FRAMES = 0
PIXEL_SUBSAMPLING_FLAG = N
SIGNAL_CHAIN_ID = 1
/* RADIOMETRIC DATA ELEMENTS */
BANDWIDTH = 178.0
CENTER_FILTER_WAVELENGTH = 679.0
RADIANCE_OFFSET = 4.57455
RADIANCE_SCALING_FACTOR = 0.0130329
REFLECTANCE_SCALING_FACTOR = 0.00031957
MEX:REFLECTANCE_OFFSET = 0.112169
/* IMAGE OBJECT DEFINITIONS */
OBJECT = IMAGE
  INTERCHANGE_FORMAT = BINARY
  LINES = 19472
  LINE_SAMPLES = 9033
  SAMPLE_TYPE = UNSIGNED_INTEGER
  SAMPLE_BITS = 8
  BANDS = 1
  BAND_STORAGE_TYPE = BAND_SEQUENTIAL
  MAXIMUM = 254
  MEAN = 123.437
  MINIMUM = 1
  STANDARD_DEVIATION = 46.2812
END_OBJECT = IMAGE
/* MAP OBJECT DEFINITIONS */
OBJECT = IMAGE_MAP_PROJECTION
  ^DATA_SET_MAP_PROJECTION_CATALOG= "DSMAP.CAT"
  A_AXIS_RADIUS = 3396.0
  B_AXIS_RADIUS = 3396.0
  C_AXIS_RADIUS = 3396.0
  CENTER_LATITUDE = 0.0
  CENTER_LONGITUDE = 179.0
  COORDINATE_SYSTEM_NAME = PLANETOGRAPHIC
  COORDINATE_SYSTEM_TYPE = "BODY-FIXED ROTATING"
  EASTERNMOST_LONGITUDE = 185.519
  FIRST_STANDARD_PARALLEL = "N/A"
  LINE_FIRST_PIXEL = 1
  LINE_LAST_PIXEL = 19472
  LINE_PROJECTION_OFFSET = -164875.0
  MAP_PROJECTION_ROTATION = 0.0
  MAP_PROJECTION_TYPE = SINUSOIDAL
  MAP_RESOLUTION = 2370.85521546667
  MAP_SCALE = 0.025
  MAXIMUM_LATITUDE = -69.5372
  MINIMUM_LATITUDE = -77.7401
  POSITIVE_LONGITUDE_DIRECTION = EAST
  REFERENCE_LATITUDE = "N/A"
  REFERENCE_LONGITUDE = "N/A"
  SAMPLE_FIRST_PIXEL = 1
  SAMPLE_LAST_PIXEL = 9033
  SAMPLE_PROJECTION_OFFSET = 4246.0
  SECOND_STANDARD_PARALLEL = "N/A"
  WESTERNMOST_LONGITUDE = 170.584
END_OBJECT = IMAGE_MAP_PROJECTION
END
