PDS_VERSION_ID = PDS3
/* FILE DATA ELEMENTS */
RECORD_TYPE = UNDEFINED
/* POINTERS TO DATA OBJECTS */
^IMAGE = ("H4718_0000_P14.TIF")
/* IDENTIFICATION DATA ELEMENTS */
DATA_SET_ID = "MEX-M-HRSC-4-REFDR-MAPPROJECT-EXT1-V4.0"
DATA_SET_NAME = "MARS EXPRESS HRSC MAP PROJECTED REFDR EXTENSION1 V4.0"
DETECTOR_ID = MEX_HRSC_P1
EVENT_TYPE = "MARS-REGIONAL-MAPPING-Gl-La"
INSTRUMENT_HOST_ID = MEX
INSTRUMENT_HOST_NAME = "MARS EXPRESS"
INSTRUMENT_ID = HRSC
INSTRUMENT_NAME = "HIGH RESOLUTION STEREO CAMERA"
MISSION_NAME = "MARS EXPRESS"
MISSION_PHASE_NAME = ME_Phase_9
PROCESSING_LEVEL_ID = 4
PRODUCT_CREATION_TIME = 2023-02-11T00:15:54.000Z
PRODUCT_ID = "H4718_0000_P14.TIF"
RELEASE_ID = 0007
REVISION_ID = 0000
/* QUALITY DATA ELEMENTS */
DATA_QUALITY_ID = 1
DATA_QUALITY_DESC = "Data calculated based on original SPICE kernels"
/* TIME DATA ELEMENTS */
SPACECRAFT_CLOCK_START_COUNT = "1/0137097988.08224"
SPACECRAFT_CLOCK_STOP_COUNT = "1/0137098266.54795"
START_TIME = 2007-09-05T18:46:48.497Z
STOP_TIME = 2007-09-05T18:48:58.995Z
/* ORBITAL DATA ELEMENTS */
ASCENDING_NODE_LONGITUDE = 129.76
MAXIMUM_RESOLUTION = 0.042
FOOTPRINT_POINT_LATITUDE = (-77.2838,-77.3651,-77.4598,-77.5488, -77.6319,-77.709,-77.8179,-77.822, -77.7654,-77.4823,-77.1997,-76.9862, -76.7698,-76.4808,-76.1877,-75.82, -75.3735,-75.0738,-74.922,-74.7695, -74.6172,-74.4651,-74.3115,-74.1565, -74.0021,-73.8472,-73.6904,-73.5322, -73.2943,-73.1348,-72.977,-72.7375, -72.496,-72.3333,-72.1689,-72.007, -71.8414,-71.5937,-71.429,-71.2617, -71.0943,-70.9274,-70.6736,-70.504, -70.3346,-70.0772,-69.991,-69.9433, -69.913,-69.8607,-69.8072,-69.7728, -69.713,-69.6689,-69.6356,-69.5974, -69.5462,-69.541,-69.5399,-69.71,-69.88 ,-70.0477,-70.2149,-70.3824,-70.5473, -70.7135,-70.8787,-71.0427,-71.2053, -71.3679,-71.6113,-71.8512,-72.0113, -72.1707,-72.3279,-72.4851,-72.6431, -72.7998,-72.9553,-73.1861,-73.3404, -73.4928,-73.6444,-73.7964,-73.9479, -74.0975,-74.2471,-74.3966,-74.5454, -74.7652,-75.057,-75.4915,-75.7065, -76.0618,-76.3433,-76.5533,-76.8974, -77.1035,-77.1722,-77.2838)
FOOTPRINT_POINT_LONGITUDE = (171.225,172.168,173.338,174.521, 175.714,176.918,178.82,178.897,179.052, 179.387,179.704,179.935,180.16,180.45, 180.732,181.066,181.448,181.691,181.81, 181.927,182.042,182.153,182.264,182.373 ,182.48,182.584,182.689,182.792,182.944 ,183.044,183.138,183.279,183.417, 183.508,183.6,183.687,183.775,183.902, 183.985,184.067,184.148,184.227,184.345 ,184.421,184.496,184.608,184.644, 184.665,183.99,182.945,182.028,181.478, 180.623,180.013,179.529,179.044,178.437 ,178.377,178.354,178.261,178.166, 178.071,177.973,177.873,177.771,177.67, 177.566,177.46,177.353,177.244,177.077, 176.907,176.79,176.671,176.552,176.43, 176.306,176.18,176.053,175.855,175.721, 175.586,175.448,175.307,175.163,175.019 ,174.872,174.722,174.567,174.335, 174.011,173.509,173.246,172.794,172.417 ,172.124,171.62,171.303,171.196, 171.225)
ORBIT_NUMBER = 4718
ORBITAL_ECCENTRICITY = 0.57
ORBITAL_INCLINATION = 86.68
ORBITAL_SEMIMAJOR_AXIS = 8544.3
PERIAPSIS_ALTITUDE = 297.25
PERIAPSIS_ARGUMENT_ANGLE = 248.04
PERIAPSIS_TIME = 2007-09-05T18:38:30.000Z
SPACECRAFT_ORIENTATION = (0.0,-1.0,0.0)
^MEX_ORIENTATION_DESC = "MEX_ORIENTATION_DESC.TXT"
SPACECRAFT_POINTING_MODE = ACROSSTRACK
^MEX_POINTING_DESC = "MEX_POINTING_DESC.TXT"
RIGHT_ASCENSION = -1e+32
DECLINATION = -1e+32
OFFSET_ANGLE = 0.458
SPACECRAFT_SOLAR_DISTANCE = 2.15177e+08
TARGET_NAME = MARS
/* CAMERA DATA ELEMENTS */
DETECTOR_TEMPERATURE = 17.7588
FOCAL_PLANE_TEMPERATURE = 9.195
INST_CMPRS_NAME = "DISCRETE COSINE TRANSFORMATION (DCT)"
INST_CMPRS_RATIO = 12.3984
INST_CMPRS_QUALITY = 0
INST_CMPRS_QUANTZ_TBL_ID = 0
INSTRUMENT_TEMPERATURE = 11.6418
LENS_TEMPERATURE = 9.8067
MACROPIXEL_SIZE = 2
MISSING_FRAMES = 0
PIXEL_SUBSAMPLING_FLAG = N
SIGNAL_CHAIN_ID = 3
/* RADIOMETRIC DATA ELEMENTS */
BANDWIDTH = 174.0
CENTER_FILTER_WAVELENGTH = 675.0
RADIANCE_OFFSET = 4.39038
RADIANCE_SCALING_FACTOR = 0.0118133
REFLECTANCE_SCALING_FACTOR = 0.000294206
MEX:REFLECTANCE_OFFSET = 0.109341
/* IMAGE OBJECT DEFINITIONS */
OBJECT = IMAGE
  INTERCHANGE_FORMAT = BINARY
  LINES = 9736
  LINE_SAMPLES = 4517
  SAMPLE_TYPE = UNSIGNED_INTEGER
  SAMPLE_BITS = 8
  BANDS = 1
  BAND_STORAGE_TYPE = BAND_SEQUENTIAL
  MAXIMUM = 255
  MEAN = 132.184
  MINIMUM = 1
  STANDARD_DEVIATION = 47.7398
END_OBJECT = IMAGE
/* MAP OBJECT DEFINITIONS */
OBJECT = IMAGE_MAP_PROJECTION
  ^DATA_SET_MAP_PROJECTION_CATALOG= "DSMAP.CAT"
  A_AXIS_RADIUS = 3396.0
  B_AXIS_RADIUS = 3396.0
  C_AXIS_RADIUS = 3396.0
  CENTER_LATITUDE = 0.0
  CENTER_LONGITUDE = 179.0
  COORDINATE_SYSTEM_NAME = PLANETOGRAPHIC
  COORDINATE_SYSTEM_TYPE = "BODY-FIXED ROTATING"
  EASTERNMOST_LONGITUDE = 184.665
  FIRST_STANDARD_PARALLEL = "N/A"
  LINE_FIRST_PIXEL = 1
  LINE_LAST_PIXEL = 9736
  LINE_PROJECTION_OFFSET = -82437.75
  MAP_PROJECTION_ROTATION = 0.0
  MAP_PROJECTION_TYPE = SINUSOIDAL
  MAP_RESOLUTION = 1185.42760773333
  MAP_SCALE = 0.05
  MAXIMUM_LATITUDE = -69.5399
  MINIMUM_LATITUDE = -77.822
  POSITIVE_LONGITUDE_DIRECTION = EAST
  REFERENCE_LATITUDE = "N/A"
  REFERENCE_LONGITUDE = "N/A"
  SAMPLE_FIRST_PIXEL = 1
  SAMPLE_LAST_PIXEL = 4517
  SAMPLE_PROJECTION_OFFSET = 2122.75
  SECOND_STANDARD_PARALLEL = "N/A"
  WESTERNMOST_LONGITUDE = 171.196
END_OBJECT = IMAGE_MAP_PROJECTION
END
