PDS_VERSION_ID = PDS3
/* FILE DATA ELEMENTS */
RECORD_TYPE = UNDEFINED
/* POINTERS TO DATA OBJECTS */
^IMAGE = ("H4703_0000_IR4.TIF")
/* IDENTIFICATION DATA ELEMENTS */
DATA_SET_ID = "MEX-M-HRSC-4-REFDR-MAPPROJECT-EXT1-V4.0"
DATA_SET_NAME = "MARS EXPRESS HRSC MAP PROJECTED REFDR EXTENSION1 V4.0"
DETECTOR_ID = MEX_HRSC_IR
EVENT_TYPE = "MARS-REGIONAL-MAPPING-Gl-La"
INSTRUMENT_HOST_ID = MEX
INSTRUMENT_HOST_NAME = "MARS EXPRESS"
INSTRUMENT_ID = HRSC
INSTRUMENT_NAME = "HIGH RESOLUTION STEREO CAMERA"
MISSION_NAME = "MARS EXPRESS"
MISSION_PHASE_NAME = ME_Phase_9
PROCESSING_LEVEL_ID = 4
PRODUCT_CREATION_TIME = 2023-02-11T00:15:54.000Z
PRODUCT_ID = "H4703_0000_IR4.TIF"
RELEASE_ID = 0007
REVISION_ID = 0000
/* QUALITY DATA ELEMENTS */
DATA_QUALITY_ID = 1
DATA_QUALITY_DESC = "Data calculated based on original SPICE kernels"
/* TIME DATA ELEMENTS */
SPACECRAFT_CLOCK_START_COUNT = "1/0136734978.09065"
SPACECRAFT_CLOCK_STOP_COUNT = "1/0136735249.41199"
START_TIME = 2007-09-01T13:56:28.568Z
STOP_TIME = 2007-09-01T13:59:00.096Z
/* ORBITAL DATA ELEMENTS */
ASCENDING_NODE_LONGITUDE = 130.07
MAXIMUM_RESOLUTION = 0.0694
FOOTPRINT_POINT_LATITUDE = (-82.6464,-82.7197,-82.7884,-82.8521, -82.9104,-82.9629,-83.0353,-83.0377, -82.9745,-82.634,-82.3727,-82.0229, -81.6728,-81.3148,-81.1354,-80.9559, -80.7765,-80.5026,-80.3187,-80.1337, -79.9511,-79.7669,-79.4855,-79.2977, -79.1102,-78.9225,-78.7305,-78.4429, -78.1548,-77.8621,-77.6657,-77.4699, -77.2743,-77.0744,-76.8744,-76.6745, -76.4754,-76.2713,-75.9664,-75.763, -75.4529,-75.2452,-75.0387,-74.7239, -74.4075,-74.1964,-73.9818,-73.7675, -73.4452,-73.3362,-73.3282,-73.3197, -73.3003,-73.2837,-73.2553,-73.2352, -73.2019,-73.1644,-73.1619,-73.1625, -73.3782,-73.5909,-73.8026,-74.1191, -74.327,-74.5354,-74.8467,-75.0511, -75.2556,-75.5615,-75.8613,-76.0614, -76.2621,-76.4586,-76.6554,-76.8528, -77.0489,-77.2411,-77.433,-77.7204, -77.9134,-78.195,-78.3825,-78.5703, -78.7562,-78.9398,-79.2132,-79.396, -79.5771,-79.8452,-80.0237,-80.2906, -80.4662,-80.7292,-81.1607,-81.585, -82.0865,-82.4944,-82.575,-82.6464)
FOOTPRINT_POINT_LONGITUDE = (203.21,204.737,206.31,207.931,209.598, 211.309,214.188,214.301,215.048,215.654 ,216.081,216.607,217.088,217.538, 217.749,217.952,218.146,218.43,218.61, 218.792,218.95,219.111,219.342,219.49, 219.632,219.77,219.907,220.101,220.289, 220.47,220.587,220.699,220.806,220.914, 221.018,221.119,221.213,221.31,221.446, 221.534,221.664,221.749,221.827,221.944 ,222.058,222.13,222.202,222.271,222.371 ,222.403,222.405,221.656,220.408, 219.607,218.509,217.845,216.891,215.947 ,215.889,215.869,215.755,215.639, 215.521,215.338,215.213,215.083,214.882 ,214.745,214.604,214.383,214.158, 214.001,213.838,213.674,213.503,213.327 ,213.146,212.962,212.773,212.478, 212.269,211.953,211.734,211.506,211.272 ,211.032,210.661,210.4,210.132,209.715, 209.424,208.968,208.652,208.152,207.267 ,206.297,205.004,203.81,203.558,203.21)
ORBIT_NUMBER = 4703
ORBITAL_ECCENTRICITY = 0.57
ORBITAL_INCLINATION = 86.69
ORBITAL_SEMIMAJOR_AXIS = 8541.33
PERIAPSIS_ALTITUDE = 296.05
PERIAPSIS_ARGUMENT_ANGLE = 250.66
PERIAPSIS_TIME = 2007-09-01T13:50:18.000Z
SPACECRAFT_ORIENTATION = (0.0,-1.0,0.0)
^MEX_ORIENTATION_DESC = "MEX_ORIENTATION_DESC.TXT"
SPACECRAFT_POINTING_MODE = ACROSSTRACK
^MEX_POINTING_DESC = "MEX_POINTING_DESC.TXT"
RIGHT_ASCENSION = -1e+32
DECLINATION = -1e+32
OFFSET_ANGLE = -1.0
SPACECRAFT_SOLAR_DISTANCE = 2.14494e+08
TARGET_NAME = MARS
/* CAMERA DATA ELEMENTS */
DETECTOR_TEMPERATURE = 17.5549
FOCAL_PLANE_TEMPERATURE = 9.8067
INST_CMPRS_NAME = "DISCRETE COSINE TRANSFORMATION (DCT)"
INST_CMPRS_RATIO = 11.3104
INST_CMPRS_QUALITY = 0
INST_CMPRS_QUANTZ_TBL_ID = 0
INSTRUMENT_TEMPERATURE = 11.6418
LENS_TEMPERATURE = 9.8067
MACROPIXEL_SIZE = 4
MISSING_FRAMES = 0
PIXEL_SUBSAMPLING_FLAG = N
SIGNAL_CHAIN_ID = 2
/* RADIOMETRIC DATA ELEMENTS */
BANDWIDTH = 81.0
CENTER_FILTER_WAVELENGTH = 955.5
RADIANCE_OFFSET = 1.04468
RADIANCE_SCALING_FACTOR = 0.00312903
REFLECTANCE_SCALING_FACTOR = 0.00031058
MEX:REFLECTANCE_OFFSET = 0.103692
/* IMAGE OBJECT DEFINITIONS */
OBJECT = IMAGE
  INTERCHANGE_FORMAT = BINARY
  LINES = 11714
  LINE_SAMPLES = 4190
  SAMPLE_TYPE = UNSIGNED_INTEGER
  SAMPLE_BITS = 8
  BANDS = 1
  BAND_STORAGE_TYPE = BAND_SEQUENTIAL
  MAXIMUM = 255
  MEAN = 142.775
  MINIMUM = 1
  STANDARD_DEVIATION = 55.405
END_OBJECT = IMAGE
/* MAP OBJECT DEFINITIONS */
OBJECT = IMAGE_MAP_PROJECTION
  ^DATA_SET_MAP_PROJECTION_CATALOG= "DSMAP.CAT"
  A_AXIS_RADIUS = 3396.0
  B_AXIS_RADIUS = 3396.0
  C_AXIS_RADIUS = 3396.0
  CENTER_LATITUDE = 0.0
  CENTER_LONGITUDE = 216.0
  COORDINATE_SYSTEM_NAME = PLANETOGRAPHIC
  COORDINATE_SYSTEM_TYPE = "BODY-FIXED ROTATING"
  EASTERNMOST_LONGITUDE = 222.405
  FIRST_STANDARD_PARALLEL = "N/A"
  LINE_FIRST_PIXEL = 1
  LINE_LAST_PIXEL = 11714
  LINE_PROJECTION_OFFSET = -86663.375
  MAP_PROJECTION_ROTATION = 0.0
  MAP_PROJECTION_TYPE = SINUSOIDAL
  MAP_RESOLUTION = 1185.42760773333
  MAP_SCALE = 0.05
  MAXIMUM_LATITUDE = -73.1619
  MINIMUM_LATITUDE = -83.0377
  POSITIVE_LONGITUDE_DIRECTION = EAST
  REFERENCE_LATITUDE = "N/A"
  REFERENCE_LONGITUDE = "N/A"
  SAMPLE_FIRST_PIXEL = 1
  SAMPLE_LAST_PIXEL = 4190
  SAMPLE_PROJECTION_OFFSET = 1948.875
  SECOND_STANDARD_PARALLEL = "N/A"
  WESTERNMOST_LONGITUDE = 203.21
END_OBJECT = IMAGE_MAP_PROJECTION
END
