PDS_VERSION_ID = PDS3
/* FILE DATA ELEMENTS */
RECORD_TYPE = UNDEFINED
/* POINTERS TO DATA OBJECTS */
^IMAGE = ("H4696_0000_RE4.TIF")
/* IDENTIFICATION DATA ELEMENTS */
DATA_SET_ID = "MEX-M-HRSC-4-REFDR-MAPPROJECT-EXT1-V4.0"
DATA_SET_NAME = "MARS EXPRESS HRSC MAP PROJECTED REFDR EXTENSION1 V4.0"
DETECTOR_ID = MEX_HRSC_RED
EVENT_TYPE = "MARS-REGIONAL-MAPPING-Gl-La"
INSTRUMENT_HOST_ID = MEX
INSTRUMENT_HOST_NAME = "MARS EXPRESS"
INSTRUMENT_ID = HRSC
INSTRUMENT_NAME = "HIGH RESOLUTION STEREO CAMERA"
MISSION_NAME = "MARS EXPRESS"
MISSION_PHASE_NAME = ME_Phase_9
PROCESSING_LEVEL_ID = 4
PRODUCT_CREATION_TIME = 2023-02-11T00:15:54.000Z
PRODUCT_ID = "H4696_0000_RE4.TIF"
RELEASE_ID = 0007
REVISION_ID = 0000
/* QUALITY DATA ELEMENTS */
DATA_QUALITY_ID = 1
DATA_QUALITY_DESC = "Data calculated based on original SPICE kernels"
/* TIME DATA ELEMENTS */
SPACECRAFT_CLOCK_START_COUNT = "1/0136565529.07281"
SPACECRAFT_CLOCK_STOP_COUNT = "1/0136565801.14074"
START_TIME = 2007-08-30T14:53:16.287Z
STOP_TIME = 2007-08-30T14:56:33.065Z
/* ORBITAL DATA ELEMENTS */
ASCENDING_NODE_LONGITUDE = 130.21
MAXIMUM_RESOLUTION = 0.065
FOOTPRINT_POINT_LATITUDE = (-85.9077,-86.2384,-86.6772,-87.0957, -87.1066,-87.1725,-86.9682,-86.7889, -86.5916,-86.3057,-86.1498,-85.9873, -85.8221,-85.4825,-85.3041,-85.122, -84.8446,-84.5594,-84.365,-84.1687, -83.9721,-83.7709,-83.5671,-83.3624, -83.0521,-82.841,-82.6296,-82.4177, -82.2005,-81.983,-81.7654,-81.433, -81.2101,-80.9875,-80.7598,-80.5321, -80.1881,-79.9548,-79.722,-79.4866, -79.2497,-79.014,-78.7729,-78.5319, -78.2895,-78.044,-77.7986,-77.5501, -77.3009,-77.1768,-77.1745,-77.1064, -77.0107,-76.9364,-76.7513,-76.7462, -76.7456,-76.9893,-77.231,-77.4706, -77.7087,-77.9459,-78.1798,-78.4129, -78.7583,-78.9872,-79.2143,-79.4383, -79.6618,-79.9918,-80.21,-80.4278, -80.6403,-80.8569,-81.0659,-81.271, -81.4759,-81.6803,-81.9806,-82.1782, -82.3772,-82.6629,-82.8484,-83.034, -83.2168,-83.3947,-83.5708,-83.7446, -83.9154,-84.0806,-84.2439,-84.3994, -84.5512,-84.9758,-85.2337,-85.463, -85.6657,-85.8753,-85.9106,-85.9077)
FOOTPRINT_POINT_LONGITUDE = (124.87,126.672,129.646,133.389,133.503 ,132.48,139.525,144.157,148.265,153.011 ,155.147,157.135,158.959,162.187, 163.653,165.012,166.865,168.541,169.574 ,170.537,171.434,172.288,173.091, 173.844,174.894,175.552,176.171,176.754 ,177.316,177.847,178.349,179.063,179.51 ,179.934,180.345,180.736,181.289, 181.641,181.975,182.299,182.609,182.907 ,183.195,183.472,183.737,183.994,184.24 ,184.48,184.71,184.822,184.824,183.131, 181.153,179.803,176.856,176.784,176.758 ,176.45,176.135,175.807,175.467,175.114 ,174.749,174.372,173.777,173.36,172.927 ,172.478,172.01,171.275,170.758,170.215 ,169.658,169.047,168.445,167.82,167.156 ,166.456,165.351,164.567,163.72,162.427 ,161.528,160.563,159.546,158.486, 157.362,156.17,154.905,153.584,152.162, 150.736,149.227,144.176,140.308,136.116 ,131.493,125.092,123.738,124.87)
ORBIT_NUMBER = 4696
ORBITAL_ECCENTRICITY = 0.57
ORBITAL_INCLINATION = 86.68
ORBITAL_SEMIMAJOR_AXIS = 8540.18
PERIAPSIS_ALTITUDE = 296.71
PERIAPSIS_ARGUMENT_ANGLE = 251.86
PERIAPSIS_TIME = 2007-08-30T14:47:51.000Z
SPACECRAFT_ORIENTATION = (0.0,-1.0,0.0)
^MEX_ORIENTATION_DESC = "MEX_ORIENTATION_DESC.TXT"
SPACECRAFT_POINTING_MODE = ACROSSTRACK
^MEX_POINTING_DESC = "MEX_POINTING_DESC.TXT"
RIGHT_ASCENSION = -1e+32
DECLINATION = -1e+32
OFFSET_ANGLE = -0.1
SPACECRAFT_SOLAR_DISTANCE = 2.14183e+08
TARGET_NAME = MARS
/* CAMERA DATA ELEMENTS */
DETECTOR_TEMPERATURE = 18.9822
FOCAL_PLANE_TEMPERATURE = 8.3794
INST_CMPRS_NAME = "DISCRETE COSINE TRANSFORMATION (DCT)"
INST_CMPRS_RATIO = 15.4604
INST_CMPRS_QUALITY = 0
INST_CMPRS_QUANTZ_TBL_ID = 0
INSTRUMENT_TEMPERATURE = 11.8457
LENS_TEMPERATURE = 10.2145
MACROPIXEL_SIZE = 4
MISSING_FRAMES = 0
PIXEL_SUBSAMPLING_FLAG = N
SIGNAL_CHAIN_ID = 2
/* RADIOMETRIC DATA ELEMENTS */
BANDWIDTH = 48.0
CENTER_FILTER_WAVELENGTH = 748.0
RADIANCE_OFFSET = 1.00613
RADIANCE_SCALING_FACTOR = 0.00335062
REFLECTANCE_SCALING_FACTOR = 0.00035077
MEX:REFLECTANCE_OFFSET = 0.105329
/* IMAGE OBJECT DEFINITIONS */
OBJECT = IMAGE
  INTERCHANGE_FORMAT = BINARY
  LINES = 12301
  LINE_SAMPLES = 7884
  SAMPLE_TYPE = UNSIGNED_INTEGER
  SAMPLE_BITS = 8
  BANDS = 1
  BAND_STORAGE_TYPE = BAND_SEQUENTIAL
  MAXIMUM = 255
  MEAN = 99.345
  MINIMUM = 1
  STANDARD_DEVIATION = 40.7958
END_OBJECT = IMAGE
/* MAP OBJECT DEFINITIONS */
OBJECT = IMAGE_MAP_PROJECTION
  ^DATA_SET_MAP_PROJECTION_CATALOG= "DSMAP.CAT"
  A_AXIS_RADIUS = 3396.0
  B_AXIS_RADIUS = 3396.0
  C_AXIS_RADIUS = 3396.0
  CENTER_LATITUDE = 0.0
  CENTER_LONGITUDE = 169.0
  COORDINATE_SYSTEM_NAME = PLANETOGRAPHIC
  COORDINATE_SYSTEM_TYPE = "BODY-FIXED ROTATING"
  EASTERNMOST_LONGITUDE = 184.824
  FIRST_STANDARD_PARALLEL = "N/A"
  LINE_FIRST_PIXEL = 1
  LINE_LAST_PIXEL = 12301
  LINE_PROJECTION_OFFSET = -91016.625
  MAP_PROJECTION_ROTATION = 0.0
  MAP_PROJECTION_TYPE = SINUSOIDAL
  MAP_RESOLUTION = 1185.42760773333
  MAP_SCALE = 0.05
  MAXIMUM_LATITUDE = -76.7456
  MINIMUM_LATITUDE = -87.1725
  POSITIVE_LONGITUDE_DIRECTION = EAST
  REFERENCE_LATITUDE = "N/A"
  REFERENCE_LONGITUDE = "N/A"
  SAMPLE_FIRST_PIXEL = 1
  SAMPLE_LAST_PIXEL = 7884
  SAMPLE_PROJECTION_OFFSET = 3816.625
  SECOND_STANDARD_PARALLEL = "N/A"
  WESTERNMOST_LONGITUDE = 123.738
END_OBJECT = IMAGE_MAP_PROJECTION
END
