PDS_VERSION_ID = PDS3
/* FILE DATA ELEMENTS */
RECORD_TYPE = UNDEFINED
/* POINTERS TO DATA OBJECTS */
^IMAGE = ("H4695_0000_RE4.TIF")
/* IDENTIFICATION DATA ELEMENTS */
DATA_SET_ID = "MEX-M-HRSC-4-REFDR-MAPPROJECT-EXT1-V4.0"
DATA_SET_NAME = "MARS EXPRESS HRSC MAP PROJECTED REFDR EXTENSION1 V4.0"
DETECTOR_ID = MEX_HRSC_RED
EVENT_TYPE = "MARS-REGIONAL-MAPPING-Gl-La"
INSTRUMENT_HOST_ID = MEX
INSTRUMENT_HOST_NAME = "MARS EXPRESS"
INSTRUMENT_ID = HRSC
INSTRUMENT_NAME = "HIGH RESOLUTION STEREO CAMERA"
MISSION_NAME = "MARS EXPRESS"
MISSION_PHASE_NAME = ME_Phase_9
PROCESSING_LEVEL_ID = 4
PRODUCT_CREATION_TIME = 2023-02-11T00:15:54.000Z
PRODUCT_ID = "H4695_0000_RE4.TIF"
RELEASE_ID = 0007
REVISION_ID = 0000
/* QUALITY DATA ELEMENTS */
DATA_QUALITY_ID = 1
DATA_QUALITY_DESC = "Data calculated based on original SPICE kernels"
/* TIME DATA ELEMENTS */
SPACECRAFT_CLOCK_START_COUNT = "1/0136541398.09051"
SPACECRAFT_CLOCK_STOP_COUNT = "1/0136541755.25734"
START_TIME = 2007-08-30T08:11:13.792Z
STOP_TIME = 2007-08-30T08:15:43.066Z
/* ORBITAL DATA ELEMENTS */
ASCENDING_NODE_LONGITUDE = 130.23
MAXIMUM_RESOLUTION = 0.0724
FOOTPRINT_POINT_LATITUDE = (-83.5777,-83.7852,-83.9731,-84.1835, -84.188,-84.2944,-83.6848,-83.3118, -82.6834,-82.3067,-81.9187,-81.6559, -81.3949,-81.1277,-80.8648,-80.599, -80.3295,-80.0605,-79.7889,-79.5146, -79.1067,-78.8261,-78.5514,-78.2667, -77.8366,-77.5499,-77.2602,-76.6756, -76.2348,-75.9367,-75.6392,-75.3188, -74.8656,-74.4036,-74.094,-73.7819, -73.4692,-73.1545,-72.8344,-72.5139, -72.1909,-71.8652,-71.5378,-71.2075, -70.8744,-70.5396,-70.031,-69.8607, -69.8026,-69.7472,-69.7148,-69.6522, -69.5918,-69.5307,-69.5272,-69.5273, -69.865,-70.2,-70.5292,-70.8618, -71.1933,-71.5196,-71.8433,-72.1629, -72.4791,-72.9508,-73.2646,-73.5746, -73.8733,-74.1772,-74.4838,-74.7843, -75.0777,-75.3952,-75.6871,-76.1234, -76.4122,-76.696,-77.1242,-77.4034, -77.6834,-77.9591,-78.238,-78.5089, -78.9175,-79.3154,-79.5817,-79.8429, -80.1038,-80.3614,-80.616,-80.8708, -81.1225,-81.742,-82.3479,-82.8182, -83.1669,-83.506,-83.6183,-83.5777)
FOOTPRINT_POINT_LONGITUDE = (265.379,268.864,272.65,278.094,278.23, 278.767,280.307,281.117,282.278,282.913 ,283.466,283.8,284.119,284.421,284.719, 284.996,285.26,285.509,285.751,285.976, 286.315,286.508,286.715,286.893,287.144 ,287.309,287.464,287.759,287.971, 288.107,288.237,288.374,288.56,288.725, 288.833,288.939,289.042,289.146,289.238 ,289.329,289.422,289.509,289.593, 289.676,289.756,289.834,289.945,289.982 ,289.994,288.044,287.147,285.631, 284.386,283.28,283.219,283.198,283.089, 282.975,282.859,282.736,282.607,282.475 ,282.339,282.198,282.053,281.824, 281.663,281.496,281.329,281.151,280.963 ,280.771,280.574,280.351,280.135, 279.794,279.555,279.308,278.913,278.639 ,278.35,278.051,277.733,277.408,276.884 ,276.331,275.935,275.525,275.091, 274.637,274.161,273.656,273.127,271.67, 269.992,268.47,267.19,265.793,265.293, 265.379)
ORBIT_NUMBER = 4695
ORBITAL_ECCENTRICITY = 0.57
ORBITAL_INCLINATION = 86.68
ORBITAL_SEMIMAJOR_AXIS = 8540.71
PERIAPSIS_ALTITUDE = 296.76
PERIAPSIS_ARGUMENT_ANGLE = 252.04
PERIAPSIS_TIME = 2007-08-30T08:04:39.000Z
SPACECRAFT_ORIENTATION = (0.0,-1.0,0.0)
^MEX_ORIENTATION_DESC = "MEX_ORIENTATION_DESC.TXT"
SPACECRAFT_POINTING_MODE = ACROSSTRACK
^MEX_POINTING_DESC = "MEX_POINTING_DESC.TXT"
RIGHT_ASCENSION = -1e+32
DECLINATION = -1e+32
OFFSET_ANGLE = -1.0
SPACECRAFT_SOLAR_DISTANCE = 2.14138e+08
TARGET_NAME = MARS
/* CAMERA DATA ELEMENTS */
DETECTOR_TEMPERATURE = 19.1861
FOCAL_PLANE_TEMPERATURE = 9.3989
INST_CMPRS_NAME = "DISCRETE COSINE TRANSFORMATION (DCT)"
INST_CMPRS_RATIO = 18.3474
INST_CMPRS_QUALITY = 0
INST_CMPRS_QUANTZ_TBL_ID = 0
INSTRUMENT_TEMPERATURE = 11.6418
LENS_TEMPERATURE = 9.8067
MACROPIXEL_SIZE = 4
PIXEL_SUBSAMPLING_FLAG = N
SIGNAL_CHAIN_ID = 2
/* RADIOMETRIC DATA ELEMENTS */
BANDWIDTH = 48.0
CENTER_FILTER_WAVELENGTH = 748.0
RADIANCE_OFFSET = 1.24735
RADIANCE_SCALING_FACTOR = 0.00575039
REFLECTANCE_SCALING_FACTOR = 0.000601749
MEX:REFLECTANCE_OFFSET = 0.130529
/* IMAGE OBJECT DEFINITIONS */
OBJECT = IMAGE
  INTERCHANGE_FORMAT = BINARY
  LINES = 17413
  LINE_SAMPLES = 5026
  SAMPLE_TYPE = UNSIGNED_INTEGER
  SAMPLE_BITS = 8
  BANDS = 1
  BAND_STORAGE_TYPE = BAND_SEQUENTIAL
  MAXIMUM = 255
  MEAN = 100.705
  MINIMUM = 1
  STANDARD_DEVIATION = 40.0715
END_OBJECT = IMAGE
/* MAP OBJECT DEFINITIONS */
OBJECT = IMAGE_MAP_PROJECTION
  ^DATA_SET_MAP_PROJECTION_CATALOG= "DSMAP.CAT"
  A_AXIS_RADIUS = 3396.0
  B_AXIS_RADIUS = 3396.0
  C_AXIS_RADIUS = 3396.0
  CENTER_LATITUDE = 0.0
  CENTER_LONGITUDE = 283.0
  COORDINATE_SYSTEM_NAME = PLANETOGRAPHIC
  COORDINATE_SYSTEM_TYPE = "BODY-FIXED ROTATING"
  EASTERNMOST_LONGITUDE = 289.994
  FIRST_STANDARD_PARALLEL = "N/A"
  LINE_FIRST_PIXEL = 1
  LINE_LAST_PIXEL = 17413
  LINE_PROJECTION_OFFSET = -82483.125
  MAP_PROJECTION_ROTATION = 0.0
  MAP_PROJECTION_TYPE = SINUSOIDAL
  MAP_RESOLUTION = 1185.42760773333
  MAP_SCALE = 0.05
  MAXIMUM_LATITUDE = -69.52719999999999
  MINIMUM_LATITUDE = -84.2944
  POSITIVE_LONGITUDE_DIRECTION = EAST
  REFERENCE_LATITUDE = "N/A"
  REFERENCE_LONGITUDE = "N/A"
  SAMPLE_FIRST_PIXEL = 1
  SAMPLE_LAST_PIXEL = 5026
  SAMPLE_PROJECTION_OFFSET = 2315.125
  SECOND_STANDARD_PARALLEL = "N/A"
  WESTERNMOST_LONGITUDE = 265.293
END_OBJECT = IMAGE_MAP_PROJECTION
END
