PDS_VERSION_ID = PDS3
/* FILE DATA ELEMENTS */
RECORD_TYPE = UNDEFINED
/* POINTERS TO DATA OBJECTS */
^IMAGE = ("H4695_0000_P24.TIF")
/* IDENTIFICATION DATA ELEMENTS */
DATA_SET_ID = "MEX-M-HRSC-4-REFDR-MAPPROJECT-EXT1-V4.0"
DATA_SET_NAME = "MARS EXPRESS HRSC MAP PROJECTED REFDR EXTENSION1 V4.0"
DETECTOR_ID = MEX_HRSC_P2
EVENT_TYPE = "MARS-REGIONAL-MAPPING-Gl-La"
INSTRUMENT_HOST_ID = MEX
INSTRUMENT_HOST_NAME = "MARS EXPRESS"
INSTRUMENT_ID = HRSC
INSTRUMENT_NAME = "HIGH RESOLUTION STEREO CAMERA"
MISSION_NAME = "MARS EXPRESS"
MISSION_PHASE_NAME = ME_Phase_9
PROCESSING_LEVEL_ID = 4
PRODUCT_CREATION_TIME = 2023-02-11T00:15:54.000Z
PRODUCT_ID = "H4695_0000_P24.TIF"
RELEASE_ID = 0007
REVISION_ID = 0000
/* QUALITY DATA ELEMENTS */
DATA_QUALITY_ID = 1
DATA_QUALITY_DESC = "Data calculated based on original SPICE kernels"
/* TIME DATA ELEMENTS */
SPACECRAFT_CLOCK_START_COUNT = "1/0136541398.09051"
SPACECRAFT_CLOCK_STOP_COUNT = "1/0136541755.25734"
START_TIME = 2007-08-30T08:11:06.249Z
STOP_TIME = 2007-08-30T08:15:29.747Z
/* ORBITAL DATA ELEMENTS */
ASCENDING_NODE_LONGITUDE = 130.23
MAXIMUM_RESOLUTION = 0.0352
FOOTPRINT_POINT_LATITUDE = (-83.6074,-83.8177,-84.0066,-84.1975, -84.202,-84.2916,-83.8015,-83.3079, -82.9291,-82.4243,-82.1679,-81.9083, -81.6465,-81.3818,-80.9859,-80.7184, -80.4497,-80.1813,-79.9078,-79.6353, -79.3593,-78.9471,-78.6683,-78.3863, -78.0996,-77.8122,-77.3783,-77.0874, -76.6462,-76.3536,-76.0534,-75.7543, -75.3019,-74.8465,-74.5382,-74.2261, -73.7571,-73.4428,-73.1257,-72.6425, -72.32,-71.9938,-71.6643,-71.3341, -71.0005,-70.664,-70.3249,-69.9837, -69.8114,-69.796,-69.7619,-69.7272, -69.6762,-69.631,-69.5942,-69.5407, -69.5372,-69.5364,-70.0448,-70.5464, -70.8789,-71.3762,-71.7028,-72.026, -72.3446,-72.6631,-72.9784,-73.2928, -73.6047,-73.905,-74.2117,-74.6717, -75.1162,-75.4144,-75.7082,-76.0014, -76.4364,-76.8662,-77.1517,-77.4316, -77.7127,-78.1282,-78.4055,-78.812, -79.0835,-79.3493,-79.6154,-79.8789, -80.1388,-80.5271,-80.908,-81.1621, -81.5346,-81.7818,-82.1469,-82.7442, -83.2075,-83.5503,-83.6614,-83.6074)
FOOTPRINT_POINT_LONGITUDE = (265.288,268.9,272.832,277.931,278.072, 278.666,279.93,281.024,281.751,282.619, 283.025,283.388,283.718,284.045,284.499 ,284.787,285.058,285.313,285.561, 285.796,286.015,286.348,286.55,286.741, 286.905,287.078,287.317,287.475,287.692 ,287.842,287.972,288.104,288.297, 288.485,288.594,288.703,288.863,288.966 ,289.07,289.207,289.299,289.388,289.473 ,289.557,289.639,289.717,289.792, 289.865,289.902,289.905,288.576,287.463 ,286.107,285.086,284.329,283.329, 283.266,283.244,283.076,282.9,282.776, 282.58,282.445,282.305,282.161,282.01, 281.855,281.692,281.524,281.355,281.174 ,280.887,280.591,280.38,280.162,279.935 ,279.577,279.197,278.929,278.652, 278.361,277.902,277.576,277.065,276.701 ,276.325,275.926,275.509,275.074, 274.374,273.624,273.084,272.229,271.613 ,270.626,268.771,267.079,265.648, 265.146,265.288)
ORBIT_NUMBER = 4695
ORBITAL_ECCENTRICITY = 0.57
ORBITAL_INCLINATION = 86.68
ORBITAL_SEMIMAJOR_AXIS = 8540.71
PERIAPSIS_ALTITUDE = 296.76
PERIAPSIS_ARGUMENT_ANGLE = 252.04
PERIAPSIS_TIME = 2007-08-30T08:04:39.000Z
SPACECRAFT_ORIENTATION = (0.0,-1.0,0.0)
^MEX_ORIENTATION_DESC = "MEX_ORIENTATION_DESC.TXT"
SPACECRAFT_POINTING_MODE = ACROSSTRACK
^MEX_POINTING_DESC = "MEX_POINTING_DESC.TXT"
RIGHT_ASCENSION = -1e+32
DECLINATION = -1e+32
OFFSET_ANGLE = -1.0
SPACECRAFT_SOLAR_DISTANCE = 2.14138e+08
TARGET_NAME = MARS
/* CAMERA DATA ELEMENTS */
DETECTOR_TEMPERATURE = 19.1861
FOCAL_PLANE_TEMPERATURE = 9.3989
INST_CMPRS_NAME = "DISCRETE COSINE TRANSFORMATION (DCT)"
INST_CMPRS_RATIO = 8.39782
INST_CMPRS_QUALITY = 0
INST_CMPRS_QUANTZ_TBL_ID = 0
INSTRUMENT_TEMPERATURE = 11.6418
LENS_TEMPERATURE = 9.8067
MACROPIXEL_SIZE = 2
MISSING_FRAMES = 0
PIXEL_SUBSAMPLING_FLAG = N
SIGNAL_CHAIN_ID = 3
/* RADIOMETRIC DATA ELEMENTS */
BANDWIDTH = 177.0
CENTER_FILTER_WAVELENGTH = 676.5
RADIANCE_OFFSET = 4.49939
RADIANCE_SCALING_FACTOR = 0.0138089
REFLECTANCE_SCALING_FACTOR = 0.000335742
MEX:REFLECTANCE_OFFSET = 0.109396
/* IMAGE OBJECT DEFINITIONS */
OBJECT = IMAGE
  INTERCHANGE_FORMAT = BINARY
  LINES = 34825
  LINE_SAMPLES = 10051
  SAMPLE_TYPE = UNSIGNED_INTEGER
  SAMPLE_BITS = 8
  BANDS = 1
  BAND_STORAGE_TYPE = BAND_SEQUENTIAL
  MAXIMUM = 255
  MEAN = 140.104
  MINIMUM = 1
  STANDARD_DEVIATION = 57.0765
END_OBJECT = IMAGE
/* MAP OBJECT DEFINITIONS */
OBJECT = IMAGE_MAP_PROJECTION
  ^DATA_SET_MAP_PROJECTION_CATALOG= "DSMAP.CAT"
  A_AXIS_RADIUS = 3396.0
  B_AXIS_RADIUS = 3396.0
  C_AXIS_RADIUS = 3396.0
  CENTER_LATITUDE = 0.0
  CENTER_LONGITUDE = 283.0
  COORDINATE_SYSTEM_NAME = PLANETOGRAPHIC
  COORDINATE_SYSTEM_TYPE = "BODY-FIXED ROTATING"
  EASTERNMOST_LONGITUDE = 289.905
  FIRST_STANDARD_PARALLEL = "N/A"
  LINE_FIRST_PIXEL = 1
  LINE_LAST_PIXEL = 34825
  LINE_PROJECTION_OFFSET = -164965.75
  MAP_PROJECTION_ROTATION = 0.0
  MAP_PROJECTION_TYPE = SINUSOIDAL
  MAP_RESOLUTION = 2370.85521546667
  MAP_SCALE = 0.025
  MAXIMUM_LATITUDE = -69.5364
  MINIMUM_LATITUDE = -84.2916
  POSITIVE_LONGITUDE_DIRECTION = EAST
  REFERENCE_LATITUDE = "N/A"
  REFERENCE_LONGITUDE = "N/A"
  SAMPLE_FIRST_PIXEL = 1
  SAMPLE_LAST_PIXEL = 10051
  SAMPLE_PROJECTION_OFFSET = 4630.75
  SECOND_STANDARD_PARALLEL = "N/A"
  WESTERNMOST_LONGITUDE = 265.146
END_OBJECT = IMAGE_MAP_PROJECTION
END
