PDS_VERSION_ID = PDS3
/* FILE DATA ELEMENTS */
RECORD_TYPE = UNDEFINED
/* POINTERS TO DATA OBJECTS */
^IMAGE = ("H4684_0000_GR4.TIF")
/* IDENTIFICATION DATA ELEMENTS */
DATA_SET_ID = "MEX-M-HRSC-4-REFDR-MAPPROJECT-EXT1-V4.0"
DATA_SET_NAME = "MARS EXPRESS HRSC MAP PROJECTED REFDR EXTENSION1 V4.0"
DETECTOR_ID = MEX_HRSC_GREEN
EVENT_TYPE = "MARS-REGIONAL-MAPPING-Im-Fl-Gl"
INSTRUMENT_HOST_ID = MEX
INSTRUMENT_HOST_NAME = "MARS EXPRESS"
INSTRUMENT_ID = HRSC
INSTRUMENT_NAME = "HIGH RESOLUTION STEREO CAMERA"
MISSION_NAME = "MARS EXPRESS"
MISSION_PHASE_NAME = ME_Phase_9
PROCESSING_LEVEL_ID = 4
PRODUCT_CREATION_TIME = 2023-02-11T00:15:54.000Z
PRODUCT_ID = "H4684_0000_GR4.TIF"
RELEASE_ID = 0007
REVISION_ID = 0000
/* QUALITY DATA ELEMENTS */
DATA_QUALITY_ID = 1
DATA_QUALITY_DESC = "Data calculated based on original SPICE kernels"
/* TIME DATA ELEMENTS */
SPACECRAFT_CLOCK_START_COUNT = "1/0136275354.09052"
SPACECRAFT_CLOCK_STOP_COUNT = "1/0136275826.09684"
START_TIME = 2007-08-27T06:16:32.719Z
STOP_TIME = 2007-08-27T06:21:48.035Z
/* ORBITAL DATA ELEMENTS */
ASCENDING_NODE_LONGITUDE = 130.45
MAXIMUM_RESOLUTION = 0.0735
FOOTPRINT_POINT_LATITUDE = (-76.9073,-77.0121,-77.114,-77.272, -77.2746,-77.2654,-76.8269,-76.235, -75.7825,-75.1733,-74.5545,-73.9262, -73.6067,-73.2871,-72.9615,-72.6368, -72.3067,-71.9769,-71.6423,-71.1371, -70.7961,-70.4514,-70.1053,-69.7546, -69.2243,-68.6872,-68.3261,-67.96, -67.5918,-67.2204,-66.8443,-66.4659, -66.0844,-65.6984,-65.3087,-64.9162, -64.52,-64.1202,-63.7159,-63.3078, -62.8956,-62.4794,-62.0595,-61.6344, -61.2056,-60.7731,-60.3358,-59.894, -59.4478,-59.2234,-59.1926,-59.1707, -59.1474,-59.1001,-59.0518,-59.0058, -59.0031,-59.0039,-59.4495,-59.8904, -60.3271,-60.7592,-61.1877,-61.6117, -62.0315,-62.4472,-62.8587,-63.2645, -63.6686,-64.0677,-64.4638,-64.8561, -65.2435,-65.6278,-66.0091,-66.3872, -66.7602,-67.3149,-67.862,-68.4015, -68.9338,-69.4594,-69.8073,-70.1495, -70.4908,-70.8272,-71.3266,-71.8213, -72.1479,-72.6321,-72.9522,-73.4241, -74.0489,-74.6609,-75.1146,-75.7085, -76.292,-76.7246,-76.8664,-76.9073)
FOOTPRINT_POINT_LONGITUDE = (276.623,278.213,279.954,283.264, 283.328,283.507,283.905,284.374,284.716 ,285.141,285.541,285.909,286.082, 286.256,286.429,286.587,286.744,286.889 ,287.029,287.231,287.366,287.499, 287.626,287.748,287.926,288.095,288.203 ,288.309,288.412,288.513,288.611, 288.706,288.799,288.889,288.977,289.062 ,289.144,289.224,289.303,289.379, 289.455,289.528,289.6,289.673,289.743, 289.808,289.872,289.935,289.996,290.026 ,290.03,288.976,288.163,286.875,285.828 ,284.974,284.927,284.911,284.847, 284.781,284.712,284.64,284.567,284.49, 284.411,284.328,284.243,284.151,284.061 ,283.965,283.866,283.764,283.658, 283.548,283.435,283.318,283.198,283.01, 282.813,282.606,282.388,282.161,282.003 ,281.839,281.67,281.493,281.217,280.93, 280.731,280.423,280.202,279.862,279.39, 278.873,278.459,277.873,277.242,276.736 ,276.56,276.623)
ORBIT_NUMBER = 4684
ORBITAL_ECCENTRICITY = 0.57
ORBITAL_INCLINATION = 86.68
ORBITAL_SEMIMAJOR_AXIS = 8538.83
PERIAPSIS_ALTITUDE = 296.53
PERIAPSIS_ARGUMENT_ANGLE = 253.95
PERIAPSIS_TIME = 2007-08-27T06:09:18.000Z
SPACECRAFT_ORIENTATION = (0.0,-1.0,0.0)
^MEX_ORIENTATION_DESC = "MEX_ORIENTATION_DESC.TXT"
SPACECRAFT_POINTING_MODE = ACROSSTRACK
^MEX_POINTING_DESC = "MEX_POINTING_DESC.TXT"
RIGHT_ASCENSION = -1e+32
DECLINATION = -1e+32
OFFSET_ANGLE = -0.1
SPACECRAFT_SOLAR_DISTANCE = 2.13659e+08
TARGET_NAME = MARS
/* CAMERA DATA ELEMENTS */
DETECTOR_TEMPERATURE = 18.3705
FOCAL_PLANE_TEMPERATURE = 8.5833
INST_CMPRS_NAME = "DISCRETE COSINE TRANSFORMATION (DCT)"
INST_CMPRS_RATIO = 16.8084
INST_CMPRS_QUALITY = 0
INST_CMPRS_QUANTZ_TBL_ID = 0
INSTRUMENT_TEMPERATURE = 11.0301
LENS_TEMPERATURE = 8.7872
MACROPIXEL_SIZE = 4
MISSING_FRAMES = 0
PIXEL_SUBSAMPLING_FLAG = N
SIGNAL_CHAIN_ID = 2
/* RADIOMETRIC DATA ELEMENTS */
BANDWIDTH = 88.0
CENTER_FILTER_WAVELENGTH = 538.0
RADIANCE_OFFSET = 1.9091
RADIANCE_SCALING_FACTOR = 0.00459526
REFLECTANCE_SCALING_FACTOR = 0.000180611
MEX:REFLECTANCE_OFFSET = 0.0750346
/* IMAGE OBJECT DEFINITIONS */
OBJECT = IMAGE
  INTERCHANGE_FORMAT = BINARY
  LINES = 21641
  LINE_SAMPLES = 5391
  SAMPLE_TYPE = UNSIGNED_INTEGER
  SAMPLE_BITS = 8
  BANDS = 1
  BAND_STORAGE_TYPE = BAND_SEQUENTIAL
  MAXIMUM = 255
  MEAN = 155.569
  MINIMUM = 1
  STANDARD_DEVIATION = 40.3758
END_OBJECT = IMAGE
/* MAP OBJECT DEFINITIONS */
OBJECT = IMAGE_MAP_PROJECTION
  ^DATA_SET_MAP_PROJECTION_CATALOG= "DSMAP.CAT"
  A_AXIS_RADIUS = 3396.0
  B_AXIS_RADIUS = 3396.0
  C_AXIS_RADIUS = 3396.0
  CENTER_LATITUDE = 0.0
  CENTER_LONGITUDE = 285.0
  COORDINATE_SYSTEM_NAME = PLANETOGRAPHIC
  COORDINATE_SYSTEM_TYPE = "BODY-FIXED ROTATING"
  EASTERNMOST_LONGITUDE = 290.03
  FIRST_STANDARD_PARALLEL = "N/A"
  LINE_FIRST_PIXEL = 1
  LINE_LAST_PIXEL = 21641
  LINE_PROJECTION_OFFSET = -69953.875
  MAP_PROJECTION_ROTATION = 0.0
  MAP_PROJECTION_TYPE = SINUSOIDAL
  MAP_RESOLUTION = 1185.42760773333
  MAP_SCALE = 0.05
  MAXIMUM_LATITUDE = -59.0031
  MINIMUM_LATITUDE = -77.27460000000001
  POSITIVE_LONGITUDE_DIRECTION = EAST
  REFERENCE_LATITUDE = "N/A"
  REFERENCE_LONGITUDE = "N/A"
  SAMPLE_FIRST_PIXEL = 1
  SAMPLE_LAST_PIXEL = 5391
  SAMPLE_PROJECTION_OFFSET = 2288.125
  SECOND_STANDARD_PARALLEL = "N/A"
  WESTERNMOST_LONGITUDE = 276.56
END_OBJECT = IMAGE_MAP_PROJECTION
END
