PDS_VERSION_ID = PDS3
/* FILE DATA ELEMENTS */
RECORD_TYPE = UNDEFINED
/* POINTERS TO DATA OBJECTS */
^IMAGE = ("H4683_0000_BL4.TIF")
/* IDENTIFICATION DATA ELEMENTS */
DATA_SET_ID = "MEX-M-HRSC-4-REFDR-MAPPROJECT-EXT1-V4.0"
DATA_SET_NAME = "MARS EXPRESS HRSC MAP PROJECTED REFDR EXTENSION1 V4.0"
DETECTOR_ID = MEX_HRSC_BLUE
EVENT_TYPE = "MARS-REGIONAL-MAPPING-Im-Gl-Pf"
INSTRUMENT_HOST_ID = MEX
INSTRUMENT_HOST_NAME = "MARS EXPRESS"
INSTRUMENT_ID = HRSC
INSTRUMENT_NAME = "HIGH RESOLUTION STEREO CAMERA"
MISSION_NAME = "MARS EXPRESS"
MISSION_PHASE_NAME = ME_Phase_9
PROCESSING_LEVEL_ID = 4
PRODUCT_CREATION_TIME = 2023-02-11T00:15:54.000Z
PRODUCT_ID = "H4683_0000_BL4.TIF"
RELEASE_ID = 0007
REVISION_ID = 0000
/* QUALITY DATA ELEMENTS */
DATA_QUALITY_ID = 1
DATA_QUALITY_DESC = "Data calculated based on original SPICE kernels"
/* TIME DATA ELEMENTS */
SPACECRAFT_CLOCK_START_COUNT = "1/0136251070.09083"
SPACECRAFT_CLOCK_STOP_COUNT = "1/0136251467.35778"
START_TIME = 2007-08-26T23:31:56.721Z
STOP_TIME = 2007-08-26T23:36:43.617Z
/* ORBITAL DATA ELEMENTS */
ASCENDING_NODE_LONGITUDE = 130.47
MAXIMUM_RESOLUTION = 0.065
FOOTPRINT_POINT_LATITUDE = (-81.8908,-82.1598,-82.335,-82.483, -82.4876,-82.5123,-81.9903,-81.4527, -80.7712,-80.2148,-79.645,-79.3587, -78.9199,-78.6265,-78.3291,-78.0288, -77.7287,-77.2704,-76.8072,-76.4943, -76.1792,-75.8604,-75.5415,-75.2169, -74.8921,-74.5628,-74.2326,-73.8981, -73.5621,-73.2213,-72.7064,-72.3593, -72.0087,-71.6565,-71.299,-70.9398, -70.5782,-70.2109,-69.8427,-69.4695, -69.0932,-68.7142,-68.3312,-67.9441, -67.5537,-67.1592,-66.7618,-66.3598, -66.1579,-66.1492,-66.101,-66.055, -66.0179,-65.9709,-65.89,-65.8867, -65.887,-66.4857,-66.8803,-67.2696, -67.6563,-68.0398,-68.4189,-68.794, -69.1666,-69.5358,-69.9,-70.4413, -70.7989,-71.1521,-71.6762,-72.0221, -72.3645,-72.8721,-73.2078,-73.5385, -73.868,-74.1929,-74.5167,-74.8355, -75.1539,-75.4664,-75.9329,-76.239, -76.5448,-76.844,-77.1431,-77.5844, -77.8769,-78.1657,-78.4502,-78.8748, -79.4272,-79.9682,-80.4991,-81.0132, -81.3925,-81.7607,-81.8824,-81.8908)
FOOTPRINT_POINT_LONGITUDE = (1.87422,5.41673,8.12553,10.7661, 10.8556,10.9786,12.5241,13.8967,15.4087 ,16.4793,17.4467,17.8904,18.523,18.9181 ,19.2958,19.6577,20.0013,20.5013, 20.9602,21.2528,21.5257,21.7977,22.0547 ,22.3043,22.5431,22.7757,22.9988, 23.2152,23.4222,23.6228,23.9107,24.0949 ,24.2728,24.4449,24.6121,24.7725, 24.9334,25.0825,25.2296,25.3729,25.5116 ,25.6455,25.7762,25.9037,26.026,26.1431 ,26.26,26.3739,26.4293,26.4317,25.0529, 23.9812,23.2163,22.3515,21.0315,20.9808 ,20.9634,20.7612,20.6152,20.4748,20.322 ,20.1659,20.0058,19.8396,19.6658, 19.4868,19.305,19.0178,18.8169,18.6097, 18.2848,18.0582,17.8236,17.4561,17.199, 16.9341,16.6578,16.3721,16.0746,15.7675 ,15.4464,15.1153,14.5903,14.2242, 13.8423,13.4475,13.036,12.3943,11.9129, 11.4282,10.9255,10.1227,8.97121,7.69335 ,6.28482,4.73827,3.46139,2.08713, 1.60075,1.87422)
ORBIT_NUMBER = 4683
ORBITAL_ECCENTRICITY = 0.57
ORBITAL_INCLINATION = 86.68
ORBITAL_SEMIMAJOR_AXIS = 8537.1
PERIAPSIS_ALTITUDE = 296.52
PERIAPSIS_ARGUMENT_ANGLE = 254.1
PERIAPSIS_TIME = 2007-08-26T23:26:00.000Z
SPACECRAFT_ORIENTATION = (0.0,-1.0,0.0)
^MEX_ORIENTATION_DESC = "MEX_ORIENTATION_DESC.TXT"
SPACECRAFT_POINTING_MODE = ACROSSTRACK
^MEX_POINTING_DESC = "MEX_POINTING_DESC.TXT"
RIGHT_ASCENSION = -1e+32
DECLINATION = -1e+32
OFFSET_ANGLE = 0.18
SPACECRAFT_SOLAR_DISTANCE = 2.13616e+08
TARGET_NAME = MARS
/* CAMERA DATA ELEMENTS */
DETECTOR_TEMPERATURE = 18.1666
FOCAL_PLANE_TEMPERATURE = 8.1755
INST_CMPRS_NAME = "DISCRETE COSINE TRANSFORMATION (DCT)"
INST_CMPRS_RATIO = 13.4631
INST_CMPRS_QUALITY = 0
INST_CMPRS_QUANTZ_TBL_ID = 0
INSTRUMENT_TEMPERATURE = 11.6418
LENS_TEMPERATURE = 8.7872
MACROPIXEL_SIZE = 4
MISSING_FRAMES = 0
PIXEL_SUBSAMPLING_FLAG = N
SIGNAL_CHAIN_ID = 2
/* RADIOMETRIC DATA ELEMENTS */
BANDWIDTH = 76.0
CENTER_FILTER_WAVELENGTH = 444.0
RADIANCE_OFFSET = 0.724871
RADIANCE_SCALING_FACTOR = 0.00416058
REFLECTANCE_SCALING_FACTOR = 0.000195065
MEX:REFLECTANCE_OFFSET = 0.0339849
/* IMAGE OBJECT DEFINITIONS */
OBJECT = IMAGE
  INTERCHANGE_FORMAT = BINARY
  LINES = 19723
  LINE_SAMPLES = 6462
  SAMPLE_TYPE = UNSIGNED_INTEGER
  SAMPLE_BITS = 8
  BANDS = 1
  BAND_STORAGE_TYPE = BAND_SEQUENTIAL
  MAXIMUM = 255
  MEAN = 44.4369
  MINIMUM = 1
  STANDARD_DEVIATION = 19.3104
END_OBJECT = IMAGE
/* MAP OBJECT DEFINITIONS */
OBJECT = IMAGE_MAP_PROJECTION
  ^DATA_SET_MAP_PROJECTION_CATALOG= "DSMAP.CAT"
  A_AXIS_RADIUS = 3396.0
  B_AXIS_RADIUS = 3396.0
  C_AXIS_RADIUS = 3396.0
  CENTER_LATITUDE = 0.0
  CENTER_LONGITUDE = 19.0
  COORDINATE_SYSTEM_NAME = PLANETOGRAPHIC
  COORDINATE_SYSTEM_TYPE = "BODY-FIXED ROTATING"
  EASTERNMOST_LONGITUDE = 26.4317
  FIRST_STANDARD_PARALLEL = "N/A"
  LINE_FIRST_PIXEL = 1
  LINE_LAST_PIXEL = 19723
  LINE_PROJECTION_OFFSET = -78114.875
  MAP_PROJECTION_ROTATION = 0.0
  MAP_PROJECTION_TYPE = SINUSOIDAL
  MAP_RESOLUTION = 1185.42760773333
  MAP_SCALE = 0.05
  MAXIMUM_LATITUDE = -65.8867
  MINIMUM_LATITUDE = -82.5123
  POSITIVE_LONGITUDE_DIRECTION = EAST
  REFERENCE_LATITUDE = "N/A"
  REFERENCE_LONGITUDE = "N/A"
  SAMPLE_FIRST_PIXEL = 1
  SAMPLE_LAST_PIXEL = 6462
  SAMPLE_PROJECTION_OFFSET = 2910.125
  SECOND_STANDARD_PARALLEL = "N/A"
  WESTERNMOST_LONGITUDE = 1.60075
END_OBJECT = IMAGE_MAP_PROJECTION
END
