PDS_VERSION_ID = PDS3
/* FILE DATA ELEMENTS */
RECORD_TYPE = UNDEFINED
/* POINTERS TO DATA OBJECTS */
^IMAGE = ("H4674_0006_SR4.TIF")
/* IDENTIFICATION DATA ELEMENTS */
DATA_SET_ID = "MEX-M-HRSC-4-REFDR-MAPPROJECT-EXT1-V4.0"
DATA_SET_NAME = "MARS EXPRESS HRSC MAP PROJECTED REFDR EXTENSION1 V4.0"
DETECTOR_ID = MEX_HRSC_SRC
EVENT_TYPE = "MARS-REGIONAL-MAPPING-Im-Gl-Pf"
INSTRUMENT_HOST_ID = MEX
INSTRUMENT_HOST_NAME = "MARS EXPRESS"
INSTRUMENT_ID = HRSC
INSTRUMENT_NAME = "HIGH RESOLUTION STEREO CAMERA"
MISSION_NAME = "MARS EXPRESS"
MISSION_PHASE_NAME = ME_Phase_9
PROCESSING_LEVEL_ID = 4
PRODUCT_CREATION_TIME = 2023-02-11T00:15:54.000Z
PRODUCT_ID = "H4674_0006_SR4.TIF"
RELEASE_ID = 0007
REVISION_ID = 0000
/* QUALITY DATA ELEMENTS */
DATA_QUALITY_ID = 1
DATA_QUALITY_DESC = "Data calculated based on original SPICE kernels"
/* TIME DATA ELEMENTS */
SPACECRAFT_CLOCK_START_COUNT = "1/0136033286.09066"
SPACECRAFT_CLOCK_STOP_COUNT = "1/0136033690.21070"
IMAGE_TIME = 2007-08-24T11:02:16.644Z
START_TIME = 2007-08-24T11:02:16.642Z
STOP_TIME = 2007-08-24T11:02:16.647Z
/* ORBITAL DATA ELEMENTS */
ASCENDING_NODE_LONGITUDE = 130.65
MAXIMUM_RESOLUTION = 0.003447
FOOTPRINT_POINT_LATITUDE = (-83.2062,-83.2086,-83.2117,-83.2136, -83.2167,-83.2187,-83.2211,-83.2244, -83.226,-83.2296,-83.2325,-83.2356, -83.2377,-83.2401,-83.242,-83.245, -83.2476,-83.2492,-83.2515,-83.2535, -83.2555,-83.2578,-83.2578,-83.2578, -83.2567,-83.2555,-83.2547,-83.2536, -83.2524,-83.2516,-83.2507,-83.2499, -83.2488,-83.2476,-83.2465,-83.2454, -83.2442,-83.2428,-83.2417,-83.2406, -83.2394,-83.238,-83.2369,-83.2355, -83.2343,-83.2332,-83.232,-83.2309, -83.2295,-83.2292,-83.229,-83.2263, -83.2247,-83.2228,-83.2205,-83.2186, -83.2158,-83.214,-83.2124,-83.2101, -83.2065,-83.2034,-83.2015,-83.1998, -83.1973,-83.1953,-83.1932,-83.1905, -83.1882,-83.1866,-83.1848,-83.182, -83.1802,-83.1777,-83.1776,-83.1777, -83.1793,-83.1802,-83.1813,-83.1825, -83.1839,-83.185,-83.1861,-83.187, -83.1884,-83.1898,-83.1906,-83.1918, -83.1926,-83.194,-83.1954,-83.1968, -83.1979,-83.1988,-83.1999,-83.2019, -83.2035,-83.2058,-83.206,-83.2062)
FOOTPRINT_POINT_LONGITUDE = (168.61,168.599,168.585,168.576,168.562 ,168.553,168.542,168.527,168.519, 168.502,168.489,168.474,168.464,168.454 ,168.445,168.431,168.419,168.411, 168.401,168.391,168.382,168.371,168.371 ,168.37,168.353,168.336,168.322,168.305 ,168.288,168.275,168.262,168.248, 168.231,168.214,168.196,168.179,168.162 ,168.14,168.122,168.105,168.088,168.066 ,168.049,168.027,168.01,167.992,167.975 ,167.958,167.936,167.932,167.929, 167.942,167.949,167.958,167.97,167.978, 167.992,168.0,168.008,168.018,168.036, 168.051,168.059,168.067,168.079,168.088 ,168.098,168.111,168.122,168.129, 168.138,168.151,168.159,168.171,168.171 ,168.172,168.197,168.21,168.227,168.245 ,168.266,168.283,168.301,168.314, 168.335,168.357,168.37,168.387,168.4, 168.422,168.443,168.465,168.482,168.495 ,168.512,168.543,168.569,168.603, 168.608,168.61)
ORBIT_NUMBER = 4674
ORBITAL_ECCENTRICITY = 0.57
ORBITAL_INCLINATION = 86.68
ORBITAL_SEMIMAJOR_AXIS = 8536.69
PERIAPSIS_ALTITUDE = 296.16
PERIAPSIS_ARGUMENT_ANGLE = 255.68
PERIAPSIS_TIME = 2007-08-24T10:57:08.000Z
SPACECRAFT_ORIENTATION = (0.0,-1.0,0.0)
^MEX_ORIENTATION_DESC = "MEX_ORIENTATION_DESC.TXT"
SPACECRAFT_POINTING_MODE = NADIR
^MEX_POINTING_DESC = "MEX_POINTING_DESC.TXT"
RIGHT_ASCENSION = -1e+32
DECLINATION = -1e+32
OFFSET_ANGLE = -1e+32
SPACECRAFT_SOLAR_DISTANCE = 2.13233e+08
TARGET_NAME = MARS
/* CAMERA DATA ELEMENTS */
BUFFER_MODE_ID = BUFFER_8
EXPOSURE_DURATION = 5.04
INST_CMPRS_NAME = NONE
INST_CMPRS_RATIO = 1.0
INST_CMPRS_QUALITY = -2147483648
INST_CMPRS_QUANTZ_TBL_ID = -2147483648
INSTRUMENT_TEMPERATURE = 4.78761
MISSING_FRAMES = 0
START_BIT = 0
/* RADIOMETRIC DATA ELEMENTS */
BANDWIDTH = 250.0
CENTER_FILTER_WAVELENGTH = 600.0
RADIANCE_OFFSET = -9.99e+31
RADIANCE_SCALING_FACTOR = -9.99e+31
REFLECTANCE_SCALING_FACTOR = -9.99e+31
MEX:REFLECTANCE_OFFSET = -9.99e+31
/* IMAGE OBJECT DEFINITIONS */
OBJECT = IMAGE
  INTERCHANGE_FORMAT = BINARY
  LINES = 2042
  LINE_SAMPLES = 2050
  SAMPLE_TYPE = UNSIGNED_INTEGER
  SAMPLE_BITS = 8
  BANDS = 1
  BAND_STORAGE_TYPE = BAND_SEQUENTIAL
  MAXIMUM = 250
  MEAN = 133.573
  MINIMUM = 21
  STANDARD_DEVIATION = 21.9909
END_OBJECT = IMAGE
/* MAP OBJECT DEFINITIONS */
OBJECT = IMAGE_MAP_PROJECTION
  ^DATA_SET_MAP_PROJECTION_CATALOG= "DSMAP.CAT"
  A_AXIS_RADIUS = 3396.19
  B_AXIS_RADIUS = 3396.19
  C_AXIS_RADIUS = 3396.19
  CENTER_LATITUDE = 0.0
  CENTER_LONGITUDE = 168.0
  COORDINATE_SYSTEM_NAME = PLANETOGRAPHIC
  COORDINATE_SYSTEM_TYPE = "BODY-FIXED ROTATING"
  EASTERNMOST_LONGITUDE = 168.61
  FIRST_STANDARD_PARALLEL = "N/A"
  LINE_FIRST_PIXEL = 1
  LINE_LAST_PIXEL = 2042
  LINE_PROJECTION_OFFSET = -1966740.0
  MAP_PROJECTION_ROTATION = 0.0
  MAP_PROJECTION_TYPE = SINUSOIDAL
  MAP_RESOLUTION = 23709.8786048756
  MAP_SCALE = 0.0025
  MAXIMUM_LATITUDE = -83.1776
  MINIMUM_LATITUDE = -83.2578
  POSITIVE_LONGITUDE_DIRECTION = EAST
  REFERENCE_LATITUDE = "N/A"
  REFERENCE_LONGITUDE = "N/A"
  SAMPLE_FIRST_PIXEL = 1
  SAMPLE_LAST_PIXEL = 2050
  SAMPLE_PROJECTION_OFFSET = 283.0
  SECOND_STANDARD_PARALLEL = "N/A"
  WESTERNMOST_LONGITUDE = 167.929
END_OBJECT = IMAGE_MAP_PROJECTION
END
