PDS_VERSION_ID = PDS3
/* FILE DATA ELEMENTS */
RECORD_TYPE = UNDEFINED
/* POINTERS TO DATA OBJECTS */
^IMAGE = ("H4674_0005_SR4.TIF")
/* IDENTIFICATION DATA ELEMENTS */
DATA_SET_ID = "MEX-M-HRSC-4-REFDR-MAPPROJECT-EXT1-V4.0"
DATA_SET_NAME = "MARS EXPRESS HRSC MAP PROJECTED REFDR EXTENSION1 V4.0"
DETECTOR_ID = MEX_HRSC_SRC
EVENT_TYPE = "MARS-REGIONAL-MAPPING-Im-Gl-Pf"
INSTRUMENT_HOST_ID = MEX
INSTRUMENT_HOST_NAME = "MARS EXPRESS"
INSTRUMENT_ID = HRSC
INSTRUMENT_NAME = "HIGH RESOLUTION STEREO CAMERA"
MISSION_NAME = "MARS EXPRESS"
MISSION_PHASE_NAME = ME_Phase_9
PROCESSING_LEVEL_ID = 4
PRODUCT_CREATION_TIME = 2023-02-11T00:15:54.000Z
PRODUCT_ID = "H4674_0005_SR4.TIF"
RELEASE_ID = 0007
REVISION_ID = 0000
/* QUALITY DATA ELEMENTS */
DATA_QUALITY_ID = 1
DATA_QUALITY_DESC = "Data calculated based on original SPICE kernels"
/* TIME DATA ELEMENTS */
SPACECRAFT_CLOCK_START_COUNT = "1/0136033286.09066"
SPACECRAFT_CLOCK_STOP_COUNT = "1/0136033690.21070"
IMAGE_TIME = 2007-08-24T11:02:16.099Z
START_TIME = 2007-08-24T11:02:16.097Z
STOP_TIME = 2007-08-24T11:02:16.102Z
/* ORBITAL DATA ELEMENTS */
ASCENDING_NODE_LONGITUDE = 130.65
MAXIMUM_RESOLUTION = 0.003444
FOOTPRINT_POINT_LATITUDE = (-83.2366,-83.2399,-83.2415,-83.2433, -83.2449,-83.2477,-83.2513,-83.2529, -83.255,-83.2584,-83.2609,-83.2638, -83.2654,-83.2686,-83.2707,-83.2745, -83.2769,-83.2787,-83.2813,-83.2844, -83.2864,-83.288,-83.2881,-83.2881, -83.2869,-83.2858,-83.2841,-83.283, -83.2816,-83.2804,-83.2793,-83.2779, -83.2767,-83.2759,-83.2747,-83.2736, -83.2722,-83.271,-83.2699,-83.2688, -83.2676,-83.2665,-83.2654,-83.2642, -83.2631,-83.2619,-83.2608,-83.2596, -83.2593,-83.2592,-83.2568,-83.2538, -83.2498,-83.2472,-83.2454,-83.2425, -83.2403,-83.2383,-83.2356,-83.2339, -83.2319,-83.2293,-83.2272,-83.2257, -83.2236,-83.2205,-83.2179,-83.2161, -83.2126,-83.2104,-83.2079,-83.2079, -83.2079,-83.2093,-83.2108,-83.2119, -83.2127,-83.2136,-83.2144,-83.2156, -83.2164,-83.2173,-83.2184,-83.2193, -83.2204,-83.2215,-83.2224,-83.2235, -83.2246,-83.2257,-83.2269,-83.2283, -83.2294,-83.2311,-83.2322,-83.2336, -83.2347,-83.2361,-83.2364,-83.2366)
FOOTPRINT_POINT_LONGITUDE = (168.469,168.454,168.447,168.438, 168.431,168.418,168.401,168.394,168.384 ,168.368,168.356,168.342,168.335,168.32 ,168.31,168.292,168.281,168.272,168.26, 168.246,168.236,168.228,168.228,168.228 ,168.21,168.193,168.166,168.149,168.127 ,168.11,168.092,168.07,168.053,168.04, 168.022,168.005,167.983,167.966,167.949 ,167.931,167.914,167.896,167.879, 167.862,167.844,167.827,167.81,167.792, 167.788,167.785,167.797,167.811,167.83, 167.843,167.851,167.865,167.875,167.885 ,167.898,167.906,167.916,167.928, 167.938,167.945,167.955,167.97,167.982, 167.99,168.007,168.017,168.029,168.029, 168.03,168.051,168.073,168.09,168.103, 168.116,168.129,168.146,168.159,168.172 ,168.189,168.202,168.22,168.237,168.25, 168.267,168.285,168.302,168.319,168.341 ,168.358,168.384,168.402,168.423, 168.441,168.462,168.467,168.469)
ORBIT_NUMBER = 4674
ORBITAL_ECCENTRICITY = 0.57
ORBITAL_INCLINATION = 86.68
ORBITAL_SEMIMAJOR_AXIS = 8536.69
PERIAPSIS_ALTITUDE = 296.16
PERIAPSIS_ARGUMENT_ANGLE = 255.68
PERIAPSIS_TIME = 2007-08-24T10:57:08.000Z
SPACECRAFT_ORIENTATION = (0.0,-1.0,0.0)
^MEX_ORIENTATION_DESC = "MEX_ORIENTATION_DESC.TXT"
SPACECRAFT_POINTING_MODE = NADIR
^MEX_POINTING_DESC = "MEX_POINTING_DESC.TXT"
RIGHT_ASCENSION = -1e+32
DECLINATION = -1e+32
OFFSET_ANGLE = -1e+32
SPACECRAFT_SOLAR_DISTANCE = 2.13233e+08
TARGET_NAME = MARS
/* CAMERA DATA ELEMENTS */
BUFFER_MODE_ID = BUFFER_8
EXPOSURE_DURATION = 5.04
INST_CMPRS_NAME = NONE
INST_CMPRS_RATIO = 1.0
INST_CMPRS_QUALITY = -2147483648
INST_CMPRS_QUANTZ_TBL_ID = -2147483648
INSTRUMENT_TEMPERATURE = 4.7747
MISSING_FRAMES = 0
START_BIT = 0
/* RADIOMETRIC DATA ELEMENTS */
BANDWIDTH = 250.0
CENTER_FILTER_WAVELENGTH = 600.0
RADIANCE_OFFSET = -9.99e+31
RADIANCE_SCALING_FACTOR = -9.99e+31
REFLECTANCE_SCALING_FACTOR = -9.99e+31
MEX:REFLECTANCE_OFFSET = -9.99e+31
/* IMAGE OBJECT DEFINITIONS */
OBJECT = IMAGE
  INTERCHANGE_FORMAT = BINARY
  LINES = 2042
  LINE_SAMPLES = 2049
  SAMPLE_TYPE = UNSIGNED_INTEGER
  SAMPLE_BITS = 8
  BANDS = 1
  BAND_STORAGE_TYPE = BAND_SEQUENTIAL
  MAXIMUM = 253
  MEAN = 134.033
  MINIMUM = 11
  STANDARD_DEVIATION = 21.1779
END_OBJECT = IMAGE
/* MAP OBJECT DEFINITIONS */
OBJECT = IMAGE_MAP_PROJECTION
  ^DATA_SET_MAP_PROJECTION_CATALOG= "DSMAP.CAT"
  A_AXIS_RADIUS = 3396.19
  B_AXIS_RADIUS = 3396.19
  C_AXIS_RADIUS = 3396.19
  CENTER_LATITUDE = 0.0
  CENTER_LONGITUDE = 168.0
  COORDINATE_SYSTEM_NAME = PLANETOGRAPHIC
  COORDINATE_SYSTEM_TYPE = "BODY-FIXED ROTATING"
  EASTERNMOST_LONGITUDE = 168.469
  FIRST_STANDARD_PARALLEL = "N/A"
  LINE_FIRST_PIXEL = 1
  LINE_LAST_PIXEL = 2042
  LINE_PROJECTION_OFFSET = -1967453.0
  MAP_PROJECTION_ROTATION = 0.0
  MAP_PROJECTION_TYPE = SINUSOIDAL
  MAP_RESOLUTION = 23709.8786048756
  MAP_SCALE = 0.0025
  MAXIMUM_LATITUDE = -83.2079
  MINIMUM_LATITUDE = -83.2881
  POSITIVE_LONGITUDE_DIRECTION = EAST
  REFERENCE_LATITUDE = "N/A"
  REFERENCE_LONGITUDE = "N/A"
  SAMPLE_FIRST_PIXEL = 1
  SAMPLE_LAST_PIXEL = 2049
  SAMPLE_PROJECTION_OFFSET = 680.0
  SECOND_STANDARD_PARALLEL = "N/A"
  WESTERNMOST_LONGITUDE = 167.785
END_OBJECT = IMAGE_MAP_PROJECTION
END
