PDS_VERSION_ID = PDS3
/* FILE DATA ELEMENTS */
RECORD_TYPE = UNDEFINED
/* POINTERS TO DATA OBJECTS */
^IMAGE = ("H4674_0002_SR4.TIF")
/* IDENTIFICATION DATA ELEMENTS */
DATA_SET_ID = "MEX-M-HRSC-4-REFDR-MAPPROJECT-EXT1-V4.0"
DATA_SET_NAME = "MARS EXPRESS HRSC MAP PROJECTED REFDR EXTENSION1 V4.0"
DETECTOR_ID = MEX_HRSC_SRC
EVENT_TYPE = "MARS-REGIONAL-MAPPING-Im-Gl-Pf"
INSTRUMENT_HOST_ID = MEX
INSTRUMENT_HOST_NAME = "MARS EXPRESS"
INSTRUMENT_ID = HRSC
INSTRUMENT_NAME = "HIGH RESOLUTION STEREO CAMERA"
MISSION_NAME = "MARS EXPRESS"
MISSION_PHASE_NAME = ME_Phase_9
PROCESSING_LEVEL_ID = 4
PRODUCT_CREATION_TIME = 2023-02-11T00:15:54.000Z
PRODUCT_ID = "H4674_0002_SR4.TIF"
RELEASE_ID = 0007
REVISION_ID = 0000
/* QUALITY DATA ELEMENTS */
DATA_QUALITY_ID = 1
DATA_QUALITY_DESC = "Data calculated based on original SPICE kernels"
/* TIME DATA ELEMENTS */
SPACECRAFT_CLOCK_START_COUNT = "1/0136033286.09066"
SPACECRAFT_CLOCK_STOP_COUNT = "1/0136033690.21070"
IMAGE_TIME = 2007-08-24T11:02:14.464Z
START_TIME = 2007-08-24T11:02:14.462Z
STOP_TIME = 2007-08-24T11:02:14.467Z
/* ORBITAL DATA ELEMENTS */
ASCENDING_NODE_LONGITUDE = 130.65
MAXIMUM_RESOLUTION = 0.003437
FOOTPRINT_POINT_LATITUDE = (-83.3275,-83.3315,-83.3338,-83.3354, -83.3377,-83.3395,-83.3421,-83.3448, -83.3465,-83.3493,-83.3513,-83.3545, -83.3565,-83.3591,-83.3606,-83.3633, -83.3652,-83.3669,-83.3691,-83.3717, -83.3742,-83.376,-83.3786,-83.3787, -83.3786,-83.3775,-83.3761,-83.3749, -83.3729,-83.3718,-83.3706,-83.3698, -83.3686,-83.3675,-83.366,-83.3646, -83.3632,-83.362,-83.3608,-83.3597, -83.3585,-83.3574,-83.3559,-83.3548, -83.3536,-83.3525,-83.3513,-83.3499, -83.3496,-83.3494,-83.3474,-83.3442, -83.3413,-83.3389,-83.3373,-83.3349, -83.3321,-83.3302,-83.3277,-83.3254, -83.3235,-83.3217,-83.3202,-83.3183, -83.3165,-83.3145,-83.3113,-83.3098, -83.308,-83.3049,-83.3023,-83.2985, -83.2984,-83.2985,-83.2996,-83.3008, -83.3019,-83.3031,-83.3042,-83.3054, -83.3071,-83.3082,-83.3094,-83.3105, -83.3117,-83.3125,-83.3139,-83.3154, -83.3165,-83.3174,-83.3188,-83.3199, -83.3208,-83.3219,-83.3228,-83.3242, -83.3253,-83.327,-83.3273,-83.3275)
FOOTPRINT_POINT_LONGITUDE = (168.039,168.02,168.009,168.001,167.99, 167.981,167.969,167.956,167.948,167.934 ,167.924,167.909,167.899,167.887, 167.879,167.866,167.857,167.849,167.838 ,167.826,167.813,167.804,167.792, 167.791,167.791,167.773,167.751,167.734 ,167.703,167.685,167.668,167.655, 167.637,167.619,167.598,167.576,167.554 ,167.536,167.519,167.501,167.484, 167.466,167.444,167.427,167.409,167.392 ,167.374,167.352,167.348,167.345, 167.355,167.371,167.386,167.397,167.405 ,167.417,167.431,167.44,167.453,167.464 ,167.473,167.482,167.49,167.499,167.508 ,167.517,167.533,167.54,167.549,167.564 ,167.577,167.595,167.596,167.596, 167.613,167.631,167.648,167.666,167.683 ,167.7,167.727,167.744,167.761,167.779, 167.796,167.809,167.831,167.853,167.87, 167.883,167.905,167.923,167.936,167.953 ,167.966,167.988,168.006,168.032, 168.036,168.039)
ORBIT_NUMBER = 4674
ORBITAL_ECCENTRICITY = 0.57
ORBITAL_INCLINATION = 86.68
ORBITAL_SEMIMAJOR_AXIS = 8536.69
PERIAPSIS_ALTITUDE = 296.16
PERIAPSIS_ARGUMENT_ANGLE = 255.68
PERIAPSIS_TIME = 2007-08-24T10:57:08.000Z
SPACECRAFT_ORIENTATION = (0.0,-1.0,0.0)
^MEX_ORIENTATION_DESC = "MEX_ORIENTATION_DESC.TXT"
SPACECRAFT_POINTING_MODE = NADIR
^MEX_POINTING_DESC = "MEX_POINTING_DESC.TXT"
RIGHT_ASCENSION = -1e+32
DECLINATION = -1e+32
OFFSET_ANGLE = -1e+32
SPACECRAFT_SOLAR_DISTANCE = 2.13233e+08
TARGET_NAME = MARS
/* CAMERA DATA ELEMENTS */
BUFFER_MODE_ID = BUFFER_8
EXPOSURE_DURATION = 5.04
INST_CMPRS_NAME = NONE
INST_CMPRS_RATIO = 1.0
INST_CMPRS_QUALITY = -2147483648
INST_CMPRS_QUANTZ_TBL_ID = -2147483648
INSTRUMENT_TEMPERATURE = 4.73599
MISSING_FRAMES = 0
START_BIT = 0
/* RADIOMETRIC DATA ELEMENTS */
BANDWIDTH = 250.0
CENTER_FILTER_WAVELENGTH = 600.0
RADIANCE_OFFSET = -9.99e+31
RADIANCE_SCALING_FACTOR = -9.99e+31
REFLECTANCE_SCALING_FACTOR = -9.99e+31
MEX:REFLECTANCE_OFFSET = -9.99e+31
/* IMAGE OBJECT DEFINITIONS */
OBJECT = IMAGE
  INTERCHANGE_FORMAT = BINARY
  LINES = 2043
  LINE_SAMPLES = 2046
  SAMPLE_TYPE = UNSIGNED_INTEGER
  SAMPLE_BITS = 8
  BANDS = 1
  BAND_STORAGE_TYPE = BAND_SEQUENTIAL
  MAXIMUM = 250
  MEAN = 132.486
  MINIMUM = 26
  STANDARD_DEVIATION = 21.103
END_OBJECT = IMAGE
/* MAP OBJECT DEFINITIONS */
OBJECT = IMAGE_MAP_PROJECTION
  ^DATA_SET_MAP_PROJECTION_CATALOG= "DSMAP.CAT"
  A_AXIS_RADIUS = 3396.19
  B_AXIS_RADIUS = 3396.19
  C_AXIS_RADIUS = 3396.19
  CENTER_LATITUDE = 0.0
  CENTER_LONGITUDE = 168.0
  COORDINATE_SYSTEM_NAME = PLANETOGRAPHIC
  COORDINATE_SYSTEM_TYPE = "BODY-FIXED ROTATING"
  EASTERNMOST_LONGITUDE = 168.039
  FIRST_STANDARD_PARALLEL = "N/A"
  LINE_FIRST_PIXEL = 1
  LINE_LAST_PIXEL = 2043
  LINE_PROJECTION_OFFSET = -1969587.0
  MAP_PROJECTION_ROTATION = 0.0
  MAP_PROJECTION_TYPE = SINUSOIDAL
  MAP_RESOLUTION = 23709.8786048756
  MAP_SCALE = 0.0025
  MAXIMUM_LATITUDE = -83.2984
  MINIMUM_LATITUDE = -83.37869999999999
  POSITIVE_LONGITUDE_DIRECTION = EAST
  REFERENCE_LATITUDE = "N/A"
  REFERENCE_LONGITUDE = "N/A"
  SAMPLE_FIRST_PIXEL = 1
  SAMPLE_LAST_PIXEL = 2046
  SAMPLE_PROJECTION_OFFSET = 1873.0
  SECOND_STANDARD_PARALLEL = "N/A"
  WESTERNMOST_LONGITUDE = 167.345
END_OBJECT = IMAGE_MAP_PROJECTION
END
