PDS_VERSION_ID = PDS3
/* FILE DATA ELEMENTS */
RECORD_TYPE = UNDEFINED
/* POINTERS TO DATA OBJECTS */
^IMAGE = ("H4674_0000_IR4.TIF")
/* IDENTIFICATION DATA ELEMENTS */
DATA_SET_ID = "MEX-M-HRSC-4-REFDR-MAPPROJECT-EXT1-V4.0"
DATA_SET_NAME = "MARS EXPRESS HRSC MAP PROJECTED REFDR EXTENSION1 V4.0"
DETECTOR_ID = MEX_HRSC_IR
EVENT_TYPE = "MARS-REGIONAL-MAPPING-Im-Gl-Pf"
INSTRUMENT_HOST_ID = MEX
INSTRUMENT_HOST_NAME = "MARS EXPRESS"
INSTRUMENT_ID = HRSC
INSTRUMENT_NAME = "HIGH RESOLUTION STEREO CAMERA"
MISSION_NAME = "MARS EXPRESS"
MISSION_PHASE_NAME = ME_Phase_9
PROCESSING_LEVEL_ID = 4
PRODUCT_CREATION_TIME = 2023-02-11T00:15:54.000Z
PRODUCT_ID = "H4674_0000_IR4.TIF"
RELEASE_ID = 0007
REVISION_ID = 0000
/* QUALITY DATA ELEMENTS */
DATA_QUALITY_ID = 1
DATA_QUALITY_DESC = "Data calculated based on original SPICE kernels"
/* TIME DATA ELEMENTS */
SPACECRAFT_CLOCK_START_COUNT = "1/0136033286.09066"
SPACECRAFT_CLOCK_STOP_COUNT = "1/0136033690.21070"
START_TIME = 2007-08-24T11:01:35.411Z
STOP_TIME = 2007-08-24T11:06:15.052Z
/* ORBITAL DATA ELEMENTS */
ASCENDING_NODE_LONGITUDE = 130.65
MAXIMUM_RESOLUTION = 0.0595 <m/pixel>
FOOTPRINT_POINT_LATITUDE = (-83.7294,-83.9904,-84.2181,-84.387, -84.3924,-84.3398,-83.8437,-83.3031, -82.9972,-82.6891,-82.3791,-82.0674, -81.7542,-81.4398,-81.1242,-80.8074, -80.4899,-80.1721,-79.8543,-79.5352, -79.2161,-78.8945,-78.5638,-78.2361, -77.9063,-77.5688,-77.062,-76.7179, -76.371,-75.8474,-75.493,-75.1357, -74.7692,-74.229,-73.671,-73.2976, -72.9177,-72.5383,-72.1508,-71.7625, -71.3678,-70.7714,-70.3689,-69.9627, -69.5574,-69.1333,-68.5019,-68.0782, -67.6534,-66.9996,-66.7802,-66.7445, -66.6872,-66.596,-66.5125,-66.5095, -66.5099,-66.9418,-67.5883,-68.2222, -68.6411,-69.0555,-69.6658,-70.0698, -70.4676,-70.8625,-71.2528,-71.8315, -72.4054,-72.781,-73.3362,-73.7036, -74.0664,-74.4232,-74.7801,-75.3038, -75.6524,-75.9922,-76.3334,-76.6725, -77.003,-77.333,-77.8213,-78.1415, -78.6188,-79.3944,-79.7022,-80.0088, -80.314,-80.6169,-81.0687,-81.3669, -81.8115,-82.1038,-82.3905,-82.6742, -83.066,-83.5244,-83.6361,-83.7294)
FOOTPRINT_POINT_LONGITUDE = (159.033,162.274,165.612,168.514, 168.614,169.261,171.77,174.031,175.14, 176.155,177.086,177.943,178.734,179.466 ,180.146,180.778,181.368,181.916, 182.427,182.909,183.36,183.788,184.205, 184.588,184.954,185.306,185.8,186.114, 186.413,186.834,187.1,187.359,187.614, 187.952,188.284,188.493,188.696,188.889 ,189.077,189.258,189.432,189.681,189.84 ,189.992,190.134,190.288,190.495, 190.625,190.744,190.928,190.987,190.996 ,189.458,187.613,186.229,186.185, 186.169,186.02,185.787,185.54,185.368, 185.19,184.909,184.713,184.51,184.299, 184.081,183.737,183.373,183.119,182.717 ,182.435,182.141,181.836,181.515, 181.014,180.657,180.289,179.903,179.497 ,179.076,178.632,177.927,177.429, 176.629,175.161,174.509,173.815,173.074 ,172.284,170.994,170.057,168.517, 167.392,166.182,164.874,162.871,160.127 ,159.38,159.033)
ORBIT_NUMBER = 4674
ORBITAL_ECCENTRICITY = 0.57
ORBITAL_INCLINATION = 86.68
ORBITAL_SEMIMAJOR_AXIS = 8536.69
PERIAPSIS_ALTITUDE = 296.16
PERIAPSIS_ARGUMENT_ANGLE = 255.68
PERIAPSIS_TIME = 2007-08-24T10:57:08.000Z
SPACECRAFT_ORIENTATION = (0.0,-1.0,0.0)
^MEX_ORIENTATION_DESC = "MEX_ORIENTATION_DESC.TXT"
SPACECRAFT_POINTING_MODE = NADIR
^MEX_POINTING_DESC = "MEX_POINTING_DESC.TXT"
RIGHT_ASCENSION = -1e+32
DECLINATION = -1e+32
OFFSET_ANGLE = -1e+32
SPACECRAFT_SOLAR_DISTANCE = 2.13233e+08
TARGET_NAME = MARS
/* CAMERA DATA ELEMENTS */
DETECTOR_TEMPERATURE = 17.1471 <degC>
FOCAL_PLANE_TEMPERATURE = 8.1755 <degC>
INST_CMPRS_NAME = "DISCRETE COSINE TRANSFORMATION (DCT)"
INST_CMPRS_RATIO = 13.6748
INST_CMPRS_QUALITY = 0
INST_CMPRS_QUANTZ_TBL_ID = 0
INSTRUMENT_TEMPERATURE = 11.0301 <degC>
LENS_TEMPERATURE = 8.5833 <degC>
MACROPIXEL_SIZE = 4
MISSING_FRAMES = 0
PIXEL_SUBSAMPLING_FLAG = N
SIGNAL_CHAIN_ID = 2
/* RADIOMETRIC DATA ELEMENTS */
BANDWIDTH = 81.0 <nm>
CENTER_FILTER_WAVELENGTH = 955.5 <nm>
RADIANCE_OFFSET = 0.919494 <W*m**-2*sr**-1>
RADIANCE_SCALING_FACTOR = 0.00520391 <W*m**-2*sr**-1>
REFLECTANCE_SCALING_FACTOR = 0.000510465
MEX:REFLECTANCE_OFFSET = 0.0901956
/* IMAGE OBJECT DEFINITIONS */
OBJECT = IMAGE
  INTERCHANGE_FORMAT = BINARY
  LINES = 21147
  LINE_SAMPLES = 6962
  SAMPLE_TYPE = UNSIGNED_INTEGER
  SAMPLE_BITS = 8
  BANDS = 1
  BAND_STORAGE_TYPE = BAND_SEQUENTIAL
  MAXIMUM = 255
  MEAN = 130.477
  MINIMUM = 1
  STANDARD_DEVIATION = 49.7685
END_OBJECT = IMAGE
/* MAP OBJECT DEFINITIONS */
OBJECT = IMAGE_MAP_PROJECTION
  ^DATA_SET_MAP_PROJECTION_CATALOG= "DSMAP.CAT"
  A_AXIS_RADIUS = 3396.0 <km>
  B_AXIS_RADIUS = 3396.0 <km>
  C_AXIS_RADIUS = 3396.0 <km>
  CENTER_LATITUDE = 0.0
  CENTER_LONGITUDE = 183.0
  COORDINATE_SYSTEM_NAME = PLANETOGRAPHIC
  COORDINATE_SYSTEM_TYPE = "BODY-FIXED ROTATING"
  EASTERNMOST_LONGITUDE = 190.996
  FIRST_STANDARD_PARALLEL = "N/A"
  LINE_FIRST_PIXEL = 1
  LINE_LAST_PIXEL = 21147
  LINE_PROJECTION_OFFSET = -78812.125
  MAP_PROJECTION_ROTATION = 0.0
  MAP_PROJECTION_TYPE = SINUSOIDAL
  MAP_RESOLUTION = 1185.42760773333 <pixel/degree>
  MAP_SCALE = 0.05 <km/pixel>
  MAXIMUM_LATITUDE = -66.5095
  MINIMUM_LATITUDE = -84.39239999999999
  POSITIVE_LONGITUDE_DIRECTION = EAST
  REFERENCE_LATITUDE = "N/A"
  REFERENCE_LONGITUDE = "N/A"
  SAMPLE_FIRST_PIXEL = 1
  SAMPLE_LAST_PIXEL = 6962
  SAMPLE_PROJECTION_OFFSET = 3131.625
  SECOND_STANDARD_PARALLEL = "N/A"
  WESTERNMOST_LONGITUDE = 159.033
END_OBJECT = IMAGE_MAP_PROJECTION
END
